{"text_format":"1","workbook":"xlsx","n_sheets":3,"sheets":["INGRESO DE DATOS","Bupa Flex","Tablas"],"not_rendered":{"charts":0,"images":2,"macros":1,"external_links":0,"defined_names":0,"comments":1,"pivot_tables":0},"unopened":[],"bounds":{"document_bytes":16777216,"sheet_cells":100000,"rows_first":2000,"rows_last":500,"rows_between":2000,"halvings":0,"cell_chars":16384,"cell_head_chars":4096},"cells_cut":0,"cells_raw":0,"read":"whole","date_system":"1900"}

{"sheet":"INGRESO DE DATOS","index":0,"n_rows":27,"n_cols":12,"rows_kept":27,"cut":false,"hidden":false,"merged":[[7,0,7,9],[14,3,14,9],[9,2,9,3],[23,3,23,9]]}
[]
[null,null,null,null,null,null,null,null," "," "," "]
[null,"ARGENTINA"]
[]
[]
[null,null,null,null,null,null,null,null," "," "," "," "]
[]
["COTIZACIÓN DE SEGURO MÉDICO"]
[]
["1. SELECCIONE EL PAIS :",null,"ARGENTINA"]
[]
[]
["2. INGRESE LOS DATOS DEL PROPUESTO ASEGURADO :"]
[]
[null,null,"Nombre del Asegurado principal :","NOMBRE Y APELLIDO"]
[]
[null,null,null,null,null,"Número de adultos en la póliza : ",1,null,"Número de hijos en la póliza :",0]
[]
[null,null,null,null,null," Edad del titular :",18,null,"Edad de cónyuge :",18]
[]
[]
["3. INGRESE EL NOMBRE DE LA AGENCIA ASESORA :"]
[]
[null,null,"Nombre de la Agencia :","AGENCIA"]
[]
[]
["4. ESCOJA EL PRODUCTO PARA VISUALIZAR LA COTIZACION RESPECTIVA :"]

{"sheet":"Bupa Flex","index":1,"n_rows":44,"n_cols":11,"rows_kept":44,"cut":false,"hidden":false,"merged":[[43,3,45,10],[16,3,16,4],[17,3,17,4],[9,5,9,7],[13,5,13,10],[9,0,9,1],[11,5,11,10],[22,3,22,10],[32,3,32,10],[42,3,42,10]]}
[]
[null,null,null,null,null,null,null," "," "," "]
[]
[]
[]
[null,null,null,null,null,null,null," "," "," "," "]
[]
[]
[]
["Cotización de Seguro Médico - Bupa FLEX",null,null,null,"País: ",{"$f":"+'INGRESO DE DATOS'!$C$10","v":"ARGENTINA"}]
[]
[null,null,null,null,"Nombre del asegurado :",{"$f":"+'INGRESO DE DATOS'!$D$15","v":"NOMBRE Y APELLIDO"}]
[]
[null,null,null,null,"Broker / Agente :",{"$f":"+'INGRESO DE DATOS'!$D$24","v":"AGENCIA"}]
[]
[null,null,null,null,null,null,"Número de adultos en la póliza:",{"$f":"+'INGRESO DE DATOS'!$G$17","v":1},null,"Edad de Titular :",{"$f":"+'INGRESO DE DATOS'!$G$19","v":18}]
[]
[null,null,null,null,null,null,"Número hijos (menos 24 de años):",{"$f":"+'INGRESO DE DATOS'!$J$17","v":0},null,"Edad de Cónyuge:",{"$f":"+'INGRESO DE DATOS'!$J$19","v":18}]
[]
[null,null,null,"Deducibles",null,"PLAN 2","PLAN 3","PLAN 4","PLAN 5","PLAN 6","PLAN 7"]
[null,null,null,"Dentro o fuera del pais de residencia",null,500,1000,2000,4000,5000,10000]
[]
[null,null,null,"Tarifas Anuales"]
[null,null,null,"Prima de Titular :",null,{"$f":"IF(OR($F10=\"CHILE\",$F10=\"HAITI\",$F10=\"HONDURAS\"),VLOOKUP($K$16,Tablas!$A$6:$H$68,3,TRUE),IF(OR($F10=\"COSTA RICA\",$F10=\"EL SALVADOR\"),VLOOKUP($K$16,Tablas!$A$151:$H$213,3,TRUE),IF(OR($F10=\"BELIZE\",$F10=\"GUYANA\",$F10=\"NICARAGUA\",$F10=\"SURINAME\",$F10=\"URUGUAY\",$F10=\"CARIBBEAN\",$F10=\"PERU\"),VLOOKUP($K$16,Tablas!$A$296:$H$358,3,TRUE),IF($F10=\"VENEZUELA\",VLOOKUP($K$16,Tablas!$A$441:$H$503,3,TRUE),IF(OR($F10=\"ARGENTINA\",$F10=\"COLOMBIA\",$F10=\"PARAGUAY\"),VLOOKUP($K$16,Tablas!$A$586:$H$648,3,TRUE),0)))))","v":2864},{"$f":"IF(OR($F10=\"CHILE\",$F10=\"HAITI\",$F10=\"HONDURAS\"),VLOOKUP($K$16,Tablas!$A$6:$H$68,4,TRUE),IF(OR($F10=\"COSTA RICA\",$F10=\"EL SALVADOR\"),VLOOKUP($K$16,Tablas!$A$151:$H$213,4,TRUE),IF(OR($F10=\"BELIZE\",$F10=\"GUYANA\",$F10=\"NICARAGUA\",$F10=\"SURINAME\",$F10=\"URUGUAY\",$F10=\"CARIBBEAN\",$F10=\"PERU\"),VLOOKUP($K$16,Tablas!$A$296:$H$358,4,TRUE),IF($F10=\"VENEZUELA\",VLOOKUP($K$16,Tablas!$A$441:$H$503,4,TRUE),IF(OR($F10=\"ARGENTINA\",$F10=\"COLOMBIA\",$F10=\"PARAGUAY\"),VLOOKUP($K$16,Tablas!$A$586:$H$648,4,TRUE),0)))))","v":2605},{"$f":"IF(OR($F10=\"CHILE\",$F10=\"HAITI\",$F10=\"HONDURAS\"),VLOOKUP($K$16,Tablas!$A$6:$H$68,5,TRUE),IF(OR($F10=\"COSTA RICA\",$F10=\"EL SALVADOR\"),VLOOKUP($K$16,Tablas!$A$151:$H$213,5,TRUE),IF(OR($F10=\"BELIZE\",$F10=\"GUYANA\",$F10=\"NICARAGUA\",$F10=\"SURINAME\",$F10=\"URUGUAY\",$F10=\"CARIBBEAN\",$F10=\"PERU\"),VLOOKUP($K$16,Tablas!$A$296:$H$358,5,TRUE),IF($F10=\"VENEZUELA\",VLOOKUP($K$16,Tablas!$A$441:$H$503,5,TRUE),IF(OR($F10=\"ARGENTINA\",$F10=\"COLOMBIA\",$F10=\"PARAGUAY\"),VLOOKUP($K$16,Tablas!$A$586:$H$648,5,TRUE),0)))))","v":2021},{"$f":"IF(OR($F10=\"CHILE\",$F10=\"HAITI\",$F10=\"HONDURAS\"),VLOOKUP($K$16,Tablas!$A$6:$H$68,6,TRUE),IF(OR($F10=\"COSTA RICA\",$F10=\"EL SALVADOR\"),VLOOKUP($K$16,Tablas!$A$151:$H$213,6,TRUE),IF(OR($F10=\"BELIZE\",$F10=\"GUYANA\",$F10=\"NICARAGUA\",$F10=\"SURINAME\",$F10=\"URUGUAY\",$F10=\"CARIBBEAN\",$F10=\"PERU\"),VLOOKUP($K$16,Tablas!$A$296:$H$358,6,TRUE),IF($F10=\"VENEZUELA\",VLOOKUP($K$16,Tablas!$A$441:$H$503,6,TRUE),IF(OR($F10=\"ARGENTINA\",$F10=\"COLOMBIA\",$F10=\"PARAGUAY\"),VLOOKUP($K$16,Tablas!$A$586:$H$648,6,TRUE),0)))))","v":1713},{"$f":"IF(OR($F10=\"CHILE\",$F10=\"HAITI\",$F10=\"HONDURAS\"),VLOOKUP($K$16,Tablas!$A$6:$H$68,7,TRUE),IF(OR($F10=\"COSTA RICA\",$F10=\"EL SALVADOR\"),VLOOKUP($K$16,Tablas!$A$151:$H$213,7,TRUE),IF(OR($F10=\"BELIZE\",$F10=\"GUYANA\",$F10=\"NICARAGUA\",$F10=\"SURINAME\",$F10=\"URUGUAY\",$F10=\"CARIBBEAN\",$F10=\"PERU\"),VLOOKUP($K$16,Tablas!$A$296:$H$358,7,TRUE),IF($F10=\"VENEZUELA\",VLOOKUP($K$16,Tablas!$A$441:$H$503,7,TRUE),IF(OR($F10=\"ARGENTINA\",$F10=\"COLOMBIA\",$F10=\"PARAGUAY\"),VLOOKUP($K$16,Tablas!$A$586:$H$648,7,TRUE),0)))))","v":1558},{"$f":"IF(OR($F10=\"CHILE\",$F10=\"HAITI\",$F10=\"HONDURAS\"),VLOOKUP($K$16,Tablas!$A$6:$H$68,8,TRUE),IF(OR($F10=\"COSTA RICA\",$F10=\"EL SALVADOR\"),VLOOKUP($K$16,Tablas!$A$151:$H$213,8,TRUE),IF(OR($F10=\"BELIZE\",$F10=\"GUYANA\",$F10=\"NICARAGUA\",$F10=\"SURINAME\",$F10=\"URUGUAY\",$F10=\"CARIBBEAN\",$F10=\"PERU\"),VLOOKUP($K$16,Tablas!$A$296:$H$358,8,TRUE),IF($F10=\"VENEZUELA\",VLOOKUP($K$16,Tablas!$A$441:$H$503,8,TRUE),IF(OR($F10=\"ARGENTINA\",$F10=\"COLOMBIA\",$F10=\"PARAGUAY\"),VLOOKUP($K$16,Tablas!$A$586:$H$648,8,TRUE),0)))))","v":1347}]
[null,null,null,"Prima de Cónyuge",null,{"$f":"IF($H$16=1,0,IF(OR($F10=\"CHILE\",$F10=\"HAITI\",$F10=\"HONDURAS\"),VLOOKUP($K$18,Tablas!$A$6:$H$68,3,TRUE),IF(OR($F10=\"COSTA RICA\",$F10=\"EL SALVADOR\"),VLOOKUP($K$18,Tablas!$A$151:$H$213,3,TRUE),IF(OR($F10=\"BELIZE\",$F10=\"GUYANA\",$F10=\"NICARAGUA\",$F10=\"SURINAME\",$F10=\"URUGUAY\",$F10=\"CARIBBEAN\",$F10=\"PERU\"),VLOOKUP($K$18,Tablas!$A$296:$H$358,3,TRUE),IF($F10=\"VENEZUELA\",VLOOKUP($K$18,Tablas!$A$441:$H$503,3,TRUE),IF(OR($F10=\"ARGENTINA\",$F10=\"COLOMBIA\",$F10=\"PARAGUAY\"),VLOOKUP($K$18,Tablas!$A$586:$H$648,3,TRUE),0))))))","v":0},{"$f":"IF($H$16=1,0,IF(OR($F10=\"CHILE\",$F10=\"HAITI\",$F10=\"HONDURAS\"),VLOOKUP($K$18,Tablas!$A$6:$H$68,4,TRUE),IF(OR($F10=\"COSTA RICA\",$F10=\"EL SALVADOR\"),VLOOKUP($K$18,Tablas!$A$151:$H$213,4,TRUE),IF(OR($F10=\"BELIZE\",$F10=\"GUYANA\",$F10=\"NICARAGUA\",$F10=\"SURINAME\",$F10=\"URUGUAY\",$F10=\"CARIBBEAN\",$F10=\"PERU\"),VLOOKUP($K$18,Tablas!$A$296:$H$358,4,TRUE),IF($F10=\"VENEZUELA\",VLOOKUP($K$18,Tablas!$A$441:$H$503,4,TRUE),IF(OR($F10=\"ARGENTINA\",$F10=\"COLOMBIA\",$F10=\"PARAGUAY\"),VLOOKUP($K$18,Tablas!$A$586:$H$648,4,TRUE),0))))))","v":0},{"$f":"IF($H$16=1,0,IF(OR($F10=\"CHILE\",$F10=\"HAITI\",$F10=\"HONDURAS\"),VLOOKUP($K$18,Tablas!$A$6:$H$68,5,TRUE),IF(OR($F10=\"COSTA RICA\",$F10=\"EL SALVADOR\"),VLOOKUP($K$18,Tablas!$A$151:$H$213,5,TRUE),IF(OR($F10=\"BELIZE\",$F10=\"GUYANA\",$F10=\"NICARAGUA\",$F10=\"SURINAME\",$F10=\"URUGUAY\",$F10=\"CARIBBEAN\",$F10=\"PERU\"),VLOOKUP($K$18,Tablas!$A$296:$H$358,5,TRUE),IF($F10=\"VENEZUELA\",VLOOKUP($K$18,Tablas!$A$441:$H$503,5,TRUE),IF(OR($F10=\"ARGENTINA\",$F10=\"COLOMBIA\",$F10=\"PARAGUAY\"),VLOOKUP($K$18,Tablas!$A$586:$H$648,5,TRUE),0))))))","v":0},{"$f":"IF($H$16=1,0,IF(OR($F10=\"CHILE\",$F10=\"HAITI\",$F10=\"HONDURAS\"),VLOOKUP($K$18,Tablas!$A$6:$H$68,6,TRUE),IF(OR($F10=\"COSTA RICA\",$F10=\"EL SALVADOR\"),VLOOKUP($K$18,Tablas!$A$151:$H$213,6,TRUE),IF(OR($F10=\"BELIZE\",$F10=\"GUYANA\",$F10=\"NICARAGUA\",$F10=\"SURINAME\",$F10=\"URUGUAY\",$F10=\"CARIBBEAN\",$F10=\"PERU\"),VLOOKUP($K$18,Tablas!$A$296:$H$358,6,TRUE),IF($F10=\"VENEZUELA\",VLOOKUP($K$18,Tablas!$A$441:$H$503,6,TRUE),IF(OR($F10=\"ARGENTINA\",$F10=\"COLOMBIA\",$F10=\"PARAGUAY\"),VLOOKUP($K$18,Tablas!$A$586:$H$648,6,TRUE),0))))))","v":0},{"$f":"IF($H$16=1,0,IF(OR($F10=\"CHILE\",$F10=\"HAITI\",$F10=\"HONDURAS\"),VLOOKUP($K$18,Tablas!$A$6:$H$68,7,TRUE),IF(OR($F10=\"COSTA RICA\",$F10=\"EL SALVADOR\"),VLOOKUP($K$18,Tablas!$A$151:$H$213,7,TRUE),IF(OR($F10=\"BELIZE\",$F10=\"GUYANA\",$F10=\"NICARAGUA\",$F10=\"SURINAME\",$F10=\"URUGUAY\",$F10=\"CARIBBEAN\",$F10=\"PERU\"),VLOOKUP($K$18,Tablas!$A$296:$H$358,7,TRUE),IF($F10=\"VENEZUELA\",VLOOKUP($K$18,Tablas!$A$441:$H$503,7,TRUE),IF(OR($F10=\"ARGENTINA\",$F10=\"COLOMBIA\",$F10=\"PARAGUAY\"),VLOOKUP($K$18,Tablas!$A$586:$H$648,7,TRUE),0))))))","v":0},{"$f":"IF($H$16=1,0,IF(OR($F10=\"CHILE\",$F10=\"HAITI\",$F10=\"HONDURAS\"),VLOOKUP($K$18,Tablas!$A$6:$H$68,8,TRUE),IF(OR($F10=\"COSTA RICA\",$F10=\"EL SALVADOR\"),VLOOKUP($K$18,Tablas!$A$151:$H$213,8,TRUE),IF(OR($F10=\"BELIZE\",$F10=\"GUYANA\",$F10=\"NICARAGUA\",$F10=\"SURINAME\",$F10=\"URUGUAY\",$F10=\"CARIBBEAN\",$F10=\"PERU\"),VLOOKUP($K$18,Tablas!$A$296:$H$358,8,TRUE),IF($F10=\"VENEZUELA\",VLOOKUP($K$18,Tablas!$A$441:$H$503,8,TRUE),IF(OR($F10=\"ARGENTINA\",$F10=\"COLOMBIA\",$F10=\"PARAGUAY\"),VLOOKUP($K$18,Tablas!$A$586:$H$648,8,TRUE),0))))))","v":0}]
[null,null,null,"Primas Hijos :",null,{"$f":"IF($H$18=0,0,IF(OR($F10=\"CHILE\",$F10=\"HAITI\",$F10=\"HONDURAS\"),VLOOKUP($H$18,Tablas!$A$69:$H$71,3,TRUE),IF(OR($F10=\"COSTA RICA\",$F10=\"EL SALVADOR\"),VLOOKUP($H$18,Tablas!$A$214:$H$216,3,TRUE),IF(OR($F10=\"BELIZE\",$F10=\"GUYANA\",$F10=\"NICARAGUA\",$F10=\"SURINAME\",$F10=\"URUGUAY\",$F10=\"CARIBBEAN\",$F10=\"PERU\"),VLOOKUP($H$18,Tablas!$A$359:$H$361,3,TRUE),IF($F10=\"VENEZUELA\",VLOOKUP($H$18,Tablas!$A$504:$H$506,3,TRUE),IF(OR($F10=\"ARGENTINA\",$F10=\"COLOMBIA\",$F10=\"PARAGUAY\"),VLOOKUP($H$18,Tablas!$A$649:$H$651,3,TRUE),0))))))","v":0},{"$f":"IF($H$18=0,0,IF(OR($F10=\"CHILE\",$F10=\"HAITI\",$F10=\"HONDURAS\"),VLOOKUP($H$18,Tablas!$A$69:$H$71,4,TRUE),IF(OR($F10=\"COSTA RICA\",$F10=\"EL SALVADOR\"),VLOOKUP($H$18,Tablas!$A$214:$H$216,4,TRUE),IF(OR($F10=\"BELIZE\",$F10=\"GUYANA\",$F10=\"NICARAGUA\",$F10=\"SURINAME\",$F10=\"URUGUAY\",$F10=\"CARIBBEAN\",$F10=\"PERU\"),VLOOKUP($H$18,Tablas!$A$359:$H$361,4,TRUE),IF($F10=\"VENEZUELA\",VLOOKUP($H$18,Tablas!$A$504:$H$506,4,TRUE),IF(OR($F10=\"ARGENTINA\",$F10=\"COLOMBIA\",$F10=\"PARAGUAY\"),VLOOKUP($H$18,Tablas!$A$649:$H$651,4,TRUE),0))))))","v":0},{"$f":"IF($H$18=0,0,IF(OR($F10=\"CHILE\",$F10=\"HAITI\",$F10=\"HONDURAS\"),VLOOKUP($H$18,Tablas!$A$69:$H$71,5,TRUE),IF(OR($F10=\"COSTA RICA\",$F10=\"EL SALVADOR\"),VLOOKUP($H$18,Tablas!$A$214:$H$216,5,TRUE),IF(OR($F10=\"BELIZE\",$F10=\"GUYANA\",$F10=\"NICARAGUA\",$F10=\"SURINAME\",$F10=\"URUGUAY\",$F10=\"CARIBBEAN\",$F10=\"PERU\"),VLOOKUP($H$18,Tablas!$A$359:$H$361,5,TRUE),IF($F10=\"VENEZUELA\",VLOOKUP($H$18,Tablas!$A$504:$H$506,5,TRUE),IF(OR($F10=\"ARGENTINA\",$F10=\"COLOMBIA\",$F10=\"PARAGUAY\"),VLOOKUP($H$18,Tablas!$A$649:$H$651,5,TRUE),0))))))","v":0},{"$f":"IF($H$18=0,0,IF(OR($F10=\"CHILE\",$F10=\"HAITI\",$F10=\"HONDURAS\"),VLOOKUP($H$18,Tablas!$A$69:$H$71,6,TRUE),IF(OR($F10=\"COSTA RICA\",$F10=\"EL SALVADOR\"),VLOOKUP($H$18,Tablas!$A$214:$H$216,6,TRUE),IF(OR($F10=\"BELIZE\",$F10=\"GUYANA\",$F10=\"NICARAGUA\",$F10=\"SURINAME\",$F10=\"URUGUAY\",$F10=\"CARIBBEAN\",$F10=\"PERU\"),VLOOKUP($H$18,Tablas!$A$359:$H$361,6,TRUE),IF($F10=\"VENEZUELA\",VLOOKUP($H$18,Tablas!$A$504:$H$506,6,TRUE),IF(OR($F10=\"ARGENTINA\",$F10=\"COLOMBIA\",$F10=\"PARAGUAY\"),VLOOKUP($H$18,Tablas!$A$649:$H$651,6,TRUE),0))))))","v":0},{"$f":"IF($H$18=0,0,IF(OR($F10=\"CHILE\",$F10=\"HAITI\",$F10=\"HONDURAS\"),VLOOKUP($H$18,Tablas!$A$69:$H$71,7,TRUE),IF(OR($F10=\"COSTA RICA\",$F10=\"EL SALVADOR\"),VLOOKUP($H$18,Tablas!$A$214:$H$216,7,TRUE),IF(OR($F10=\"BELIZE\",$F10=\"GUYANA\",$F10=\"NICARAGUA\",$F10=\"SURINAME\",$F10=\"URUGUAY\",$F10=\"CARIBBEAN\",$F10=\"PERU\"),VLOOKUP($H$18,Tablas!$A$359:$H$361,7,TRUE),IF($F10=\"VENEZUELA\",VLOOKUP($H$18,Tablas!$A$504:$H$506,7,TRUE),IF(OR($F10=\"ARGENTINA\",$F10=\"COLOMBIA\",$F10=\"PARAGUAY\"),VLOOKUP($H$18,Tablas!$A$649:$H$651,7,TRUE),0))))))","v":0},{"$f":"IF($H$18=0,0,IF(OR($F10=\"CHILE\",$F10=\"HAITI\",$F10=\"HONDURAS\"),VLOOKUP($H$18,Tablas!$A$69:$H$71,8,TRUE),IF(OR($F10=\"COSTA RICA\",$F10=\"EL SALVADOR\"),VLOOKUP($H$18,Tablas!$A$214:$H$216,8,TRUE),IF(OR($F10=\"BELIZE\",$F10=\"GUYANA\",$F10=\"NICARAGUA\",$F10=\"SURINAME\",$F10=\"URUGUAY\",$F10=\"CARIBBEAN\",$F10=\"PERU\"),VLOOKUP($H$18,Tablas!$A$359:$H$361,8,TRUE),IF($F10=\"VENEZUELA\",VLOOKUP($H$18,Tablas!$A$504:$H$506,8,TRUE),IF(OR($F10=\"ARGENTINA\",$F10=\"COLOMBIA\",$F10=\"PARAGUAY\"),VLOOKUP($H$18,Tablas!$A$649:$H$651,8,TRUE),0))))))","v":0}]
[null,null,null,"Prima Rider Complic. Maternidad",null,0,0,0,0,0,0]
[null,null,null,"Prima Rider Trasplante Organos",null,0,0,0,0,0,0]
[null,null,null,"TOTAL PRIMA NETA :",null,{"$f":"SUM(F24:F28)","v":2864},{"$f":"SUM(G24:G28)","v":2605},2021,1713,1558,1347]
[null,null,null,"Costo Administrativo Anual :",null,75,75,75,75,75,75]
[null,null,null,"GRAN TOTAL :",null,{"$f":"SUM(F29:F30)","v":2939},2680,2096,1788,1633,1422]
[]
[null,null,null,"Tarifas Semestrales"]
[null,null,null,"Prima de Titular :",null,{"$f":"IF(OR($F10=\"CHILE\",$F10=\"HAITI\",$F10=\"HONDURAS\"),VLOOKUP($K$16,Tablas!$A$78:$H$140,3,TRUE),IF(OR($F10=\"COSTA RICA\",$F10=\"EL SALVADOR\"),VLOOKUP($K$16,Tablas!$A$223:$H$285,3,TRUE),IF(OR($F10=\"BELIZE\",$F10=\"GUYANA\",$F10=\"NICARAGUA\",$F10=\"SURINAME\",$F10=\"URUGUAY\",$F10=\"CARIBBEAN\",$F10=\"PERU\"),VLOOKUP($K$16,Tablas!$A$368:$H$430,3,TRUE),IF($F10=\"VENEZUELA\",VLOOKUP($K$16,Tablas!$A$513:$H$575,3,TRUE),IF(OR($F10=\"ARGENTINA\",$F10=\"COLOMBIA\",$F10=\"PARAGUAY\"),VLOOKUP($K$16,Tablas!$A$658:$H$720,3,TRUE),0)))))","v":1517.92},{"$f":"IF(OR($F10=\"CHILE\",$F10=\"HAITI\",$F10=\"HONDURAS\"),VLOOKUP($K$16,Tablas!$A$78:$H$140,4,TRUE),IF(OR($F10=\"COSTA RICA\",$F10=\"EL SALVADOR\"),VLOOKUP($K$16,Tablas!$A$223:$H$285,4,TRUE),IF(OR($F10=\"BELIZE\",$F10=\"GUYANA\",$F10=\"NICARAGUA\",$F10=\"SURINAME\",$F10=\"URUGUAY\",$F10=\"CARIBBEAN\",$F10=\"PERU\"),VLOOKUP($K$16,Tablas!$A$368:$H$430,4,TRUE),IF($F10=\"VENEZUELA\",VLOOKUP($K$16,Tablas!$A$513:$H$575,4,TRUE),IF(OR($F10=\"ARGENTINA\",$F10=\"COLOMBIA\",$F10=\"PARAGUAY\"),VLOOKUP($K$16,Tablas!$A$658:$H$720,4,TRUE),0)))))","v":1380.65},{"$f":"IF(OR($F10=\"CHILE\",$F10=\"HAITI\",$F10=\"HONDURAS\"),VLOOKUP($K$16,Tablas!$A$78:$H$140,5,TRUE),IF(OR($F10=\"COSTA RICA\",$F10=\"EL SALVADOR\"),VLOOKUP($K$16,Tablas!$A$223:$H$285,5,TRUE),IF(OR($F10=\"BELIZE\",$F10=\"GUYANA\",$F10=\"NICARAGUA\",$F10=\"SURINAME\",$F10=\"URUGUAY\",$F10=\"CARIBBEAN\",$F10=\"PERU\"),VLOOKUP($K$16,Tablas!$A$368:$H$430,5,TRUE),IF($F10=\"VENEZUELA\",VLOOKUP($K$16,Tablas!$A$513:$H$575,5,TRUE),IF(OR($F10=\"ARGENTINA\",$F10=\"COLOMBIA\",$F10=\"PARAGUAY\"),VLOOKUP($K$16,Tablas!$A$658:$H$720,5,TRUE),0)))))","v":1071.1300000000001},{"$f":"IF(OR($F10=\"CHILE\",$F10=\"HAITI\",$F10=\"HONDURAS\"),VLOOKUP($K$16,Tablas!$A$78:$H$140,6,TRUE),IF(OR($F10=\"COSTA RICA\",$F10=\"EL SALVADOR\"),VLOOKUP($K$16,Tablas!$A$223:$H$285,6,TRUE),IF(OR($F10=\"BELIZE\",$F10=\"GUYANA\",$F10=\"NICARAGUA\",$F10=\"SURINAME\",$F10=\"URUGUAY\",$F10=\"CARIBBEAN\",$F10=\"PERU\"),VLOOKUP($K$16,Tablas!$A$368:$H$430,6,TRUE),IF($F10=\"VENEZUELA\",VLOOKUP($K$16,Tablas!$A$513:$H$575,6,TRUE),IF(OR($F10=\"ARGENTINA\",$F10=\"COLOMBIA\",$F10=\"PARAGUAY\"),VLOOKUP($K$16,Tablas!$A$658:$H$720,6,TRUE),0)))))","v":907.8900000000001},{"$f":"IF(OR($F10=\"CHILE\",$F10=\"HAITI\",$F10=\"HONDURAS\"),VLOOKUP($K$16,Tablas!$A$78:$H$140,7,TRUE),IF(OR($F10=\"COSTA RICA\",$F10=\"EL SALVADOR\"),VLOOKUP($K$16,Tablas!$A$223:$H$285,7,TRUE),IF(OR($F10=\"BELIZE\",$F10=\"GUYANA\",$F10=\"NICARAGUA\",$F10=\"SURINAME\",$F10=\"URUGUAY\",$F10=\"CARIBBEAN\",$F10=\"PERU\"),VLOOKUP($K$16,Tablas!$A$368:$H$430,7,TRUE),IF($F10=\"VENEZUELA\",VLOOKUP($K$16,Tablas!$A$513:$H$575,7,TRUE),IF(OR($F10=\"ARGENTINA\",$F10=\"COLOMBIA\",$F10=\"PARAGUAY\"),VLOOKUP($K$16,Tablas!$A$658:$H$720,7,TRUE),0)))))","v":825.74},{"$f":"IF(OR($F10=\"CHILE\",$F10=\"HAITI\",$F10=\"HONDURAS\"),VLOOKUP($K$16,Tablas!$A$78:$H$140,8,TRUE),IF(OR($F10=\"COSTA RICA\",$F10=\"EL SALVADOR\"),VLOOKUP($K$16,Tablas!$A$223:$H$285,8,TRUE),IF(OR($F10=\"BELIZE\",$F10=\"GUYANA\",$F10=\"NICARAGUA\",$F10=\"SURINAME\",$F10=\"URUGUAY\",$F10=\"CARIBBEAN\",$F10=\"PERU\"),VLOOKUP($K$16,Tablas!$A$368:$H$430,8,TRUE),IF($F10=\"VENEZUELA\",VLOOKUP($K$16,Tablas!$A$513:$H$575,8,TRUE),IF(OR($F10=\"ARGENTINA\",$F10=\"COLOMBIA\",$F10=\"PARAGUAY\"),VLOOKUP($K$16,Tablas!$A$658:$H$720,8,TRUE),0)))))","v":713.91000000000008}]
[null,null,null,"Prima de Cónyuge",null,{"$f":"IF($H$16=1,0,IF(OR($F10=\"CHILE\",$F10=\"HAITI\",$F10=\"HONDURAS\"),VLOOKUP($K$18,Tablas!$A$78:$H$140,3,TRUE),IF(OR($F10=\"COSTA RICA\",$F10=\"EL SALVADOR\"),VLOOKUP($K$18,Tablas!$A$223:$H$285,3,TRUE),IF(OR($F10=\"BELIZE\",$F10=\"GUYANA\",$F10=\"NICARAGUA\",$F10=\"SURINAME\",$F10=\"URUGUAY\",$F10=\"CARIBBEAN\",$F10=\"PERU\"),VLOOKUP($K$18,Tablas!$A$368:$H$430,3,TRUE),IF($F10=\"VENEZUELA\",VLOOKUP($K$18,Tablas!$A$513:$H$575,3,TRUE),IF(OR($F10=\"ARGENTINA\",$F10=\"COLOMBIA\",$F10=\"PARAGUAY\"),VLOOKUP($K$18,Tablas!$A$658:$H$720,3,TRUE),0))))))","v":0},{"$f":"IF($H$16=1,0,IF(OR($F10=\"CHILE\",$F10=\"HAITI\",$F10=\"HONDURAS\"),VLOOKUP($K$18,Tablas!$A$78:$H$140,4,TRUE),IF(OR($F10=\"COSTA RICA\",$F10=\"EL SALVADOR\"),VLOOKUP($K$18,Tablas!$A$223:$H$285,4,TRUE),IF(OR($F10=\"BELIZE\",$F10=\"GUYANA\",$F10=\"NICARAGUA\",$F10=\"SURINAME\",$F10=\"URUGUAY\",$F10=\"CARIBBEAN\",$F10=\"PERU\"),VLOOKUP($K$18,Tablas!$A$368:$H$430,4,TRUE),IF($F10=\"VENEZUELA\",VLOOKUP($K$18,Tablas!$A$513:$H$575,4,TRUE),IF(OR($F10=\"ARGENTINA\",$F10=\"COLOMBIA\",$F10=\"PARAGUAY\"),VLOOKUP($K$18,Tablas!$A$658:$H$720,4,TRUE),0))))))","v":0},{"$f":"IF($H$16=1,0,IF(OR($F10=\"CHILE\",$F10=\"HAITI\",$F10=\"HONDURAS\"),VLOOKUP($K$18,Tablas!$A$78:$H$140,5,TRUE),IF(OR($F10=\"COSTA RICA\",$F10=\"EL SALVADOR\"),VLOOKUP($K$18,Tablas!$A$223:$H$285,5,TRUE),IF(OR($F10=\"BELIZE\",$F10=\"GUYANA\",$F10=\"NICARAGUA\",$F10=\"SURINAME\",$F10=\"URUGUAY\",$F10=\"CARIBBEAN\",$F10=\"PERU\"),VLOOKUP($K$18,Tablas!$A$368:$H$430,5,TRUE),IF($F10=\"VENEZUELA\",VLOOKUP($K$18,Tablas!$A$513:$H$575,5,TRUE),IF(OR($F10=\"ARGENTINA\",$F10=\"COLOMBIA\",$F10=\"PARAGUAY\"),VLOOKUP($K$18,Tablas!$A$658:$H$720,5,TRUE),0))))))","v":0},{"$f":"IF($H$16=1,0,IF(OR($F10=\"CHILE\",$F10=\"HAITI\",$F10=\"HONDURAS\"),VLOOKUP($K$18,Tablas!$A$78:$H$140,6,TRUE),IF(OR($F10=\"COSTA RICA\",$F10=\"EL SALVADOR\"),VLOOKUP($K$18,Tablas!$A$223:$H$285,6,TRUE),IF(OR($F10=\"BELIZE\",$F10=\"GUYANA\",$F10=\"NICARAGUA\",$F10=\"SURINAME\",$F10=\"URUGUAY\",$F10=\"CARIBBEAN\",$F10=\"PERU\"),VLOOKUP($K$18,Tablas!$A$368:$H$430,6,TRUE),IF($F10=\"VENEZUELA\",VLOOKUP($K$18,Tablas!$A$513:$H$575,6,TRUE),IF(OR($F10=\"ARGENTINA\",$F10=\"COLOMBIA\",$F10=\"PARAGUAY\"),VLOOKUP($K$18,Tablas!$A$658:$H$720,6,TRUE),0))))))","v":0},{"$f":"IF($H$16=1,0,IF(OR($F10=\"CHILE\",$F10=\"HAITI\",$F10=\"HONDURAS\"),VLOOKUP($K$18,Tablas!$A$78:$H$140,7,TRUE),IF(OR($F10=\"COSTA RICA\",$F10=\"EL SALVADOR\"),VLOOKUP($K$18,Tablas!$A$223:$H$285,7,TRUE),IF(OR($F10=\"BELIZE\",$F10=\"GUYANA\",$F10=\"NICARAGUA\",$F10=\"SURINAME\",$F10=\"URUGUAY\",$F10=\"CARIBBEAN\",$F10=\"PERU\"),VLOOKUP($K$18,Tablas!$A$368:$H$430,7,TRUE),IF($F10=\"VENEZUELA\",VLOOKUP($K$18,Tablas!$A$513:$H$575,7,TRUE),IF(OR($F10=\"ARGENTINA\",$F10=\"COLOMBIA\",$F10=\"PARAGUAY\"),VLOOKUP($K$18,Tablas!$A$658:$H$720,7,TRUE),0))))))","v":0},{"$f":"IF($H$16=1,0,IF(OR($F10=\"CHILE\",$F10=\"HAITI\",$F10=\"HONDURAS\"),VLOOKUP($K$18,Tablas!$A$78:$H$140,8,TRUE),IF(OR($F10=\"COSTA RICA\",$F10=\"EL SALVADOR\"),VLOOKUP($K$18,Tablas!$A$223:$H$285,8,TRUE),IF(OR($F10=\"BELIZE\",$F10=\"GUYANA\",$F10=\"NICARAGUA\",$F10=\"SURINAME\",$F10=\"URUGUAY\",$F10=\"CARIBBEAN\",$F10=\"PERU\"),VLOOKUP($K$18,Tablas!$A$368:$H$430,8,TRUE),IF($F10=\"VENEZUELA\",VLOOKUP($K$18,Tablas!$A$513:$H$575,8,TRUE),IF(OR($F10=\"ARGENTINA\",$F10=\"COLOMBIA\",$F10=\"PARAGUAY\"),VLOOKUP($K$18,Tablas!$A$658:$H$720,8,TRUE),0))))))","v":0}]
[null,null,null,"Primas Hijos :",null,{"$f":"IF($H$18=0,0,IF(OR($F10=\"CHILE\",$F10=\"HAITI\",$F10=\"HONDURAS\"),VLOOKUP($H$18,Tablas!$A$141:$H$143,3,TRUE),IF(OR($F10=\"COSTA RICA\",$F10=\"EL SALVADOR\"),VLOOKUP($H$18,Tablas!$A$286:$H$288,3,TRUE),IF(OR($F10=\"BELIZE\",$F10=\"GUYANA\",$F10=\"NICARAGUA\",$F10=\"SURINAME\",$F10=\"URUGUAY\",$F10=\"CARIBBEAN\",$F10=\"PERU\"),VLOOKUP($H$18,Tablas!$A$431:$H$433,3,TRUE),IF($F10=\"VENEZUELA\",VLOOKUP($H$18,Tablas!$A$576:$H$578,3,TRUE),IF(OR($F10=\"ARGENTINA\",$F10=\"COLOMBIA\",$F10=\"PARAGUAY\"),VLOOKUP($H$18,Tablas!$A$721:$H$723,3,TRUE),0))))))","v":0},{"$f":"IF($H$18=0,0,IF(OR($F10=\"CHILE\",$F10=\"HAITI\",$F10=\"HONDURAS\"),VLOOKUP($H$18,Tablas!$A$141:$H$143,4,TRUE),IF(OR($F10=\"COSTA RICA\",$F10=\"EL SALVADOR\"),VLOOKUP($H$18,Tablas!$A$286:$H$288,4,TRUE),IF(OR($F10=\"BELIZE\",$F10=\"GUYANA\",$F10=\"NICARAGUA\",$F10=\"SURINAME\",$F10=\"URUGUAY\",$F10=\"CARIBBEAN\",$F10=\"PERU\"),VLOOKUP($H$18,Tablas!$A$431:$H$433,4,TRUE),IF($F10=\"VENEZUELA\",VLOOKUP($H$18,Tablas!$A$576:$H$578,4,TRUE),IF(OR($F10=\"ARGENTINA\",$F10=\"COLOMBIA\",$F10=\"PARAGUAY\"),VLOOKUP($H$18,Tablas!$A$721:$H$723,4,TRUE),0))))))","v":0},{"$f":"IF($H$18=0,0,IF(OR($F10=\"CHILE\",$F10=\"HAITI\",$F10=\"HONDURAS\"),VLOOKUP($H$18,Tablas!$A$141:$H$143,5,TRUE),IF(OR($F10=\"COSTA RICA\",$F10=\"EL SALVADOR\"),VLOOKUP($H$18,Tablas!$A$286:$H$288,5,TRUE),IF(OR($F10=\"BELIZE\",$F10=\"GUYANA\",$F10=\"NICARAGUA\",$F10=\"SURINAME\",$F10=\"URUGUAY\",$F10=\"CARIBBEAN\",$F10=\"PERU\"),VLOOKUP($H$18,Tablas!$A$431:$H$433,5,TRUE),IF($F10=\"VENEZUELA\",VLOOKUP($H$18,Tablas!$A$576:$H$578,5,TRUE),IF(OR($F10=\"ARGENTINA\",$F10=\"COLOMBIA\",$F10=\"PARAGUAY\"),VLOOKUP($H$18,Tablas!$A$721:$H$723,5,TRUE),0))))))","v":0},{"$f":"IF($H$18=0,0,IF(OR($F10=\"CHILE\",$F10=\"HAITI\",$F10=\"HONDURAS\"),VLOOKUP($H$18,Tablas!$A$141:$H$143,6,TRUE),IF(OR($F10=\"COSTA RICA\",$F10=\"EL SALVADOR\"),VLOOKUP($H$18,Tablas!$A$286:$H$288,6,TRUE),IF(OR($F10=\"BELIZE\",$F10=\"GUYANA\",$F10=\"NICARAGUA\",$F10=\"SURINAME\",$F10=\"URUGUAY\",$F10=\"CARIBBEAN\",$F10=\"PERU\"),VLOOKUP($H$18,Tablas!$A$431:$H$433,6,TRUE),IF($F10=\"VENEZUELA\",VLOOKUP($H$18,Tablas!$A$576:$H$578,6,TRUE),IF(OR($F10=\"ARGENTINA\",$F10=\"COLOMBIA\",$F10=\"PARAGUAY\"),VLOOKUP($H$18,Tablas!$A$721:$H$723,6,TRUE),0))))))","v":0},{"$f":"IF($H$18=0,0,IF(OR($F10=\"CHILE\",$F10=\"HAITI\",$F10=\"HONDURAS\"),VLOOKUP($H$18,Tablas!$A$141:$H$143,7,TRUE),IF(OR($F10=\"COSTA RICA\",$F10=\"EL SALVADOR\"),VLOOKUP($H$18,Tablas!$A$286:$H$288,7,TRUE),IF(OR($F10=\"BELIZE\",$F10=\"GUYANA\",$F10=\"NICARAGUA\",$F10=\"SURINAME\",$F10=\"URUGUAY\",$F10=\"CARIBBEAN\",$F10=\"PERU\"),VLOOKUP($H$18,Tablas!$A$431:$H$433,7,TRUE),IF($F10=\"VENEZUELA\",VLOOKUP($H$18,Tablas!$A$576:$H$578,7,TRUE),IF(OR($F10=\"ARGENTINA\",$F10=\"COLOMBIA\",$F10=\"PARAGUAY\"),VLOOKUP($H$18,Tablas!$A$721:$H$723,7,TRUE),0))))))","v":0},{"$f":"IF($H$18=0,0,IF(OR($F10=\"CHILE\",$F10=\"HAITI\",$F10=\"HONDURAS\"),VLOOKUP($H$18,Tablas!$A$141:$H$143,8,TRUE),IF(OR($F10=\"COSTA RICA\",$F10=\"EL SALVADOR\"),VLOOKUP($H$18,Tablas!$A$286:$H$288,8,TRUE),IF(OR($F10=\"BELIZE\",$F10=\"GUYANA\",$F10=\"NICARAGUA\",$F10=\"SURINAME\",$F10=\"URUGUAY\",$F10=\"CARIBBEAN\",$F10=\"PERU\"),VLOOKUP($H$18,Tablas!$A$431:$H$433,8,TRUE),IF($F10=\"VENEZUELA\",VLOOKUP($H$18,Tablas!$A$576:$H$578,8,TRUE),IF(OR($F10=\"ARGENTINA\",$F10=\"COLOMBIA\",$F10=\"PARAGUAY\"),VLOOKUP($H$18,Tablas!$A$721:$H$723,8,TRUE),0))))))","v":0}]
[null,null,null,"Prima Rider Complic. Maternidad",null,0,0,0,0,0,0]
[null,null,null,"Prima Rider Trasplante Organos",null,0,0,0,0,0,0]
[null,null,null,"TOTAL PRIMA NETA :",null,{"$f":"SUM(F34:F38)","v":1517.92},{"$f":"SUM(G34:G38)","v":1380.65},1071.1300000000001,907.8900000000001,825.74,713.91000000000008]
[null,null,null,"Costo Administrativo Anual :",null,75,75,75,75,75,75]
[null,null,null,"GRAN TOTAL  (1ra Cuota) :",null,{"$f":"SUM(F39:F40)","v":1592.92},1455.65,1146.1300000000001,982.8900000000001,900.74,788.91000000000008]
[null,null,null,"GRAN TOTAL  (2da Cuota) :",null,{"$f":"F39","v":1517.92},{"$f":"G39","v":1380.65},{"$f":"H39","v":1071.1300000000001},907.8900000000001,825.74,713.91000000000008]
[null,null,null,"Tarifas en US $ -  Válidas desde 01 Enero 2022"]
[null,null,null,"Este presupuesto solamente tiene carácter informativo y en ningún momento expresa compromiso legal para suministrarle cobertura de seguro. La emisión de una póliza de seguro Bupa está sujeta a todas las evaluaciones de riesgo por parte de Bupa y a la recepción de todos los pagos de prima requeridos."]

{"sheet":"Tablas","index":2,"n_rows":725,"n_cols":19,"rows_kept":725,"cut":false,"hidden":true,"merged":[[655,0,655,1],[655,2,655,6],[581,0,581,7],[582,0,582,7],[583,0,583,1],[583,2,583,6],[654,0,654,7],[438,0,438,1],[438,2,438,6],[509,0,509,7],[510,0,510,1],[510,2,510,6],[364,0,364,7],[365,0,365,1],[365,2,365,6],[436,0,436,7],[437,0,437,7],[220,0,220,1],[220,2,220,6],[291,0,291,7],[292,0,292,7],[293,0,293,1],[293,2,293,6],[146,0,146,7],[147,0,147,7],[148,0,148,1],[148,2,148,6],[219,0,219,7],[1,0,1,7],[2,0,2,7],[75,0,75,1],[75,2,75,6],[74,0,74,7],[3,0,3,1],[3,2,3,6]]}
[]
["BUPA FLEX - ZONE 2",null,null,null,null,null,null,null,null,"FACTOR SEMESTRAL :",null,0.53,null,"PAISES"]
["TARIFAS ANUALES",null,null,null,null,null,null,null,null,null,null,null,null,"ARGENTINA",6]
["EDAD",null,null,null,null,null,null,null,null,null,null,null,null,"BELIZE",4]
[" "," ",null,"DW2","DW3","DW4","DW5","DW6",null,null,null,null,null,"CARIBBEAN",4]
[18,null,3901,3546,2744,2327,2115,1834,null,true,true,true,null,"CHILE",2,null,true,true,true]
[19,null,3968,3608,2803,2373,2158,1869,null,true,true,true,null,"COLOMBIA",6,null,true,true,true]
[20,null,4038,3668,2864,2418,2201,1905,null,true,true,true,null,"COSTA RICA",3,null,true,true,true]
[21,null,4101,3730,2924,2466,2242,1941,null,true,true,true,null,"EL SALVADOR",3,null,true,true,true]
[22,null,4180,3795,2987,2515,2285,1980,null,true,true,true,null,"GUYANA",4,null,true,true,true]
[23,null,4245,3861,3045,2561,2327,2018,null,true,true,true,null,"HAITI",2,null,true,true,true]
[24,null,4317,3924,3111,2608,2373,2058,null,true,true,true,null,"HONDURAS",2,null,true,true,true]
[25,null,4388,3991,3170,2655,2415,2094,null,true,true,true,null,"NICARAGUA",4,null,true,true,true]
[26,null,4457,4052,3232,2702,2457,2131,null,true,true,true,null,"PARAGUAY",6,null,true,true,true]
[27,null,4529,4115,3295,2750,2504,2170,null,true,true,true,null,"PERU",4,null,true,true,true]
[28,null,4605,4187,3374,2806,2555,2212,null,true,true,true,null,"SURINAME",4,null,true,true,true]
[29,null,4686,4262,3449,2865,2606,2258,null,true,true,true,null,"URUGUAY",4,null,true,true,true]
[30,null,4764,4332,3528,2924,2655,2303,null,true,true,true,null,"VENEZUELA",5,null,true,true,true]
[31,null,4843,4404,3604,2978,2709,2347,null,true,true,true,null,null,null,null,true,true,true]
[32,null,4922,4474,3681,3038,2760,2392,null,true,true,true,null,null,null,null,true,true,true]
[33,null,5055,4600,3797,3127,2842,2462,null,true,true,true,null,null,null,null,true,true,true]
[34,null,5193,4720,3911,3217,2925,2533,null,true,true,true,null,null,null,null,true,true,true]
[35,null,5330,4844,4026,3307,3011,2602,null,true,true,true,null,null,null,null,true,true,true]
[36,null,5465,4971,4145,3399,3094,2665,null,true,true,true,null,null,null,null,true,true,true]
[37,null,5602,5092,4259,3492,3174,2737,null,true,true,true,null,null,null,null,true,true,true]
[38,null,5737,5218,4378,3583,3256,2816,null,true,true,true,null,null,null,null,true,true,true]
[39,null,5873,5340,4497,3676,3343,2887,null,true,true,true,null,null,null,null,true,true,true]
[40,null,6011,5465,4617,3765,3422,2957,null,true,true,true,null,null,null,null,true,true,true]
[41,null,6146,5585,4734,3855,3506,3030,null,true,true,true,null,null,null,null,true,true,true]
[42,null,6283,5710,4853,3948,3589,3101,null,true,true,true,null,null,null,null,true,true,true]
[43,null,6530,5935,5068,4115,3740,3232,null,true,true,true,null,null,null,null,true,true,true]
[44,null,6782,6165,5284,4284,3897,3364,null,true,true,true,null,null,null,null,true,true,true]
[45,null,7030,6390,5497,4450,4043,3496,null,true,true,true,null,null,null,null,true,true,true]
[46,null,7276,6618,5714,4618,4197,3628,null,true,true,true,null,null,null,null,true,true,true]
[47,null,7526,6843,5928,4789,4354,3758,null,true,true,true,null,null,null,null,true,true,true]
[48,null,7793,7087,6151,4961,4509,3897,null,true,true,true,null,null,null,null,true,true,true]
[49,null,8061,7326,6369,5137,4671,4031,null,true,true,true,null,null,null,null,true,true,true]
[50,null,8328,7569,6588,5312,4828,4168,null,true,true,true,null,null,null,null,true,true,true]
[51,null,8594,7816,6811,5485,4985,4305,null,true,true,true,null,null,null,null,true,true,true]
[52,null,8863,8056,7037,5655,5144,4443,null,true,true,true,null,null,null,null,true,true,true]
[53,null,9178,8340,7306,5865,5335,4610,null,true,true,true,null,null,null,null,true,true,true]
[54,null,9487,8621,7579,6081,5526,4773,null,true,true,true,null,null,null,null,true,true,true]
[55,null,9799,8906,7855,6285,5719,4938,null,true,true,true,null,null,null,null,true,true,true]
[56,null,10111,9189,8130,6503,5907,5105,null,true,true,true,null,null,null,null,true,true,true]
[57,null,10425,9473,8403,6712,6099,5270,null,true,true,true,null,null,null,null,true,true,true]
[58,null,10783,9804,8731,6967,6337,5474,null,true,true,true,null,null,null,null,true,true,true]
[59,null,11146,10134,9059,7228,6576,5679,null,true,true,true,null,null,null,null,true,true,true]
[60,null,11509,10461,9387,7490,6811,5886,null,true,true,true,null,null,null,null,true,true,true]
[61,null,11932,10845,9789,7773,7066,6103,null,true,true,true,null,null,null,null,true,true,true]
[62,null,12469,11337,10266,8135,7396,6383,null,true,true,true,null,null,null,null,true,true,true]
[63,null,13114,11922,10791,8555,7776,6715,null,true,true,true,null,null,null,null,true,true,true]
[64,null,13867,12606,11415,9040,8220,7096,null,true,true,true,null,null,null,null,true,true,true]
[65,null,14778,13435,12263,9684,8804,7596,null,true,true,true,null,null,null,null,true,true,true]
[66,null,15836,14395,13253,10429,9482,8172,null,true,true,true,null,null,null,null,true,true,true]
[67,null,17105,15552,14313,11261,10238,8831,null,true,true,true,null,null,null,null,true,true,true]
[68,null,18553,16863,15527,12214,11103,9578,null,true,true,true,null,null,null,null,true,true,true]
[69,null,20255,18412,16951,13345,12128,10461,null,true,true,true,null,null,null,null,true,true,true]
[70,null,22195,20178,18695,14748,13413,11559,null,true,true,true,null,null,null,null,true,true,true]
[71,null,24450,22227,20768,16248,14767,12731,null,true,true,true,null,null,null,null,true,true,true]
[72,null,27057,24596,22984,17983,16348,14092,null,true,true,true,null,null,null,null,true,true,true]
[73,null,30031,27299,25512,19956,18140,15646,null,true,true,true,null,null,null,null,true,true,true]
[74,null,33486,30441,28439,22255,20234,17453,null,true,true,true,null,null,null,null,true,true,true]
[75,null,37430,34031,31876,24972,22701,19568,null,true,true,true,null,null,null,null,true,true,true]
[76,null,41973,38156,35867,28004,25459,21946,null,true,true,true,null,null,null,null,true,true,true]
[77,null,47142,42858,40311,31450,28590,24647,null,true,true,true,null,null,null,null,true,true,true]
[78,null,52969,48154,45293,35336,32124,27692,null,true,true,true,null,null,null,null,true,true,true]
[79,null,59512,54104,50891,39705,36096,31114,null,true,true,true,null,null,null,null,true,true,true]
[80,null,67345,61223,57589,44925,40845,35206,null,true,true,true,null,null,null,null,true,true,true]
[1,"Hijo",1990,1811,1067,999,908,782,null,true,true,true,null,null,null,null,true,true,true]
[2,"Hijos",3356,3052,1580,1576,1434,1240,null,true,true,true,null,null,null,null,true,true,true]
[3,"Hijos o más",4922,4476,2278,2289,2081,1793,null,true,true,true,null,null,null,null,true,true,true]
[1,"Rider Comp. Maternidad",225,225,225,225,225,225]
[1,"Transplante de organos",300,300,300,300,300,300]
[]
["TARIFAS SEMESTRALES "]
["EDAD"]
[" "," ",null,"DW2","DW3","DW4","DW5","DW6"]
[18,null,{"$f":"+C6*$L$2","v":2067.5300000000002},{"$f":"+D6*$L$2","v":1879.38},1454.3200000000002,1233.3100000000002,1120.95,972.0200000000001]
[19,null,{"$f":"+C7*$L$2","v":2103.04},{"$f":"+D7*$L$2","v":1912.24},1485.5900000000001,1257.69,1143.74,990.57]
[20,null,{"$f":"+C8*$L$2","v":2140.1400000000003},1944.0400000000002,1517.92,1281.54,1166.53,1009.6500000000001]
[21,null,{"$f":"+C9*$L$2","v":2173.5300000000002},1976.9,1549.72,1306.98,1188.26,1028.73]
[22,null,{"$f":"+C10*$L$2","v":2215.4},2011.3500000000001,1583.1100000000001,1332.95,1211.05,1049.4000000000001]
[23,null,{"$f":"+C11*$L$2","v":2249.85},2046.3300000000002,1613.8500000000001,1357.3300000000002,1233.3100000000002,1069.54]
[24,null,{"$f":"+C12*$L$2","v":2288.0100000000002},2079.7200000000003,1648.8300000000002,1382.24,1257.69,1090.74]
[25,null,{"$f":"+C13*$L$2","v":2325.6400000000003},2115.23,1680.1000000000001,1407.15,1279.95,1109.8200000000002]
[26,null,{"$f":"+C14*$L$2","v":2362.21},2147.56,1712.96,1432.0600000000002,1302.21,1129.43]
[27,null,{"$f":"+C15*$L$2","v":2400.3700000000003},2180.9500000000003,1746.3500000000001,1457.5,1327.1200000000001,1150.1000000000001]
[28,null,{"$f":"+C16*$L$2","v":2440.65},2219.11,1788.22,1487.18,1354.15,1172.3600000000001]
[29,null,{"$f":"+C17*$L$2","v":2483.58},2258.86,1827.97,1518.45,1381.18,1196.74]
[30,null,{"$f":"+C18*$L$2","v":2524.92},2295.96,1869.8400000000001,1549.72,1407.15,1220.5900000000001]
[31,null,{"$f":"+C19*$L$2","v":2566.79},2334.12,1910.1200000000001,1578.3400000000001,1435.77,1243.9100000000001]
[32,null,{"$f":"+C20*$L$2","v":2608.6600000000003},2371.2200000000003,1950.93,1610.14,1462.8000000000002,1267.76]
[33,null,{"$f":"+C21*$L$2","v":2679.15},2438,2012.41,1657.3100000000002,1506.26,1304.8600000000001]
[34,null,{"$f":"+C22*$L$2","v":2752.29},2501.6,2072.83,1705.01,1550.25,1342.49]
[35,null,{"$f":"+C23*$L$2","v":2824.9},2567.3200000000002,2133.7800000000002,1752.71,1595.8300000000002,1379.0600000000002]
[36,null,{"$f":"+C24*$L$2","v":2896.4500000000003},2634.63,2196.85,1801.47,1639.8200000000002,1412.45]
[37,null,{"$f":"+C25*$L$2","v":2969.06},2698.76,2257.27,1850.76,1682.22,1450.6100000000001]
[38,null,{"$f":"+C26*$L$2","v":3040.61},2765.54,2320.34,1898.99,1725.68,1492.48]
[39,null,{"$f":"+C27*$L$2","v":3112.69},2830.2000000000003,2383.4100000000003,1948.2800000000002,1771.7900000000002,1530.1100000000001]
[40,null,{"$f":"+C28*$L$2","v":3185.8300000000004},2896.4500000000003,2447.0100000000002,1995.45,1813.66,1567.21]
[41,null,{"$f":"+C29*$L$2","v":3257.38},2960.05,2509.02,2043.15,1858.18,1605.9]
[42,null,{"$f":"+C30*$L$2","v":3329.9900000000002},3026.3,2572.09,2092.44,1902.17,1643.53]
[43,null,{"$f":"+C31*$L$2","v":3460.9},3145.55,2686.04,2180.9500000000003,1982.2,1712.96]
[44,null,{"$f":"+C32*$L$2","v":3594.46},3267.4500000000003,2800.52,2270.52,2065.4100000000003,1782.92]
[45,null,{"$f":"+C33*$L$2","v":3725.9},3386.7000000000003,2913.4100000000003,2358.5,2142.79,1852.88]
[46,null,{"$f":"+C34*$L$2","v":3856.28},3507.54,3028.42,2447.54,2224.4100000000003,1922.8400000000001]
[47,null,{"$f":"+C35*$L$2","v":3988.78},3626.79,3141.84,2538.17,2307.62,1991.74]
[48,null,{"$f":"+C36*$L$2","v":4130.29},3756.11,3260.03,2629.33,2389.77,2065.4100000000003]
[49,null,{"$f":"+C37*$L$2","v":4272.33},3882.78,3375.57,2722.61,2475.63,2136.4300000000003]
[50,null,{"$f":"+C38*$L$2","v":4413.84},4011.57,3491.6400000000003,2815.36,2558.84,2209.04]
[51,null,{"$f":"+C39*$L$2","v":4554.8200000000006},4142.4800000000005,3609.8300000000004,2907.05,2642.05,2281.65]
[52,null,{"$f":"+C40*$L$2","v":4697.3900000000003},4269.68,3729.61,2997.15,2726.32,2354.79]
[53,null,{"$f":"+C41*$L$2","v":4864.34},4420.2,3872.1800000000003,3108.4500000000003,2827.55,2443.3000000000002]
[54,null,{"$f":"+C42*$L$2","v":5028.1100000000006},4569.13,4016.8700000000003,3222.9300000000003,2928.78,2529.69]
[55,null,{"$f":"+C43*$L$2","v":5193.47},4720.18,4163.1500000000005,3331.05,3031.07,2617.1400000000003]
[56,null,{"$f":"+C44*$L$2","v":5358.83},4870.17,4308.9000000000005,3446.59,3130.71,{"$f":"+H44*$L$2","v":2705.65}]
[57,null,{"$f":"+C45*$L$2","v":5525.25},{"$f":"+D45*$L$2","v":5020.6900000000005},4453.59,3557.36,3232.4700000000003,2793.1000000000004]
[58,null,{"$f":"+C46*$L$2","v":5714.9900000000007},{"$f":"+D46*$L$2","v":5196.12},4627.43,3692.51,3358.61,2901.2200000000003]
[59,null,{"$f":"+C47*$L$2","v":5907.38},{"$f":"+D47*$L$2","v":5371.02},4801.2700000000004,3830.84,3485.28,3009.8700000000003]
[60,null,{"$f":"+C48*$L$2","v":6099.77},{"$f":"+D48*$L$2","v":5544.33},4975.1100000000006,3969.7000000000003,3609.8300000000004,3119.5800000000004]
[61,null,{"$f":"+C49*$L$2","v":6323.96},{"$f":"+D49*$L$2","v":5747.85},5188.17,4119.6900000000005,3744.98,3234.59]
[62,null,{"$f":"+C50*$L$2","v":6608.5700000000006},{"$f":"+D50*$L$2","v":6008.6100000000006},5440.9800000000005,4311.55,3919.88,3382.9900000000002]
[63,null,{"$f":"+C51*$L$2","v":6950.42},{"$f":"+D51*$L$2","v":6318.6600000000008},5719.2300000000005,4534.1500000000005,4121.2800000000007,3558.9500000000003]
[64,null,{"$f":"+C52*$L$2","v":7349.51},{"$f":"+D52*$L$2","v":6681.18},6049.9500000000007,4791.2,4356.6000000000004,3760.88]
[65,null,{"$f":"+C53*$L$2","v":7832.34},{"$f":"+D53*$L$2","v":7120.55},6499.39,5132.5200000000004,4666.12,4025.88]
[66,null,{"$f":"+C54*$L$2","v":8393.08},{"$f":"+D54*$L$2","v":7629.35},7024.09,5527.37,5025.46,4331.16]
[67,null,{"$f":"+C55*$L$2","v":9065.65},{"$f":"+D55*$L$2","v":8242.5600000000013},7585.89,5968.33,5426.14,4680.43]
[68,null,{"$f":"+C56*$L$2","v":9833.09},{"$f":"+D56*$L$2","v":8937.3900000000012},8229.3100000000013,6473.42,5884.59,5076.34]
[69,null,{"$f":"+C57*$L$2","v":10735.15},{"$f":"+D57*$L$2","v":9758.36},8984.0300000000007,7072.85,6427.84,5544.33]
[70,null,{"$f":"+C58*$L$2","v":11763.35},{"$f":"+D58*$L$2","v":10694.34},9908.35,7816.4400000000005,7108.89,6126.27]
[71,null,{"$f":"+C59*$L$2","v":12958.5},{"$f":"+D59*$L$2","v":11780.310000000001},11007.04,8611.44,7826.51,6747.43]
[72,null,{"$f":"+C60*$L$2","v":14340.210000000001},{"$f":"+D60*$L$2","v":13035.880000000001},12181.52,9530.99,8664.44,7468.76]
[73,null,{"$f":"+C61*$L$2","v":15916.43},{"$f":"+D61*$L$2","v":14468.470000000001},13521.36,10576.68,9614.2000000000007,8292.380000000001]
[74,null,{"$f":"+C62*$L$2","v":17747.580000000002},{"$f":"+D62*$L$2","v":16133.730000000001},15072.67,11795.150000000001,10724.02,9250.09]
[75,null,{"$f":"+C63*$L$2","v":19837.900000000001},{"$f":"+D63*$L$2","v":18036.43},16894.280000000002,13235.16,12031.53,10371.040000000001]
[76,null,{"$f":"+C64*$L$2","v":22245.690000000002},{"$f":"+D64*$L$2","v":20222.68},19009.510000000002,14842.12,13493.27,11631.380000000001]
[77,null,{"$f":"+C65*$L$2","v":24985.260000000002},{"$f":"+D65*$L$2","v":22714.74},21364.83,16668.5,15152.7,13062.91]
[78,null,{"$f":"+C66*$L$2","v":28073.57},{"$f":"+D66*$L$2","v":25521.620000000003},24005.29,18728.080000000002,17025.72,14676.76]
[79,null,{"$f":"+C67*$L$2","v":31541.360000000001},{"$f":"+D67*$L$2","v":28675.120000000003},26972.23,21043.65,19130.88,16490.420000000002]
[80,null,{"$f":"+C68*$L$2","v":35692.85},{"$f":"+D68*$L$2","v":32448.190000000002},30522.170000000002,23810.25,21647.850000000002,18659.18]
[1,"Hijo",{"$f":"+C69*$L$2","v":1054.7},{"$f":"+D69*$L$2","v":959.83},565.51,529.47,481.24,414.46000000000004]
[2,"Hijos",{"$f":"+C70*$L$2","v":1778.68},{"$f":"+D70*$L$2","v":1617.5600000000002},837.40000000000009,835.28000000000009,760.02,657.2]
[3,"Hijos o más",{"$f":"+C71*$L$2","v":2608.6600000000003},{"$f":"+D71*$L$2","v":2372.2800000000002},1207.3400000000001,1213.17,1102.93,950.29000000000008]
[1,"Rider Comp. Maternidad",{"$f":"+C72*$L$2","v":119.25},119.25,119.25,119.25,119.25,119.25]
[1,"Transplante de organos",{"$f":"+C73*$L$2","v":159},159,159,159,159,159]
[]
["BUPA FLEX - ZONE 3"]
["TARIFAS ANUALES"]
["EDAD"]
[" "," ",null,"DW2","DW3","DW4","DW5","DW6"]
[18,null,4033,3667,2674,2418,2201,1899,null,true,true,true,true,true,true]
[19,null,4101,3731,2733,2466,2240,1938,null,true,true,true,true,true,true]
[20,null,4176,3794,2798,2508,2282,1975,null,true,true,true,true,true,true]
[21,null,4245,3861,2859,2559,2330,2011,null,true,true,true,true,true,true]
[22,null,4318,3926,2925,2606,2372,2051,null,true,true,true,true,true,true]
[23,null,4393,3992,2985,2657,2416,2089,null,true,true,true,true,true,true]
[24,null,4466,4057,3051,2708,2462,2128,null,true,true,true,true,true,true]
[25,null,4537,4127,3114,2758,2506,2165,null,true,true,true,true,true,true]
[26,null,4610,4194,3174,2805,2549,2205,null,true,true,true,true,true,true]
[27,null,4685,4256,3243,2851,2594,2242,null,true,true,true,true,true,true]
[28,null,4769,4333,3321,2911,2647,2291,null,true,true,true,true,true,true]
[29,null,4849,4409,3402,2974,2702,2334,null,true,true,true,true,true,true]
[30,null,4932,4483,3484,3032,2758,2385,null,true,true,true,true,true,true]
[31,null,5011,4557,3567,3089,2808,2430,null,true,true,true,true,true,true]
[32,null,5096,4634,3648,3150,2861,2471,null,true,true,true,true,true,true]
[33,null,5238,4761,3763,3243,2947,2547,null,true,true,true,true,true,true]
[34,null,5378,4887,3885,3333,3032,2621,null,true,true,true,true,true,true]
[35,null,5517,5011,4000,3423,3114,2694,null,true,true,true,true,true,true]
[36,null,5655,5144,4119,3523,3196,2767,null,true,true,true,true,true,true]
[37,null,5798,5271,4235,3611,3282,2842,null,true,true,true,true,true,true]
[38,null,5941,5400,4360,3706,3369,2915,null,true,true,true,true,true,true]
[39,null,6077,5524,4483,3798,3454,2987,null,true,true,true,true,true,true]
[40,null,6221,5655,4609,3893,3540,3061,null,true,true,true,true,true,true]
[41,null,6366,5786,4732,3988,3627,3136,null,true,true,true,true,true,true]
[42,null,6506,5914,4855,4083,3713,3210,null,true,true,true,true,true,true]
[43,null,6766,6150,5080,4256,3873,3345,null,true,true,true,true,true,true]
[44,null,7020,6384,5294,4432,4028,3482,null,true,true,true,true,true,true]
[45,null,7282,6618,5518,4607,4187,3614,null,true,true,true,true,true,true]
[46,null,7537,6851,5736,4779,4342,3753,null,true,true,true,true,true,true]
[47,null,7793,7088,5959,4953,4505,3888,null,true,true,true,true,true,true]
[48,null,8067,7337,6182,5135,4669,4028,null,true,true,true,true,true,true]
[49,null,8347,7585,6410,5315,4834,4171,null,true,true,true,true,true,true]
[50,null,8621,7837,6640,5497,4999,4315,null,true,true,true,true,true,true]
[51,null,8898,8089,6868,5675,5163,4456,null,true,true,true,true,true,true]
[52,null,9175,8340,7093,5859,5328,4597,null,true,true,true,true,true,true]
[53,null,9498,8632,7376,6075,5522,4769,null,true,true,true,true,true,true]
[54,null,9822,8927,7661,6296,5723,4938,null,true,true,true,true,true,true]
[55,null,10142,9219,7940,6511,5917,5111,null,true,true,true,true,true,true]
[56,null,10463,9517,8228,6730,6119,5285,null,true,true,true,true,true,true]
[57,null,10789,9807,8508,6950,6316,5453,null,true,true,true,true,true,true]
[58,null,11159,10144,8846,7221,6564,5663,null,true,true,true,true,true,true]
[59,null,11533,10483,9181,7493,6810,5877,null,true,true,true,true,true,true]
[60,null,11904,10821,9517,7762,7057,6089,null,true,true,true,true,true,true]
[61,null,12353,11229,9941,8050,7320,6315,null,true,true,true,true,true,true]
[62,null,12911,11739,10457,8421,7652,6607,null,true,true,true,true,true,true]
[63,null,13570,12334,11015,8848,8043,6945,null,true,true,true,true,true,true]
[64,null,14348,13045,11648,9367,8514,7345,null,true,true,true,true,true,true]
[65,null,15289,13902,12521,10026,9112,7863,null,true,true,true,true,true,true]
[66,null,16385,14899,13537,10790,9809,8461,null,true,true,true,true,true,true]
[67,null,17705,16093,14644,11662,10604,9138,null,true,true,true,true,true,true]
[68,null,19197,17451,15896,12644,11493,9914,null,true,true,true,true,true,true]
[69,null,20960,19054,17363,13813,12557,10834,null,true,true,true,true,true,true]
[70,null,22988,20898,19155,15271,13883,11965,null,true,true,true,true,true,true]
[71,null,25304,23001,21295,16825,15297,13179,null,true,true,true,true,true,true]
[72,null,28000,25453,23593,18609,16917,14585,null,true,true,true,true,true,true]
[73,null,31092,28264,26207,20656,18778,16190,null,true,true,true,true,true,true]
[74,null,34666,31511,29242,23040,20947,18057,null,true,true,true,true,true,true]
[75,null,38749,35229,32781,25848,23496,20258,null,true,true,true,true,true,true]
[76,null,43453,39500,36885,28978,26345,22714,null,true,true,true,true,true,true]
[77,null,48804,44368,41456,32547,29588,25510,null,true,true,true,true,true,true]
[78,null,54832,49848,46582,36572,33245,28664,null,true,true,true,true,true,true]
[79,null,61609,56011,52336,41091,37354,32205,null,true,true,true,true,true,true]
[80,null,69714,63380,59226,46497,42271,36442,null,true,true,true,true,true,true]
[1,"Hijo",2054,1865,1101,1039,943,811,null,true,true,true,true,true,true]
[2,"Hijos",3471,3152,1647,1630,1482,1270,null,true,true,true,true,true,true]
[3,"Hijos o más",5091,4627,2358,2372,2158,1851,null,true,true,true,true,true,true]
[1,"Rider Comp. Maternidad",225,225,225,225,225,225]
[1,"Transplante de organos",300,300,300,300,300,300]
[]
["TARIFAS SEMESTRALES "]
["EDAD"]
[" "," ",null,"DW2","DW3","DW4","DW5","DW6"]
[18,null,{"$f":"+C151*$L$2","v":2137.4900000000002},{"$f":"+D151*$L$2","v":1943.51},1417.22,1281.54,1166.53,1006.47]
[19,null,{"$f":"+C152*$L$2","v":2173.5300000000002},{"$f":"+D152*$L$2","v":1977.43},1448.49,1306.98,1187.2,1027.1400000000001]
[20,null,{"$f":"+C153*$L$2","v":2213.2800000000002},{"$f":"+D153*$L$2","v":2010.8200000000002},1482.94,1329.24,1209.46,1046.75]
[21,null,{"$f":"+C154*$L$2","v":2249.85},{"$f":"+D154*$L$2","v":2046.3300000000002},1515.27,1356.27,1234.9000000000001,1065.8300000000002]
[22,null,{"$f":"+C155*$L$2","v":2288.54},{"$f":"+D155*$L$2","v":2080.7800000000002},1550.25,1381.18,1257.1600000000001,1087.03]
[23,null,{"$f":"+C156*$L$2","v":2328.29},{"$f":"+D156*$L$2","v":2115.7600000000002},1582.0500000000002,1408.21,1280.48,1107.17]
[24,null,{"$f":"+C157*$L$2","v":2366.98},{"$f":"+D157*$L$2","v":2150.21},1617.03,1435.24,1304.8600000000001,1127.8400000000001]
[25,null,{"$f":"+C158*$L$2","v":2404.61},{"$f":"+D158*$L$2","v":2187.31},1650.42,1461.74,1328.18,1147.45]
[26,null,{"$f":"+C159*$L$2","v":2443.3000000000002},{"$f":"+D159*$L$2","v":2222.8200000000002},1682.22,1486.65,1350.97,1168.6500000000001]
[27,null,{"$f":"+C160*$L$2","v":2483.0500000000002},{"$f":"+D160*$L$2","v":2255.6800000000003},1718.7900000000002,1511.03,1374.8200000000002,1188.26]
[28,null,{"$f":"+C161*$L$2","v":2527.5700000000002},{"$f":"+D161*$L$2","v":2296.4900000000002},1760.13,1542.8300000000002,1402.91,1214.23]
[29,null,{"$f":"+C162*$L$2","v":2569.9700000000003},{"$f":"+D162*$L$2","v":2336.77},1803.0600000000002,1576.22,1432.0600000000002,1237.02]
[30,null,{"$f":"+C163*$L$2","v":2613.96},{"$f":"+D163*$L$2","v":2375.9900000000002},1846.52,1606.96,1461.74,1264.05]
[31,null,{"$f":"+C164*$L$2","v":2655.83},{"$f":"+D164*$L$2","v":2415.21},1890.51,1637.17,1488.24,1287.9000000000001]
[32,null,{"$f":"+C165*$L$2","v":2700.88},{"$f":"+D165*$L$2","v":2456.02},1933.44,1669.5,1516.3300000000002,1309.6300000000001]
[33,null,{"$f":"+C166*$L$2","v":2776.1400000000003},{"$f":"+D166*$L$2","v":2523.33},1994.39,1718.7900000000002,1561.91,1349.91]
[34,null,{"$f":"+C167*$L$2","v":2850.34},{"$f":"+D167*$L$2","v":2590.11},2059.0500000000002,1766.49,1606.96,1389.13]
[35,null,{"$f":"+C168*$L$2","v":2924.01},{"$f":"+D168*$L$2","v":2655.83},2120,1814.19,1650.42,1427.8200000000002]
[36,null,{"$f":"+C169*$L$2","v":2997.15},{"$f":"+D169*$L$2","v":2726.32},2183.0700000000002,1867.19,1693.88,1466.51]
[37,null,{"$f":"+C170*$L$2","v":3072.94},{"$f":"+D170*$L$2","v":2793.63},2244.5500000000002,1913.8300000000002,1739.46,1506.26]
[38,null,{"$f":"+C171*$L$2","v":3148.73},{"$f":"+D171*$L$2","v":2862},2310.8000000000002,1964.18,1785.5700000000002,1544.95]
[39,null,{"$f":"+C172*$L$2","v":3220.81},{"$f":"+D172*$L$2","v":2927.7200000000003},2375.9900000000002,2012.94,1830.6200000000001,1583.1100000000001]
[40,null,{"$f":"+C173*$L$2","v":3297.13},{"$f":"+D173*$L$2","v":2997.15},2442.77,2063.29,1876.2,1622.3300000000002]
[41,null,{"$f":"+C174*$L$2","v":3373.98},{"$f":"+D174*$L$2","v":3066.58},2507.96,2113.6400000000003,1922.3100000000002,1662.0800000000002]
[42,null,{"$f":"+C175*$L$2","v":3448.1800000000003},{"$f":"+D175*$L$2","v":3134.42},2573.15,2163.9900000000002,1967.89,1701.3000000000002]
[43,null,{"$f":"+C176*$L$2","v":3585.98},{"$f":"+D176*$L$2","v":3259.5},2692.4,2255.6800000000003,2052.69,1772.8500000000001]
[44,null,{"$f":"+C177*$L$2","v":3720.6000000000004},{"$f":"+D177*$L$2","v":3383.52},2805.82,2348.96,2134.84,1845.46]
[45,null,{"$f":"+C178*$L$2","v":3859.46},{"$f":"+D178*$L$2","v":3507.54},2924.54,2441.71,2219.11,1915.42]
[46,null,{"$f":"+C179*$L$2","v":3994.61},{"$f":"+D179*$L$2","v":3631.03},3040.08,2532.8700000000003,2301.2600000000002,1989.0900000000001]
[47,null,{"$f":"+C180*$L$2","v":4130.29},{"$f":"+D180*$L$2","v":3756.6400000000003},3158.27,2625.09,2387.65,2060.6400000000003]
[48,null,{"$f":"+C181*$L$2","v":4275.51},{"$f":"+D181*$L$2","v":3888.61},3276.46,2721.55,2474.5700000000002,2134.84]
[49,null,{"$f":"+C182*$L$2","v":4423.91},{"$f":"+D182*$L$2","v":4020.05},3397.3,2816.9500000000003,2562.02,2210.63]
[50,null,{"$f":"+C183*$L$2","v":4569.13},{"$f":"+D183*$L$2","v":4153.6100000000006},3519.2000000000003,2913.4100000000003,2649.4700000000003,2286.9500000000003]
[51,null,{"$f":"+C184*$L$2","v":4715.9400000000005},{"$f":"+D184*$L$2","v":4287.17},3640.04,3007.75,2736.3900000000003,2361.6800000000003]
[52,null,{"$f":"+C185*$L$2","v":4862.75},{"$f":"+D185*$L$2","v":4420.2},3759.29,3105.27,2823.84,2436.4100000000003]
[53,null,{"$f":"+C186*$L$2","v":5033.9400000000005},{"$f":"+D186*$L$2","v":4574.96},3909.28,3219.75,2926.6600000000003,2527.5700000000002]
[54,null,{"$f":"+C187*$L$2","v":5205.66},{"$f":"+D187*$L$2","v":4731.3100000000004},4060.3300000000004,3336.88,3033.19,2617.1400000000003]
[55,null,{"$f":"+C188*$L$2","v":5375.26},{"$f":"+D188*$L$2","v":4886.0700000000006},4208.2,3450.8300000000004,3136.01,2708.83]
[56,null,{"$f":"+C189*$L$2","v":5545.39},{"$f":"+D189*$L$2","v":5044.01},4360.84,3566.9,3243.07,2801.05]
[57,null,{"$f":"+C190*$L$2","v":5718.17},{"$f":"+D190*$L$2","v":5197.71},4509.24,3683.5,3347.48,2890.09]
[58,null,{"$f":"+C191*$L$2","v":5914.27},{"$f":"+D191*$L$2","v":5376.3200000000006},4688.38,3827.13,3478.92,3001.3900000000003]
[59,null,{"$f":"+C192*$L$2","v":6112.4900000000007},{"$f":"+D192*$L$2","v":5555.9900000000007},4865.93,3971.2900000000004,3609.3,3114.81]
[60,null,{"$f":"+C193*$L$2","v":6309.12},{"$f":"+D193*$L$2","v":5735.13},5044.01,4113.8600000000006,3740.21,3227.17]
[61,null,{"$f":"+C194*$L$2","v":6547.09},{"$f":"+D194*$L$2","v":5951.37},5268.7300000000005,4266.5,3879.6000000000004,3346.9500000000003]
[62,null,{"$f":"+C195*$L$2","v":6842.83},{"$f":"+D195*$L$2","v":6221.67},5542.21,4463.13,4055.5600000000004,3501.71]
[63,null,{"$f":"+C196*$L$2","v":7192.1},{"$f":"+D196*$L$2","v":6537.02},5837.9500000000007,4689.4400000000005,4262.79,3680.8500000000004]
[64,null,{"$f":"+C197*$L$2","v":7604.4400000000005},{"$f":"+D197*$L$2","v":6913.85},6173.4400000000005,4964.51,4512.42,3892.8500000000004]
[65,null,{"$f":"+C198*$L$2","v":8103.17},{"$f":"+D198*$L$2","v":7368.06},6636.13,5313.7800000000007,4829.3600000000006,4167.3900000000003]
[66,null,{"$f":"+C199*$L$2","v":8684.0500000000011},{"$f":"+D199*$L$2","v":7896.47},7174.6100000000006,5718.7000000000007,5198.7700000000004,4484.33]
[67,null,{"$f":"+C200*$L$2","v":9383.65},{"$f":"+D200*$L$2","v":8529.2900000000009},7761.3200000000006,6180.8600000000006,5620.12,4843.1400000000003]
[68,null,{"$f":"+C201*$L$2","v":10174.41},{"$f":"+D201*$L$2","v":9249.0300000000007},8424.880000000001,6701.3200000000006,6091.29,5254.42]
[69,null,{"$f":"+C202*$L$2","v":11108.800000000001},{"$f":"+D202*$L$2","v":10098.620000000001},9202.3900000000012,7320.89,6655.21,5742.02]
[70,null,{"$f":"+C203*$L$2","v":12183.640000000001},{"$f":"+D203*$L$2","v":11075.94},10152.15,8093.63,7357.9900000000007,6341.4500000000007]
[71,null,{"$f":"+C204*$L$2","v":13411.12},{"$f":"+D204*$L$2","v":12190.53},11286.35,8917.25,8107.4100000000008,6984.8700000000008]
[72,null,{"$f":"+C205*$L$2","v":14840},{"$f":"+D205*$L$2","v":13490.09},12504.29,9862.77,8966.01,7730.05]
[73,null,{"$f":"+C206*$L$2","v":16478.760000000002},{"$f":"+D206*$L$2","v":14979.92},13889.710000000001,10947.68,9952.34,8580.7000000000007]
[74,null,{"$f":"+C207*$L$2","v":18372.98},{"$f":"+D207*$L$2","v":16700.830000000002},15498.26,12211.2,11101.91,9570.2100000000009]
[75,null,{"$f":"+C208*$L$2","v":20536.97},{"$f":"+D208*$L$2","v":18671.370000000003},17373.93,13699.44,12452.880000000001,10736.74]
[76,null,{"$f":"+C209*$L$2","v":23030.09},{"$f":"+D209*$L$2","v":20935},19549.05,15358.34,13962.85,12038.42]
[77,null,{"$f":"+C210*$L$2","v":25866.120000000003},{"$f":"+D210*$L$2","v":23515.040000000001},21971.68,17249.91,15681.640000000001,13520.300000000001]
[78,null,{"$f":"+C211*$L$2","v":29060.960000000003},{"$f":"+D211*$L$2","v":26419.440000000002},24688.460000000003,19383.16,17619.850000000002,15191.92]
[79,null,{"$f":"+C212*$L$2","v":32652.77},{"$f":"+D212*$L$2","v":29685.83},27738.080000000002,21778.23,19797.620000000003,17068.650000000001]
[80,null,{"$f":"+C213*$L$2","v":36948.42},{"$f":"+D213*$L$2","v":33591.4},31389.780000000002,24643.41,22403.63,19314.260000000002]
[1,"Hijo",{"$f":"+C214*$L$2","v":1088.6200000000001},{"$f":"+D214*$L$2","v":988.45},583.53,550.67000000000007,499.79,429.83000000000004]
[2,"Hijos",{"$f":"+C215*$L$2","v":1839.63},{"$f":"+D215*$L$2","v":1670.5600000000002},872.91000000000008,863.90000000000009,785.46,673.1]
[3,"Hijos o más",{"$f":"+C216*$L$2","v":2698.23},{"$f":"+D216*$L$2","v":2452.31},1249.74,1257.1600000000001,1143.74,981.03000000000009]
[1,"Rider Comp. Maternidad",{"$f":"+C217*$L$2","v":119.25},{"$f":"+D217*$L$2","v":119.25},119.25,119.25,119.25,119.25]
[1,"Transplante de organos",{"$f":"+C218*$L$2","v":159},{"$f":"+D218*$L$2","v":159},159,159,159,159]
[]
["BUPA FLEX - ZONE 4"]
["TARIFAS ANUALES"]
["EDAD"]
[" "," ",null,"DW2","DW3","DW4","DW5","DW6"]
[18,null,3387,3081,2391,2027,1841,1595,null,true,true,true,true,true,true]
[19,null,3451,3133,2441,2065,1879,1620,null,true,true,true,true,true,true]
[20,null,3506,3190,2489,2108,1913,1654,null,true,true,true,true,true,true]
[21,null,3570,3245,2543,2147,1951,1688,null,true,true,true,true,true,true]
[22,null,3628,3299,2599,2187,1993,1722,null,true,true,true,true,true,true]
[23,null,3691,3356,2652,2229,2027,1755,null,true,true,true,true,true,true]
[24,null,3750,3412,2705,2272,2065,1788,null,true,true,true,true,true,true]
[25,null,3812,3468,2758,2310,2100,1822,null,true,true,true,true,true,true]
[26,null,3874,3521,2813,2354,2143,1854,null,true,true,true,true,true,true]
[27,null,3937,3577,2869,2397,2181,1885,null,true,true,true,true,true,true]
[28,null,4003,3642,2935,2446,2224,1928,null,true,true,true,true,true,true]
[29,null,4073,3706,3001,2497,2270,1963,null,true,true,true,true,true,true]
[30,null,4145,3765,3067,2543,2310,2000,null,true,true,true,true,true,true]
[31,null,4212,3831,3132,2593,2358,2040,null,true,true,true,true,true,true]
[32,null,4284,3897,3199,2646,2401,2077,null,true,true,true,true,true,true]
[33,null,4403,4002,3299,2720,2476,2137,null,true,true,true,true,true,true]
[34,null,4519,4109,3401,2799,2543,2202,null,true,true,true,true,true,true]
[35,null,4636,4220,3501,2875,2614,2261,null,true,true,true,true,true,true]
[36,null,4756,4325,3600,2956,2684,2321,null,true,true,true,true,true,true]
[37,null,4873,4430,3699,3030,2755,2383,null,true,true,true,true,true,true]
[38,null,4993,4537,3802,3111,2823,2446,null,true,true,true,true,true,true]
[39,null,5107,4644,3906,3190,2897,2508,null,true,true,true,true,true,true]
[40,null,5228,4752,4009,3267,2972,2572,null,true,true,true,true,true,true]
[41,null,5346,4860,4115,3347,3042,2631,null,true,true,true,true,true,true]
[42,null,5464,4967,4222,3425,3113,2696,null,true,true,true,true,true,true]
[43,null,5681,5165,4406,3573,3247,2807,null,true,true,true,true,true,true]
[44,null,5895,5359,4588,3718,3384,2924,null,true,true,true,true,true,true]
[45,null,6114,5560,4775,3866,3514,3038,null,true,true,true,true,true,true]
[46,null,6328,5756,4961,4015,3647,3152,null,true,true,true,true,true,true]
[47,null,6547,5948,5149,4161,3783,3266,null,true,true,true,true,true,true]
[48,null,6781,6165,5341,4314,3920,3385,null,true,true,true,true,true,true]
[49,null,7008,6373,5535,4464,4058,3506,null,true,true,true,true,true,true]
[50,null,7243,6581,5726,4615,4197,3626,null,true,true,true,true,true,true]
[51,null,7475,6796,5922,4766,4333,3745,null,true,true,true,true,true,true]
[52,null,7707,7006,6114,4919,4469,3866,null,true,true,true,true,true,true]
[53,null,7978,7251,6352,5101,4636,4007,null,true,true,true,true,true,true]
[54,null,8243,7496,6589,5285,4803,4151,null,true,true,true,true,true,true]
[55,null,8512,7740,6830,5467,4969,4293,null,true,true,true,true,true,true]
[56,null,8780,7983,7066,5651,5136,4433,null,true,true,true,true,true,true]
[57,null,9050,8227,7302,5834,5303,4575,null,true,true,true,true,true,true]
[58,null,9366,8512,7588,6058,5512,4755,null,true,true,true,true,true,true]
[59,null,9679,8798,7872,6285,5715,4932,null,true,true,true,true,true,true]
[60,null,9992,9086,8154,6512,5923,5113,null,true,true,true,true,true,true]
[61,null,10375,9432,8506,6757,6146,5303,null,true,true,true,true,true,true]
[62,null,10846,9860,8920,7066,6422,5542,null,true,true,true,true,true,true]
[63,null,11403,10365,9375,7429,6752,5828,null,true,true,true,true,true,true]
[64,null,12048,10952,9913,7855,7144,6167,null,true,true,true,true,true,true]
[65,null,12841,11672,10660,8417,7654,6600,null,true,true,true,true,true,true]
[66,null,13759,12512,11517,9067,8242,7097,null,true,true,true,true,true,true]
[67,null,14869,13517,12439,9791,8900,7676,null,true,true,true,true,true,true]
[68,null,16119,14651,13487,10613,9649,8321,null,true,true,true,true,true,true]
[69,null,17603,16002,14722,11592,10539,9090,null,true,true,true,true,true,true]
[70,null,19298,17543,16247,12818,11654,10043,null,true,true,true,true,true,true]
[71,null,21243,19313,18046,14112,12828,11064,null,true,true,true,true,true,true]
[72,null,23512,21378,19965,15622,14201,12243,null,true,true,true,true,true,true]
[73,null,26097,23726,22156,17340,15762,13587,null,true,true,true,true,true,true]
[74,null,29110,26463,24706,19332,17575,15157,null,true,true,true,true,true,true]
[75,null,32532,29573,27678,21694,19724,17001,null,true,true,true,true,true,true]
[76,null,36483,33164,31142,24326,22112,19064,null,true,true,true,true,true,true]
[77,null,40974,37251,35007,27318,24837,21414,null,true,true,true,true,true,true]
[78,null,46035,41852,39334,30696,27906,24056,null,true,true,true,true,true,true]
[79,null,51727,47026,44193,34491,31354,27029,null,true,true,true,true,true,true]
[80,null,58533,53209,50009,39027,35482,30586,null,true,true,true,true,true,true]
[1,"Hijo",1729,1571,932,873,794,682,null,true,true,true,true,true,true]
[2,"Hijos",2910,2649,1380,1366,1243,1070,null,true,true,true,true,true,true]
[3,"Hijos o más",4275,3885,1982,1993,1810,1553,null,true,true,true,true,true,true]
[1,"Rider Comp. Maternidad",225,225,225,225,225,225]
[1,"Transplante de organos",300,300,300,300,300,300]
[]
["TARIFAS SEMESTRALES "]
["EDAD"]
[" "," ",null,"DW2","DW3","DW4","DW5","DW6"]
[18,null,{"$f":"+C296*$L$2","v":1795.1100000000001},{"$f":"+D296*$L$2","v":1632.93},1267.23,1074.31,975.73,845.35]
[19,null,{"$f":"+C297*$L$2","v":1829.0300000000002},{"$f":"+D297*$L$2","v":1660.49},1293.73,1094.45,995.87,858.6]
[20,null,{"$f":"+C298*$L$2","v":1858.18},{"$f":"+D298*$L$2","v":1690.7},1319.17,1117.24,1013.8900000000001,876.62]
[21,null,{"$f":"+C299*$L$2","v":1892.1000000000001},{"$f":"+D299*$L$2","v":1719.8500000000001},1347.79,1137.9100000000001,1034.03,894.6400000000001]
[22,null,{"$f":"+C300*$L$2","v":1922.8400000000001},{"$f":"+D300*$L$2","v":1748.47},1377.47,1159.1100000000001,1056.29,912.66000000000008]
[23,null,{"$f":"+C301*$L$2","v":1956.23},{"$f":"+D301*$L$2","v":1778.68},1405.5600000000002,1181.3700000000001,1074.31,930.15000000000009]
[24,null,{"$f":"+C302*$L$2","v":1987.5},{"$f":"+D302*$L$2","v":1808.3600000000001},1433.65,1204.1600000000001,1094.45,947.6400000000001]
[25,null,{"$f":"+C303*$L$2","v":2020.3600000000001},{"$f":"+D303*$L$2","v":1838.0400000000002},1461.74,1224.3,1113,965.66000000000008]
[26,null,{"$f":"+C304*$L$2","v":2053.2200000000003},{"$f":"+D304*$L$2","v":1866.13},1490.89,1247.6200000000001,1135.79,982.62]
[27,null,{"$f":"+C305*$L$2","v":2086.61},{"$f":"+D305*$L$2","v":1895.8100000000002},1520.5700000000002,1270.4100000000001,1155.93,999.05000000000007]
[28,null,{"$f":"+C306*$L$2","v":2121.59},{"$f":"+D306*$L$2","v":1930.26},1555.5500000000002,1296.3800000000001,1178.72,1021.84]
[29,null,{"$f":"+C307*$L$2","v":2158.69},{"$f":"+D307*$L$2","v":1964.18},1590.53,1323.41,1203.1000000000001,1040.3900000000001]
[30,null,{"$f":"+C308*$L$2","v":2196.85},{"$f":"+D308*$L$2","v":1995.45},1625.51,1347.79,1224.3,1060]
[31,null,{"$f":"+C309*$L$2","v":2232.36},{"$f":"+D309*$L$2","v":2030.43},1659.96,1374.29,1249.74,1081.2]
[32,null,{"$f":"+C310*$L$2","v":2270.52},{"$f":"+D310*$L$2","v":2065.4100000000003},1695.47,1402.38,1272.53,1100.81]
[33,null,{"$f":"+C311*$L$2","v":2333.59},{"$f":"+D311*$L$2","v":2121.06},1748.47,1441.6000000000001,1312.28,1132.6100000000001]
[34,null,{"$f":"+C312*$L$2","v":2395.0700000000002},{"$f":"+D312*$L$2","v":2177.77},1802.5300000000002,1483.47,1347.79,1167.06]
[35,null,{"$f":"+C313*$L$2","v":2457.08},{"$f":"+D313*$L$2","v":2236.6},1855.5300000000002,1523.75,1385.42,1198.3300000000002]
[36,null,{"$f":"+C314*$L$2","v":2520.6800000000003},{"$f":"+D314*$L$2","v":2292.25},1908,1566.68,1422.52,1230.1300000000001]
[37,null,{"$f":"+C315*$L$2","v":2582.69},{"$f":"+D315*$L$2","v":2347.9},1960.47,1605.9,1460.15,1262.99]
[38,null,{"$f":"+C316*$L$2","v":2646.29},{"$f":"+D316*$L$2","v":2404.61},2015.0600000000002,1648.8300000000002,1496.19,1296.3800000000001]
[39,null,{"$f":"+C317*$L$2","v":2706.71},{"$f":"+D317*$L$2","v":2461.3200000000002},2070.1800000000003,1690.7,1535.41,1329.24]
[40,null,{"$f":"+C318*$L$2","v":2770.84},{"$f":"+D318*$L$2","v":2518.56},2124.77,1731.51,1575.16,1363.16]
[41,null,{"$f":"+C319*$L$2","v":2833.38},{"$f":"+D319*$L$2","v":2575.8000000000002},2180.9500000000003,1773.91,1612.26,1394.43]
[42,null,{"$f":"+C320*$L$2","v":2895.92},{"$f":"+D320*$L$2","v":2632.51},2237.6600000000003,1815.25,1649.89,1428.88]
[43,null,{"$f":"+C321*$L$2","v":3010.9300000000003},{"$f":"+D321*$L$2","v":2737.4500000000003},2335.1800000000003,1893.69,1720.91,1487.71]
[44,null,{"$f":"+C322*$L$2","v":3124.3500000000004},{"$f":"+D322*$L$2","v":2840.27},2431.6400000000003,1970.5400000000002,1793.52,1549.72]
[45,null,{"$f":"+C323*$L$2","v":3240.42},{"$f":"+D323*$L$2","v":2946.8},2530.75,2048.98,1862.42,1610.14]
[46,null,{"$f":"+C324*$L$2","v":3353.84},{"$f":"+D324*$L$2","v":3050.6800000000003},2629.33,2127.9500000000003,1932.91,1670.5600000000002]
[47,null,{"$f":"+C325*$L$2","v":3469.9100000000003},{"$f":"+D325*$L$2","v":3152.44},2728.9700000000003,2205.33,2004.99,1730.98]
[48,null,{"$f":"+C326*$L$2","v":3593.9300000000003},{"$f":"+D326*$L$2","v":3267.4500000000003},2830.73,2286.42,2077.6,1794.0500000000002]
[49,null,{"$f":"+C327*$L$2","v":3714.2400000000002},{"$f":"+D327*$L$2","v":3377.69},2933.55,2365.92,2150.7400000000002,1858.18]
[50,null,{"$f":"+C328*$L$2","v":3838.7900000000004},{"$f":"+D328*$L$2","v":3487.9300000000003},3034.78,2445.9500000000003,2224.4100000000003,1921.7800000000002]
[51,null,{"$f":"+C329*$L$2","v":3961.75},{"$f":"+D329*$L$2","v":3601.88},3138.6600000000003,2525.98,2296.4900000000002,1984.8500000000001]
[52,null,{"$f":"+C330*$L$2","v":4084.71},{"$f":"+D330*$L$2","v":3713.1800000000003},3240.42,2607.0700000000002,2368.5700000000002,2048.98]
[53,null,{"$f":"+C331*$L$2","v":4228.34},{"$f":"+D331*$L$2","v":3843.03},3366.56,2703.53,2457.08,2123.71]
[54,null,{"$f":"+C332*$L$2","v":4368.79},{"$f":"+D332*$L$2","v":3972.88},3492.17,2801.05,2545.59,2200.0300000000002]
[55,null,{"$f":"+C333*$L$2","v":4511.3600000000006},{"$f":"+D333*$L$2","v":4102.2},3619.9,2897.51,2633.57,2275.29]
[56,null,{"$f":"+C334*$L$2","v":4653.4000000000005},{"$f":"+D334*$L$2","v":4230.99},3744.98,2995.03,2722.08,2349.4900000000002]
[57,null,{"$f":"+C335*$L$2","v":4796.5},{"$f":"+D335*$L$2","v":4360.3100000000004},3870.0600000000004,3092.02,2810.59,2424.75]
[58,null,{"$f":"+C336*$L$2","v":4963.9800000000005},{"$f":"+D336*$L$2","v":4511.3600000000006},4021.6400000000003,3210.7400000000002,2921.36,2520.15]
[59,null,{"$f":"+C337*$L$2","v":5129.87},{"$f":"+D337*$L$2","v":4662.9400000000005},4172.16,3331.05,3028.9500000000003,2613.96]
[60,null,{"$f":"+C338*$L$2","v":5295.76},{"$f":"+D338*$L$2","v":4815.58},4321.62,3451.36,3139.19,2709.8900000000003]
[61,null,{"$f":"+C339*$L$2","v":5498.75},{"$f":"+D339*$L$2","v":4998.96},4508.18,3581.21,3257.38,2810.59]
[62,null,{"$f":"+C340*$L$2","v":5748.38},{"$f":"+D340*$L$2","v":5225.8},4727.6000000000004,3744.98,3403.6600000000003,2937.26]
[63,null,{"$f":"+C341*$L$2","v":6043.59},{"$f":"+D341*$L$2","v":5493.4500000000007},4968.75,3937.3700000000003,3578.5600000000004,3088.84]
[64,null,{"$f":"+C342*$L$2","v":6385.4400000000005},{"$f":"+D342*$L$2","v":5804.56},5253.89,4163.1500000000005,3786.32,3268.51]
[65,null,{"$f":"+C343*$L$2","v":6805.7300000000005},{"$f":"+D343*$L$2","v":6186.1600000000008},5649.8,4461.01,4056.6200000000003,3498]
[66,null,{"$f":"+C344*$L$2","v":7292.27},{"$f":"+D344*$L$2","v":6631.3600000000006},6104.01,4805.51,4368.26,3761.4100000000003]
[67,null,{"$f":"+C345*$L$2","v":7880.5700000000006},{"$f":"+D345*$L$2","v":7164.01},6592.67,5189.2300000000005,4717,4068.28]
[68,null,{"$f":"+C346*$L$2","v":8543.07},{"$f":"+D346*$L$2","v":7765.0300000000007},7148.1100000000006,5624.89,5113.97,4410.13]
[69,null,{"$f":"+C347*$L$2","v":9329.59},{"$f":"+D347*$L$2","v":8481.0600000000013},7802.6600000000008,6143.76,5585.67,4817.7]
[70,null,{"$f":"+C348*$L$2","v":10227.94},{"$f":"+D348*$L$2","v":9297.7900000000009},8610.91,6793.54,6176.62,5322.79]
[71,null,{"$f":"+C349*$L$2","v":11258.79},{"$f":"+D349*$L$2","v":10235.890000000001},9564.380000000001,7479.3600000000006,6798.84,5863.92]
[72,null,{"$f":"+C350*$L$2","v":12461.36},{"$f":"+D350*$L$2","v":11330.34},10581.45,8279.66,7526.5300000000007,6488.79]
[73,null,{"$f":"+C351*$L$2","v":13831.41},{"$f":"+D351*$L$2","v":12574.78},11742.68,9190.2000000000007,8353.86,7201.1100000000006]
[74,null,{"$f":"+C352*$L$2","v":15428.300000000001},{"$f":"+D352*$L$2","v":14025.390000000001},13094.18,10245.960000000001,9314.75,8033.21]
[75,null,{"$f":"+C353*$L$2","v":17241.96},{"$f":"+D353*$L$2","v":15673.69},14669.34,11497.82,10453.720000000001,9010.5300000000007]
[76,null,{"$f":"+C354*$L$2","v":19335.990000000002},{"$f":"+D354*$L$2","v":17576.920000000002},16505.260000000002,12892.78,11719.36,10103.92]
[77,null,{"$f":"+C355*$L$2","v":21716.22},{"$f":"+D355*$L$2","v":19743.030000000002},18553.71,14478.54,13163.61,11349.42]
[78,null,{"$f":"+C356*$L$2","v":24398.550000000003},{"$f":"+D356*$L$2","v":22181.56},20847.02,16268.880000000001,14790.18,12749.68]
[79,null,{"$f":"+C357*$L$2","v":27415.31},{"$f":"+D357*$L$2","v":24923.780000000002},23422.29,18280.23,16617.620000000003,14325.37]
[80,null,{"$f":"+C358*$L$2","v":31022.49},{"$f":"+D358*$L$2","v":28200.77},26504.77,20684.310000000001,18805.46,16210.58]
[1,"Hijo",{"$f":"+C359*$L$2","v":916.37},{"$f":"+D359*$L$2","v":832.63},493.96000000000004,462.69,420.82,361.46000000000004]
[2,"Hijos",{"$f":"+C360*$L$2","v":1542.3000000000002},{"$f":"+D360*$L$2","v":1403.97},731.40000000000009,723.98,658.79000000000008,567.1]
[3,"Hijos o más",{"$f":"+C361*$L$2","v":2265.75},{"$f":"+D361*$L$2","v":2059.0500000000002},1050.46,1056.29,959.30000000000007,823.09]
[1,"Rider Comp. Maternidad",{"$f":"+C362*$L$2","v":119.25},{"$f":"+D362*$L$2","v":119.25},119.25,119.25,119.25,119.25]
[1,"Transplante de organos",{"$f":"+C363*$L$2","v":159},{"$f":"+D363*$L$2","v":159},159,159,159,159]
[]
["BUPA FLEX - ZONE 5"]
["TARIFAS ANUALES"]
["EDAD"]
[" "," ",null,"DW2","DW3","DW4","DW5","DW6"]
[18,null,1678,1525,1180,1009,915,790,null,true,true,true,true,true,true]
[19,null,1707,1552,1205,1023,932,807,null,true,true,true,true,true,true]
[20,null,1737,1577,1231,1045,948,823,null,true,true,true,true,true,true]
[21,null,1766,1606,1258,1062,969,837,null,true,true,true,true,true,true]
[22,null,1795,1634,1285,1082,986,856,null,true,true,true,true,true,true]
[23,null,1824,1660,1313,1104,1003,873,null,true,true,true,true,true,true]
[24,null,1853,1685,1337,1126,1020,887,null,true,true,true,true,true,true]
[25,null,1884,1715,1366,1142,1041,906,null,true,true,true,true,true,true]
[26,null,1915,1741,1390,1163,1058,922,null,true,true,true,true,true,true]
[27,null,1943,1769,1420,1186,1077,939,null,true,true,true,true,true,true]
[28,null,1981,1801,1452,1207,1099,953,null,true,true,true,true,true,true]
[29,null,2014,1830,1489,1233,1122,977,null,true,true,true,true,true,true]
[30,null,2048,1864,1521,1260,1146,995,null,true,true,true,true,true,true]
[31,null,2083,1895,1553,1284,1169,1014,null,true,true,true,true,true,true]
[32,null,2119,1928,1587,1307,1191,1033,null,true,true,true,true,true,true]
[33,null,2179,1981,1636,1347,1226,1062,null,true,true,true,true,true,true]
[34,null,2236,2031,1684,1385,1260,1093,null,true,true,true,true,true,true]
[35,null,2294,2084,1734,1425,1296,1126,null,true,true,true,true,true,true]
[36,null,2352,2139,1782,1460,1332,1156,null,true,true,true,true,true,true]
[37,null,2410,2188,1827,1500,1366,1186,null,true,true,true,true,true,true]
[38,null,2469,2245,1882,1542,1401,1217,null,true,true,true,true,true,true]
[39,null,2529,2299,1933,1581,1436,1247,null,true,true,true,true,true,true]
[40,null,2587,2352,1987,1619,1474,1276,null,true,true,true,true,true,true]
[41,null,2646,2406,2038,1658,1508,1309,null,true,true,true,true,true,true]
[42,null,2705,2460,2091,1698,1544,1341,null,true,true,true,true,true,true]
[43,null,2813,2556,2182,1769,1607,1397,null,true,true,true,true,true,true]
[44,null,2921,2655,2273,1844,1674,1452,null,true,true,true,true,true,true]
[45,null,3026,2751,2366,1914,1738,1509,null,true,true,true,true,true,true]
[46,null,3134,2851,2459,1987,1805,1566,null,true,true,true,true,true,true]
[47,null,3243,2947,2550,2058,1869,1623,null,true,true,true,true,true,true]
[48,null,3358,3051,2645,2133,1938,1683,null,true,true,true,true,true,true]
[49,null,3472,3155,2743,2206,2007,1742,null,true,true,true,true,true,true]
[50,null,3585,3258,2838,2284,2075,1801,null,true,true,true,true,true,true]
[51,null,3698,3363,2935,2359,2143,1861,null,true,true,true,true,true,true]
[52,null,3810,3470,3032,2437,2215,1919,null,true,true,true,true,true,true]
[53,null,3946,3589,3150,2526,2295,1991,null,true,true,true,true,true,true]
[54,null,4081,3710,3265,2614,2378,2064,null,true,true,true,true,true,true]
[55,null,4216,3833,3382,2705,2460,2135,null,true,true,true,true,true,true]
[56,null,4352,3956,3500,2795,2540,2206,null,true,true,true,true,true,true]
[57,null,4486,4077,3618,2887,2624,2279,null,true,true,true,true,true,true]
[58,null,4642,4219,3758,2999,2726,2366,null,true,true,true,true,true,true]
[59,null,4794,4359,3901,3114,2830,2455,null,true,true,true,true,true,true]
[60,null,4952,4499,4039,3227,2930,2540,null,true,true,true,true,true,true]
[61,null,5140,4673,4213,3347,3044,2641,null,true,true,true,true,true,true]
[62,null,5369,4883,4420,3500,3180,2762,null,true,true,true,true,true,true]
[63,null,5649,5135,4648,3683,3346,2905,null,true,true,true,true,true,true]
[64,null,5973,5430,4913,3891,3540,3070,null,true,true,true,true,true,true]
[65,null,6362,5782,5281,4166,3787,3289,null,true,true,true,true,true,true]
[66,null,6823,6201,5704,4489,4081,3533,null,true,true,true,true,true,true]
[67,null,7364,6697,6163,4849,4408,3823,null,true,true,true,true,true,true]
[68,null,7989,7263,6683,5255,4781,4147,null,true,true,true,true,true,true]
[69,null,8719,7927,7296,5740,5222,4525,null,true,true,true,true,true,true]
[70,null,9564,8697,8051,6352,5773,4999,null,true,true,true,true,true,true]
[71,null,10528,9575,8943,6993,6357,5511,null,true,true,true,true,true,true]
[72,null,11650,10591,9898,7740,7038,6094,null,true,true,true,true,true,true]
[73,null,12940,11764,10985,8592,7810,6771,null,true,true,true,true,true,true]
[74,null,14428,13117,12253,9580,8708,7550,null,true,true,true,true,true,true]
[75,null,16131,14666,13722,10753,9778,8473,null,true,true,true,true,true,true]
[76,null,18088,16442,15444,12059,10961,9500,null,true,true,true,true,true,true]
[77,null,20313,18469,17359,13542,12310,10666,null,true,true,true,true,true,true]
[78,null,22823,20749,19502,15215,13830,11989,null,true,true,true,true,true,true]
[79,null,25646,23317,21911,17096,15542,13467,null,true,true,true,true,true,true]
[80,null,29019,26384,24794,19342,17585,15240,null,true,true,true,true,true,true]
[1,"Hijo",859,784,463,435,394,341,null,true,true,true,true,true,true]
[2,"Hijos",1446,1315,687,680,618,536,null,true,true,true,true,true,true]
[3,"Hijos o más",2120,1928,983,986,898,777,null,true,true,true,true,true,true]
[1,"Rider Comp. Maternidad",225,225,225,225,225,225]
[1,"Transplante de organos",300,300,300,300,300,300]
[]
["TARIFAS SEMESTRALES "]
["EDAD"]
[" "," ",null,"DW2","DW3","DW4","DW5","DW6"]
[18,null,{"$f":"+C441*$L$2","v":889.34},{"$f":"+D441*$L$2","v":808.25},625.4,534.77,484.95000000000005,418.70000000000005]
[19,null,{"$f":"+C442*$L$2","v":904.71},{"$f":"+D442*$L$2","v":822.56000000000006},638.65,542.19000000000005,493.96000000000004,427.71000000000004]
[20,null,{"$f":"+C443*$L$2","v":920.61},{"$f":"+D443*$L$2","v":835.81000000000006},652.43000000000006,553.85,502.44,436.19]
[21,null,{"$f":"+C444*$L$2","v":935.98},{"$f":"+D444*$L$2","v":851.18000000000006},666.74,562.86,513.57000000000005,443.61]
[22,null,{"$f":"+C445*$L$2","v":951.35},{"$f":"+D445*$L$2","v":866.0200000000001},681.05000000000007,573.46,522.58000000000004,453.68]
[23,null,{"$f":"+C446*$L$2","v":966.72},{"$f":"+D446*$L$2","v":879.80000000000007},695.89,585.12,531.59,462.69]
[24,null,{"$f":"+C447*$L$2","v":982.09},{"$f":"+D447*$L$2","v":893.05000000000007},708.61,596.78000000000009,540.6,470.11]
[25,null,{"$f":"+C448*$L$2","v":998.5200000000001},{"$f":"+D448*$L$2","v":908.95},723.98,605.26,551.73,480.18]
[26,null,{"$f":"+C449*$L$2","v":1014.95},{"$f":"+D449*$L$2","v":922.73},736.7,616.39,560.74,488.66]
[27,null,{"$f":"+C450*$L$2","v":1029.79},{"$f":"+D450*$L$2","v":937.57},752.6,628.58000000000004,570.81000000000006,497.67]
[28,null,{"$f":"+C451*$L$2","v":1049.93},{"$f":"+D451*$L$2","v":954.53000000000009},769.56000000000006,639.71,582.47,505.09000000000003]
[29,null,{"$f":"+C452*$L$2","v":1067.42},{"$f":"+D452*$L$2","v":969.90000000000009},789.17000000000007,653.49,594.66000000000008,517.81000000000006]
[30,null,{"$f":"+C453*$L$2","v":1085.44},{"$f":"+D453*$L$2","v":987.92000000000007},806.13,667.80000000000007,607.38,527.35]
[31,null,{"$f":"+C454*$L$2","v":1103.99},{"$f":"+D454*$L$2","v":1004.35},823.09,680.52,619.57000000000005,537.42000000000007]
[32,null,{"$f":"+C455*$L$2","v":1123.0700000000002},{"$f":"+D455*$L$2","v":1021.84},841.11,692.71,631.23,547.49]
[33,null,{"$f":"+C456*$L$2","v":1154.8700000000001},{"$f":"+D456*$L$2","v":1049.93},867.08,713.91000000000008,649.78000000000009,562.86]
[34,null,{"$f":"+C457*$L$2","v":1185.0800000000002},{"$f":"+D457*$L$2","v":1076.43},892.5200000000001,734.05000000000007,667.80000000000007,579.29000000000008]
[35,null,{"$f":"+C458*$L$2","v":1215.8200000000002},{"$f":"+D458*$L$2","v":1104.52},919.0200000000001,755.25,686.88,596.78000000000009]
[36,null,{"$f":"+C459*$L$2","v":1246.5600000000002},{"$f":"+D459*$L$2","v":1133.67},944.46,773.80000000000007,705.96,612.68000000000006]
[37,null,{"$f":"+C460*$L$2","v":1277.3},{"$f":"+D460*$L$2","v":1159.6400000000001},968.31000000000006,795,723.98,628.58000000000004]
[38,null,{"$f":"+C461*$L$2","v":1308.5700000000002},{"$f":"+D461*$L$2","v":1189.8500000000001},997.46,817.26,742.53000000000009,645.01]
[39,null,{"$f":"+C462*$L$2","v":1340.3700000000001},{"$f":"+D462*$L$2","v":1218.47},1024.49,837.93000000000006,761.08,660.91000000000008]
[40,null,{"$f":"+C463*$L$2","v":1371.1100000000001},{"$f":"+D463*$L$2","v":1246.5600000000002},1053.1100000000001,858.07,781.22,676.28000000000009]
[41,null,{"$f":"+C464*$L$2","v":1402.38},{"$f":"+D464*$L$2","v":1275.18},1080.1400000000001,878.74,799.24,693.77]
[42,null,{"$f":"+C465*$L$2","v":1433.65},{"$f":"+D465*$L$2","v":1303.8},1108.23,899.94,818.32,710.73]
[43,null,{"$f":"+C466*$L$2","v":1490.89},{"$f":"+D466*$L$2","v":1354.68},1156.46,937.57,851.71,740.41000000000008]
[44,null,{"$f":"+C467*$L$2","v":1548.13},{"$f":"+D467*$L$2","v":1407.15},1204.69,977.32,887.22,769.56000000000006]
[45,null,{"$f":"+C468*$L$2","v":1603.78},{"$f":"+D468*$L$2","v":1458.03},1253.98,1014.4200000000001,921.1400000000001,799.7700000000001]
[46,null,{"$f":"+C469*$L$2","v":1661.02},{"$f":"+D469*$L$2","v":1511.03},1303.27,1053.1100000000001,956.65000000000009,829.98]
[47,null,{"$f":"+C470*$L$2","v":1718.7900000000002},{"$f":"+D470*$L$2","v":1561.91},1351.5,1090.74,990.57,860.19]
[48,null,{"$f":"+C471*$L$2","v":1779.74},{"$f":"+D471*$L$2","v":1617.03},1401.8500000000001,1130.49,1027.1400000000001,891.99]
[49,null,{"$f":"+C472*$L$2","v":1840.16},{"$f":"+D472*$L$2","v":1672.15},1453.79,1169.18,1063.71,923.26]
[50,null,{"$f":"+C473*$L$2","v":1900.0500000000002},{"$f":"+D473*$L$2","v":1726.74},1504.14,1210.52,1099.75,954.53000000000009]
[51,null,{"$f":"+C474*$L$2","v":1959.94},{"$f":"+D474*$L$2","v":1782.39},1555.5500000000002,1250.27,1135.79,986.33]
[52,null,{"$f":"+C475*$L$2","v":2019.3000000000002},{"$f":"+D475*$L$2","v":1839.1000000000001},1606.96,1291.6100000000001,1173.95,1017.07]
[53,null,{"$f":"+C476*$L$2","v":2091.38},{"$f":"+D476*$L$2","v":1902.17},1669.5,1338.78,1216.3500000000001,1055.23]
[54,null,{"$f":"+C477*$L$2","v":2162.9300000000003},{"$f":"+D477*$L$2","v":1966.3000000000002},1730.45,1385.42,1260.3400000000001,1093.92]
[55,null,{"$f":"+C478*$L$2","v":2234.48},{"$f":"+D478*$L$2","v":2031.49},1792.46,1433.65,1303.8,1131.55]
[56,null,{"$f":"+C479*$L$2","v":2306.56},{"$f":"+D479*$L$2","v":2096.6800000000003},1855,1481.3500000000001,1346.2,1169.18]
[57,null,{"$f":"+C480*$L$2","v":2377.58},{"$f":"+D480*$L$2","v":2160.81},1917.5400000000002,1530.1100000000001,1390.72,1207.8700000000001]
[58,null,{"$f":"+C481*$L$2","v":2460.2600000000002},{"$f":"+D481*$L$2","v":2236.0700000000002},1991.74,1589.47,1444.78,1253.98]
[59,null,{"$f":"+C482*$L$2","v":2540.8200000000002},{"$f":"+D482*$L$2","v":2310.27},2067.5300000000002,1650.42,1499.9,1301.1500000000001]
[60,null,{"$f":"+C483*$L$2","v":2624.56},{"$f":"+D483*$L$2","v":2384.4700000000003},2140.67,1710.3100000000002,1552.9,1346.2]
[61,null,{"$f":"+C484*$L$2","v":2724.2000000000003},{"$f":"+D484*$L$2","v":2476.69},2232.8900000000003,1773.91,1613.3200000000002,1399.73]
[62,null,{"$f":"+C485*$L$2","v":2845.57},{"$f":"+D485*$L$2","v":2587.9900000000002},2342.6,1855,1685.4,1463.8600000000001]
[63,null,{"$f":"+C486*$L$2","v":2993.9700000000003},{"$f":"+D486*$L$2","v":2721.55},2463.44,1951.99,1773.38,1539.65]
[64,null,{"$f":"+C487*$L$2","v":3165.69},{"$f":"+D487*$L$2","v":2877.9},2603.8900000000003,2062.23,1876.2,1627.1000000000001]
[65,null,{"$f":"+C488*$L$2","v":3371.86},{"$f":"+D488*$L$2","v":3064.46},2798.9300000000003,2207.98,2007.1100000000001,1743.17]
[66,null,{"$f":"+C489*$L$2","v":3616.19},{"$f":"+D489*$L$2","v":3286.53},3023.1200000000003,2379.17,2162.9300000000003,1872.49]
[67,null,{"$f":"+C490*$L$2","v":3902.92},{"$f":"+D490*$L$2","v":3549.4100000000003},3266.3900000000003,2569.9700000000003,2336.2400000000002,2026.19]
[68,null,{"$f":"+C491*$L$2","v":4234.17},{"$f":"+D491*$L$2","v":3849.3900000000003},3541.9900000000002,2785.15,2533.9300000000003,2197.9100000000003]
[69,null,{"$f":"+C492*$L$2","v":4621.0700000000006},{"$f":"+D492*$L$2","v":4201.3100000000004},3866.88,3042.2000000000003,2767.6600000000003,2398.25]
[70,null,{"$f":"+C493*$L$2","v":5068.92},{"$f":"+D493*$L$2","v":4609.41},4267.0300000000007,3366.56,3059.69,2649.4700000000003]
[71,null,{"$f":"+C494*$L$2","v":5579.84},{"$f":"+D494*$L$2","v":5074.75},4739.79,3706.29,3369.21,2920.83]
[72,null,{"$f":"+C495*$L$2","v":6174.5},{"$f":"+D495*$L$2","v":5613.2300000000005},5245.9400000000005,4102.2,3730.1400000000003,3229.82]
[73,null,{"$f":"+C496*$L$2","v":6858.2000000000007},{"$f":"+D496*$L$2","v":6234.92},5822.05,4553.76,4139.3,3588.63]
[74,null,{"$f":"+C497*$L$2","v":7646.84},{"$f":"+D497*$L$2","v":6952.01},6494.09,5077.4000000000005,4615.24,4001.5]
[75,null,{"$f":"+C498*$L$2","v":8549.43},{"$f":"+D498*$L$2","v":7772.9800000000005},7272.6600000000008,5699.09,5182.34,4490.6900000000005]
[76,null,{"$f":"+C499*$L$2","v":9586.6400000000012},{"$f":"+D499*$L$2","v":8714.26},8185.3200000000006,6391.27,5809.33,5035]
[77,null,{"$f":"+C500*$L$2","v":10765.890000000001},{"$f":"+D500*$L$2","v":9788.57},9200.27,7177.26,6524.3,5652.9800000000005]
[78,null,{"$f":"+C501*$L$2","v":12096.19},{"$f":"+D501*$L$2","v":10996.970000000001},10336.060000000001,8063.9500000000007,7329.9000000000005,6354.17]
[79,null,{"$f":"+C502*$L$2","v":13592.380000000001},{"$f":"+D502*$L$2","v":12358.01},11612.83,9060.880000000001,8237.26,7137.51]
[80,null,{"$f":"+C503*$L$2","v":15380.070000000002},{"$f":"+D503*$L$2","v":13983.52},13140.820000000002,10251.26,9320.0500000000011,8077.2000000000007]
[1,"Hijo",{"$f":"+C504*$L$2","v":455.27000000000004},{"$f":"+D504*$L$2","v":415.52000000000004},245.39000000000001,230.55,208.82000000000002,180.73000000000002]
[2,"Hijos",{"$f":"+C505*$L$2","v":766.38},{"$f":"+D505*$L$2","v":696.95},364.11,360.40000000000003,327.54000000000002,284.08000000000004]
[3,"Hijos o más",{"$f":"+C506*$L$2","v":1123.6000000000001},{"$f":"+D506*$L$2","v":1021.84},520.99,522.58000000000004,475.94,411.81]
[1,"Rider Comp. Maternidad",{"$f":"+C507*$L$2","v":119.25},{"$f":"+D507*$L$2","v":119.25},119.25,119.25,119.25,119.25]
[1,"Transplante de organos",{"$f":"+C508*$L$2","v":159},{"$f":"+D508*$L$2","v":159},159,159,159,159]
[]
["BUPA FLEX - ZONE 6"]
["TARIFAS ANUALES"]
["EDAD"]
[" "," ",null,"DW2","DW3","DW4","DW5","DW6"]
[18,null,2864,2605,2021,1713,1558,1347,null,true,true,true,true,true,true]
[19,null,2915,2650,2067,1746,1588,1375,null,true,true,true,true,true,true]
[20,null,2966,2694,2108,1778,1616,1400,null,true,true,true,true,true,true]
[21,null,3015,2740,2150,1813,1650,1427,null,true,true,true,true,true,true]
[22,null,3065,2788,2196,1848,1680,1453,null,true,true,true,true,true,true]
[23,null,3119,2831,2242,1882,1713,1478,null,true,true,true,true,true,true]
[24,null,3167,2879,2287,1917,1745,1507,null,true,true,true,true,true,true]
[25,null,3219,2927,2330,1953,1777,1532,null,true,true,true,true,true,true]
[26,null,3271,2972,2377,1989,1807,1560,null,true,true,true,true,true,true]
[27,null,3324,3019,2420,2020,1835,1588,null,true,true,true,true,true,true]
[28,null,3381,3076,2478,2059,1878,1624,null,true,true,true,true,true,true]
[29,null,3437,3126,2536,2107,1914,1655,null,true,true,true,true,true,true]
[30,null,3495,3178,2590,2148,1953,1686,null,true,true,true,true,true,true]
[31,null,3557,3233,2648,2190,1991,1720,null,true,true,true,true,true,true]
[32,null,3616,3289,2702,2231,2030,1753,null,true,true,true,true,true,true]
[33,null,3714,3376,2788,2299,2090,1807,null,true,true,true,true,true,true]
[34,null,3813,3467,2874,2364,2150,1859,null,true,true,true,true,true,true]
[35,null,3911,3557,2953,2429,2210,1908,null,true,true,true,true,true,true]
[36,null,4010,3647,3038,2497,2266,1963,null,true,true,true,true,true,true]
[37,null,4108,3737,3123,2563,2329,2013,null,true,true,true,true,true,true]
[38,null,4210,3825,3211,2628,2390,2069,null,true,true,true,true,true,true]
[39,null,4310,3918,3300,2695,2450,2119,null,true,true,true,true,true,true]
[40,null,4411,4009,3386,2764,2515,2171,null,true,true,true,true,true,true]
[41,null,4509,4098,3472,2830,2574,2222,null,true,true,true,true,true,true]
[42,null,4607,4191,3561,2900,2634,2275,null,true,true,true,true,true,true]
[43,null,4793,4355,3719,3020,2746,2372,null,true,true,true,true,true,true]
[44,null,4977,4524,3873,3144,2859,2468,null,true,true,true,true,true,true]
[45,null,5160,4691,4031,3267,2968,2565,null,true,true,true,true,true,true]
[46,null,5344,4858,4186,3389,3081,2658,null,true,true,true,true,true,true]
[47,null,5526,5025,4346,3512,3193,2756,null,true,true,true,true,true,true]
[48,null,5722,5202,4508,3642,3308,2856,null,true,true,true,true,true,true]
[49,null,5917,5379,4673,3768,3424,2959,null,true,true,true,true,true,true]
[50,null,6114,5557,4834,3894,3542,3061,null,true,true,true,true,true,true]
[51,null,6305,5734,5001,4023,3659,3159,null,true,true,true,true,true,true]
[52,null,6503,5910,5164,4150,3773,3259,null,true,true,true,true,true,true]
[53,null,6728,6120,5363,4303,3916,3381,null,true,true,true,true,true,true]
[54,null,6958,6326,5565,4460,4055,3502,null,true,true,true,true,true,true]
[55,null,7189,6533,5764,4616,4195,3624,null,true,true,true,true,true,true]
[56,null,7415,6742,5965,4770,4337,3739,null,true,true,true,true,true,true]
[57,null,7648,6951,6165,4925,4480,3863,null,true,true,true,true,true,true]
[58,null,7909,7189,6407,5118,4652,4013,null,true,true,true,true,true,true]
[59,null,8172,7430,6645,5309,4828,4164,null,true,true,true,true,true,true]
[60,null,8436,7671,6886,5501,5003,4314,null,true,true,true,true,true,true]
[61,null,8757,7959,7179,5706,5186,4480,null,true,true,true,true,true,true]
[62,null,9147,8317,7537,5969,5428,4681,null,true,true,true,true,true,true]
[63,null,9621,8745,7924,6271,5703,4924,null,true,true,true,true,true,true]
[64,null,10168,9243,8371,6632,6030,5209,null,true,true,true,true,true,true]
[65,null,10840,9854,9000,7105,6455,5573,null,true,true,true,true,true,true]
[66,null,11618,10559,9725,7651,6957,5999,null,true,true,true,true,true,true]
[67,null,12547,11405,10505,8265,7516,6482,null,true,true,true,true,true,true]
[68,null,13607,12369,11388,8965,8149,7029,null,true,true,true,true,true,true]
[69,null,14855,13504,12433,9791,8902,7676,null,true,true,true,true,true,true]
[70,null,16285,14807,13717,10826,9843,8480,null,true,true,true,true,true,true]
[71,null,17938,16308,15237,11917,10834,9341,null,true,true,true,true,true,true]
[72,null,19844,18043,16864,13195,11999,10342,null,true,true,true,true,true,true]
[73,null,22034,20032,18715,14649,13317,11472,null,true,true,true,true,true,true]
[74,null,24568,22334,20869,16328,14842,12800,null,true,true,true,true,true,true]
[75,null,27466,24971,23379,18319,16655,14362,null,true,true,true,true,true,true]
[76,null,30797,28001,26308,20542,18676,16107,null,true,true,true,true,true,true]
[77,null,34593,31448,29571,23071,20976,18089,null,true,true,true,true,true,true]
[78,null,38866,35333,33224,25925,23567,20322,null,true,true,true,true,true,true]
[79,null,43670,39699,37329,29126,26478,22833,null,true,true,true,true,true,true]
[80,null,49416,44925,42243,32961,29960,25839,null,true,true,true,true,true,true]
[1,"Hijo",1459,1330,782,729,663,577,null,true,true,true,true,true,true]
[2,"Hijos",2457,2235,1159,1155,1049,910,null,true,true,true,true,true,true]
[3,"Hijos o más",3609,3285,1674,1681,1526,1317,null,true,true,true,true,true,true]
[1,"Rider Comp. Maternidad",225,225,225,225,225,225]
[1,"Transplante de organos",300,300,300,300,300,300]
[]
["TARIFAS SEMESTRALES "]
["EDAD"]
[" "," ",null,"DW2","DW3","DW4","DW5","DW6"]
[18,null,{"$f":"+C586*$L$2","v":1517.92},{"$f":"+D586*$L$2","v":1380.65},1071.1300000000001,907.8900000000001,825.74,713.91000000000008]
[19,null,{"$f":"+C587*$L$2","v":1544.95},{"$f":"+D587*$L$2","v":1404.5},1095.51,925.38,841.64,728.75]
[20,null,{"$f":"+C588*$L$2","v":1571.98},{"$f":"+D588*$L$2","v":1427.8200000000002},1117.24,942.34,856.48,742]
[21,null,{"$f":"+C589*$L$2","v":1597.95},{"$f":"+D589*$L$2","v":1452.2},1139.5,960.8900000000001,874.5,756.31000000000006]
[22,null,{"$f":"+C590*$L$2","v":1624.45},{"$f":"+D590*$L$2","v":1477.64},1163.8800000000001,979.44,890.40000000000009,770.09]
[23,null,{"$f":"+C591*$L$2","v":1653.0700000000002},{"$f":"+D591*$L$2","v":1500.43},1188.26,997.46,907.8900000000001,783.34]
[24,null,{"$f":"+C592*$L$2","v":1678.51},{"$f":"+D592*$L$2","v":1525.8700000000001},1212.1100000000001,1016.0100000000001,924.85,798.71]
[25,null,{"$f":"+C593*$L$2","v":1706.0700000000002},{"$f":"+D593*$L$2","v":1551.3100000000002},1234.9000000000001,1035.0900000000001,941.81000000000006,811.96]
[26,null,{"$f":"+C594*$L$2","v":1733.63},{"$f":"+D594*$L$2","v":1575.16},1259.8100000000002,1054.17,957.71,826.80000000000007]
[27,null,{"$f":"+C595*$L$2","v":1761.72},{"$f":"+D595*$L$2","v":1600.0700000000002},1282.6000000000001,1070.6000000000001,972.55000000000007,841.64]
[28,null,{"$f":"+C596*$L$2","v":1791.93},{"$f":"+D596*$L$2","v":1630.28},1313.3400000000001,1091.27,995.34,860.72]
[29,null,{"$f":"+C597*$L$2","v":1821.6100000000001},{"$f":"+D597*$L$2","v":1656.78},1344.0800000000002,1116.71,1014.4200000000001,877.15000000000009]
[30,null,{"$f":"+C598*$L$2","v":1852.3500000000001},{"$f":"+D598*$L$2","v":1684.3400000000001},1372.7,1138.44,1035.0900000000001,893.58]
[31,null,{"$f":"+C599*$L$2","v":1885.21},{"$f":"+D599*$L$2","v":1713.49},1403.44,1160.7,1055.23,911.6]
[32,null,{"$f":"+C600*$L$2","v":1916.48},{"$f":"+D600*$L$2","v":1743.17},1432.0600000000002,1182.43,1075.9000000000001,929.09]
[33,null,{"$f":"+C601*$L$2","v":1968.42},{"$f":"+D601*$L$2","v":1789.2800000000002},1477.64,1218.47,1107.7,957.71]
[34,null,{"$f":"+C602*$L$2","v":2020.89},{"$f":"+D602*$L$2","v":1837.51},1523.22,1252.92,1139.5,985.2700000000001]
[35,null,{"$f":"+C603*$L$2","v":2072.83},{"$f":"+D603*$L$2","v":1885.21},1565.0900000000001,1287.3700000000001,1171.3,1011.24]
[36,null,{"$f":"+C604*$L$2","v":2125.3000000000002},{"$f":"+D604*$L$2","v":1932.91},1610.14,1323.41,1200.98,1040.3900000000001]
[37,null,{"$f":"+C605*$L$2","v":2177.2400000000002},{"$f":"+D605*$L$2","v":1980.6100000000001},1655.19,1358.39,1234.3700000000001,1066.8900000000001]
[38,null,{"$f":"+C606*$L$2","v":2231.3000000000002},{"$f":"+D606*$L$2","v":2027.25},1701.8300000000002,1392.8400000000001,1266.7,1096.5700000000002]
[39,null,{"$f":"+C607*$L$2","v":2284.3000000000002},{"$f":"+D607*$L$2","v":2076.54},1749,1428.3500000000001,1298.5,1123.0700000000002]
[40,null,{"$f":"+C608*$L$2","v":2337.83},{"$f":"+D608*$L$2","v":2124.77},1794.5800000000002,1464.92,1332.95,1150.6300000000001]
[41,null,{"$f":"+C609*$L$2","v":2389.77},{"$f":"+D609*$L$2","v":2171.94},1840.16,1499.9,1364.22,1177.6600000000001]
[42,null,{"$f":"+C610*$L$2","v":2441.71},{"$f":"+D610*$L$2","v":2221.23},1887.3300000000002,1537,1396.02,1205.75]
[43,null,{"$f":"+C611*$L$2","v":2540.29},{"$f":"+D611*$L$2","v":2308.15},1971.0700000000002,1600.6000000000001,1455.38,1257.1600000000001]
[44,null,{"$f":"+C612*$L$2","v":2637.81},{"$f":"+D612*$L$2","v":2397.7200000000003},2052.69,1666.3200000000002,1515.27,1308.04]
[45,null,{"$f":"+C613*$L$2","v":2734.8},{"$f":"+D613*$L$2","v":2486.23},2136.4300000000003,1731.51,1573.0400000000002,1359.45]
[46,null,{"$f":"+C614*$L$2","v":2832.32},{"$f":"+D614*$L$2","v":2574.7400000000002},2218.58,1796.17,1632.93,1408.74]
[47,null,{"$f":"+C615*$L$2","v":2928.78},{"$f":"+D615*$L$2","v":2663.25},2303.38,1861.3600000000001,1692.2900000000002,1460.68]
[48,null,{"$f":"+C616*$L$2","v":3032.6600000000003},{"$f":"+D616*$L$2","v":2757.06},2389.2400000000002,1930.26,1753.24,1513.68]
[49,null,{"$f":"+C617*$L$2","v":3136.01},{"$f":"+D617*$L$2","v":2850.8700000000003},2476.69,1997.0400000000002,1814.72,1568.27]
[50,null,{"$f":"+C618*$L$2","v":3240.42},{"$f":"+D618*$L$2","v":2945.21},2562.02,2063.8200000000002,1877.26,1622.3300000000002]
[51,null,{"$f":"+C619*$L$2","v":3341.65},{"$f":"+D619*$L$2","v":3039.02},2650.53,2132.19,1939.2700000000002,1674.27]
[52,null,{"$f":"+C620*$L$2","v":3446.59},{"$f":"+D620*$L$2","v":3132.3},2736.92,2199.5,1999.69,1727.27]
[53,null,{"$f":"+C621*$L$2","v":3565.84},{"$f":"+D621*$L$2","v":3243.6000000000004},2842.3900000000003,2280.59,2075.48,1791.93]
[54,null,{"$f":"+C622*$L$2","v":3687.7400000000002},{"$f":"+D622*$L$2","v":3352.78},2949.4500000000003,2363.8000000000002,2149.15,1856.0600000000002]
[55,null,{"$f":"+C623*$L$2","v":3810.17},{"$f":"+D623*$L$2","v":3462.4900000000002},3054.92,2446.48,2223.35,1920.72]
[56,null,{"$f":"+C624*$L$2","v":3929.9500000000003},{"$f":"+D624*$L$2","v":3573.26},3161.4500000000003,2528.1,2298.61,1981.67]
[57,null,{"$f":"+C625*$L$2","v":4053.44},{"$f":"+D625*$L$2","v":3684.03},3267.4500000000003,2610.25,2374.4,2047.39]
[58,null,{"$f":"+C626*$L$2","v":4191.7700000000004},{"$f":"+D626*$L$2","v":3810.17},3395.71,2712.54,2465.56,2126.8900000000003]
[59,null,{"$f":"+C627*$L$2","v":4331.16},{"$f":"+D627*$L$2","v":3937.9},3521.8500000000004,2813.77,2558.84,2206.92]
[60,null,{"$f":"+C628*$L$2","v":4471.08},{"$f":"+D628*$L$2","v":4065.63},3649.5800000000004,2915.53,2651.59,2286.42]
[61,null,{"$f":"+C629*$L$2","v":4641.21},{"$f":"+D629*$L$2","v":4218.2700000000004},3804.8700000000003,3024.1800000000003,2748.58,2374.4]
[62,null,{"$f":"+C630*$L$2","v":4847.91},{"$f":"+D630*$L$2","v":4408.01},3994.61,3163.57,2876.84,2480.9300000000003]
[63,null,{"$f":"+C631*$L$2","v":5099.13},{"$f":"+D631*$L$2","v":4634.8500000000004},4199.72,3323.63,3022.59,2609.7200000000003]
[64,null,{"$f":"+C632*$L$2","v":5389.04},{"$f":"+D632*$L$2","v":4898.79},4436.63,3514.96,3195.9,2760.77]
[65,null,{"$f":"+C633*$L$2","v":5745.2000000000007},{"$f":"+D633*$L$2","v":5222.62},4770,3765.65,3421.15,2953.69]
[66,null,{"$f":"+C634*$L$2","v":6157.54},{"$f":"+D634*$L$2","v":5596.27},5154.25,4055.03,3687.21,3179.4700000000003]
[67,null,{"$f":"+C635*$L$2","v":6649.9100000000008},{"$f":"+D635*$L$2","v":6044.6500000000005},5567.6500000000005,4380.45,3983.48,3435.46]
[68,null,{"$f":"+C636*$L$2","v":7211.71},{"$f":"+D636*$L$2","v":6555.5700000000006},6035.64,4751.45,4318.97,3725.3700000000003]
[69,null,{"$f":"+C637*$L$2","v":7873.1500000000005},{"$f":"+D637*$L$2","v":7157.1200000000008},6589.4900000000007,5189.2300000000005,4718.0600000000004,4068.28]
[70,null,{"$f":"+C638*$L$2","v":8631.0500000000011},{"$f":"+D638*$L$2","v":7847.71},7270.01,5737.7800000000007,5216.79,4494.4000000000005]
[71,null,{"$f":"+C639*$L$2","v":9507.1400000000012},{"$f":"+D639*$L$2","v":8643.24},8075.6100000000006,6316.01,5742.02,4950.7300000000005]
[72,null,{"$f":"+C640*$L$2","v":10517.32},{"$f":"+D640*$L$2","v":9562.7900000000009},8937.92,6993.35,6359.47,5481.26]
[73,null,{"$f":"+C641*$L$2","v":11678.02},{"$f":"+D641*$L$2","v":10616.960000000001},9918.9500000000007,7763.97,7058.01,6080.16]
[74,null,{"$f":"+C642*$L$2","v":13021.04},{"$f":"+D642*$L$2","v":11837.02},11060.57,8653.84,7866.26,6784]
[75,null,{"$f":"+C643*$L$2","v":14556.980000000001},{"$f":"+D643*$L$2","v":13234.630000000001},12390.87,9709.07,8827.15,7611.8600000000006]
[76,null,{"$f":"+C644*$L$2","v":16322.410000000002},{"$f":"+D644*$L$2","v":14840.53},13943.240000000002,10887.26,9898.2800000000007,8536.7100000000009]
[77,null,{"$f":"+C645*$L$2","v":18334.29},{"$f":"+D645*$L$2","v":16667.440000000002},15672.630000000001,12227.630000000001,11117.28,9587.17]
[78,null,{"$f":"+C646*$L$2","v":20598.98},{"$f":"+D646*$L$2","v":18726.490000000002},17608.72,13740.25,12490.51,10770.66]
[79,null,{"$f":"+C647*$L$2","v":23145.100000000002},{"$f":"+D647*$L$2","v":21040.47},19784.370000000003,15436.78,14033.34,12101.49]
[80,null,{"$f":"+C648*$L$2","v":26190.48},{"$f":"+D648*$L$2","v":23810.25},22388.79,17469.330000000002,15878.800000000001,13694.67]
[1,"Hijo",{"$f":"+C649*$L$2","v":773.2700000000001},{"$f":"+D649*$L$2","v":704.90000000000009},414.46000000000004,386.37,351.39000000000004,305.81]
[2,"Hijos",{"$f":"+C650*$L$2","v":1302.21},{"$f":"+D650*$L$2","v":1184.55},614.27,612.15,555.97,482.3]
[3,"Hijos o más",{"$f":"+C651*$L$2","v":1912.7700000000002},{"$f":"+D651*$L$2","v":1741.0500000000002},887.22,890.93000000000006,808.78000000000009,698.01]
[1,"Rider Comp. Maternidad",{"$f":"+C652*$L$2","v":119.25},{"$f":"+D652*$L$2","v":119.25},119.25,119.25,119.25,119.25]
[1,"Transplante de organos",{"$f":"+C653*$L$2","v":159},{"$f":"+D653*$L$2","v":159},159,159,159,159]