{"text_format":"1","workbook":"xlsx","n_sheets":4,"sheets":["INGRESO DE DATOS","Global Premier","Resumen tarifas","Tablas"],"not_rendered":{"charts":0,"images":5,"macros":1,"external_links":0,"defined_names":2,"comments":1,"pivot_tables":0},"unopened":[],"bounds":{"document_bytes":16777216,"sheet_cells":100000,"rows_first":2000,"rows_last":500,"rows_between":2000,"halvings":0,"cell_chars":16384,"cell_head_chars":4096},"cells_cut":0,"cells_raw":0,"read":"whole","date_system":"1900"}

{"sheet":"INGRESO DE DATOS","index":0,"n_rows":26,"n_cols":9,"rows_kept":26,"cut":false,"hidden":false,"merged":[[9,0,9,7],[23,3,23,4],[23,6,23,7],[18,5,18,6],[14,1,14,2],[16,1,16,2],[14,3,14,7],[16,5,16,6],[18,1,18,2]]}
[]
[null,null,null,null,null,null,null," "," "]
[]
[]
[]
[]
[]
[]
[]
["(Para renovaciones de pólizas emitidas en 2020)"]
[]
[]
["1.   LLENE LA INFORMACIÓN DEL ASEGURADO PROPUESTO:"]
[]
[null,"Nombre del Asegurado Titular:",null,"NOMBRE COMPLETO"]
[]
[null,"Número de adultos en la póliza:",null,2,null,"Número de niños en la póliza:",null,2]
[]
[null,"Edad del Asegurado Titular:",null,32,null,"Edad del/la cónyuge :",null,46]
[]
[]
[]
[]
[]
[]
[null,1,null,1]

{"sheet":"Global Premier","index":1,"n_rows":62,"n_cols":10,"rows_kept":62,"cut":false,"hidden":false,"merged":[[15,0,15,1],[52,4,52,5],[53,4,53,5],[28,4,28,9],[37,4,37,9],[48,4,48,9],[16,3,16,4],[18,3,18,4],[20,3,20,4],[16,5,16,8],[43,1,44,1],[60,4,60,9],[59,4,59,9],[61,4,62,9],[46,4,46,5],[43,0,44,0]]}
[]
[]
[]
[null,null,null,null,null,null,null," "," "," "]
[]
[]
[]
[]
[]
[]
[]
[]
[]
[]
[]
["GLOBAL PREMIER HEALTH PLAN"]
[null,null,null,"Nombre del Asegurado Titular:",null,{"$f":"+'INGRESO DE DATOS'!$D$15","v":"NOMBRE COMPLETO"}]
[]
[null,null,null,"Número de adultos en la póliza:",null,{"$f":"+'INGRESO DE DATOS'!$D$17","v":2},null,"Edad del Asegurado Titular:",{"$f":"+'INGRESO DE DATOS'!$D$19","v":32}]
[]
[null,null,null,"Número de niños en la póliza:",null,{"$f":"+'INGRESO DE DATOS'!$H$17","v":2},null,"Edad del/la conyuge:",{"$f":"+'INGRESO DE DATOS'!$H$19","v":46}]
[null,null,null,null,null,null,null," "," "]
[null,null,null,null,null,null,null,"Fecha de la cotización:",{"$f":"NOW()","v":"2021-12-20T11:33:26.690"}]
[null,null,null,null,null,null," ",false,null," "]
[null,null,null,null,"Deducibles",null,"PLAN 1","PLAN 2","PLAN 3","PLAN 4"]
[null,null,null,null,"En el país de residencia",null,250,2000,5000,10000]
[null,null,null,null,"Fuera del país de residencia",null,5000,2000,5000,10000]
[]
[null,null,null,null,"Tarifas anuales"]
[null,null,null,null,"Prima para Asegurado Titular",null,{"$f":"VLOOKUP($I$19,Tablas!$A$155:$G$221,3,TRUE)","v":5105.95},{"$f":"VLOOKUP($I$19,Tablas!$A$155:$G$221,4,TRUE)","v":4634.2},{"$f":"VLOOKUP($I$19,Tablas!$A$155:$G$221,5,TRUE)","v":3343.0499999999997},{"$f":"VLOOKUP($I$19,Tablas!$A$155:$G$221,6,TRUE)","v":2419.9499999999998}]
[null,null,null,null,"Prima para conyuge",null,{"$f":"IF($F$19=1,0,(VLOOKUP($I$21,Tablas!$A$155:$G$221,3,TRUE)))","v":7002.3},{"$f":"IF($F$19=1,0,(VLOOKUP($I$21,Tablas!$A$155:$G$221,4,TRUE)))","v":6354.5999999999995},{"$f":"IF($F$19=1,0,(VLOOKUP($I$21,Tablas!$A$155:$G$221,5,TRUE)))","v":4484.5999999999995},{"$f":"IF($F$19=1,0,(VLOOKUP($I$21,Tablas!$A$155:$G$221,6,TRUE)))","v":3245.2999999999997}]
[null,null,null,null,"Prima para hijo (s)",null,{"$f":"IF($F$21=0,0,(VLOOKUP($F$21,Tablas!$A$222:$G$224,3,TRUE)))","v":3092.2999999999997},{"$f":"IF($F$21=0,0,(VLOOKUP($F$21,Tablas!$A$222:$G$224,4,TRUE)))","v":2805},{"$f":"IF($F$21=0,0,(VLOOKUP($F$21,Tablas!$A$222:$G$224,5,TRUE)))","v":2098.65},{"$f":"IF($F$21=0,0,(VLOOKUP($F$21,Tablas!$A$222:$G$224,6,TRUE)))","v":1520.6499999999999}]
[null,null,null,null,"Total de Prima neta",null,{"$f":"SUM(G30:G32)","v":15200.55},{"$f":"SUM(H30:H32)","v":13793.8},9926.2999999999993,{"$f":"SUM(J30:J32)","v":7185.9}]
[null,null,null,null,"Tarifa administrativa anual",null,75,75,75,75]
[null,null,null,null,"IVA (12%)",null,{"$f":"(G33+G34)*12%","v":1833.0659999999998},{"$f":"(H33+H34)*12%","v":1664.2559999999999},1200.1559999999999,{"$f":"(J33+J34)*12%","v":871.30799999999988}]
[null,null,null,null,"TOTAL ANUAL",null,{"$f":"SUM(G33:G35)","v":17108.615999999998},{"$f":"SUM(H33:H35)","v":15533.055999999999},{"$f":"SUM(I33:I35)","v":11201.455999999998},{"$f":"SUM(J33:J35)","v":8132.2079999999996}]
[]
[null,null,null,null,"Tarifas semi anuales"]
[null,null,null,null,"Prima para Asegurado Titular",null,{"$f":"VLOOKUP($I$19,Tablas!$A$530:$G$596,3,TRUE)","v":2706.1534999999999},{"$f":"VLOOKUP($I$19,Tablas!$A$530:$G$596,4,TRUE)","v":2456.1260000000002},{"$f":"VLOOKUP($I$19,Tablas!$A$530:$G$596,5,TRUE)","v":1771.8164999999999},{"$f":"VLOOKUP($I$19,Tablas!$A$530:$G$596,6,TRUE)","v":1282.5735}]
[null,null,null,null,"Prima para conyuge",null,{"$f":"IF($F$19=1,0,(VLOOKUP($I$21,Tablas!$A$530:$G$596,3,TRUE)))","v":3711.2190000000005},{"$f":"IF($F$19=1,0,(VLOOKUP($I$21,Tablas!$A$530:$G$596,4,TRUE)))","v":3367.9380000000001},{"$f":"IF($F$19=1,0,(VLOOKUP($I$21,Tablas!$A$530:$G$596,5,TRUE)))","v":2376.8379999999997},{"$f":"IF($F$19=1,0,(VLOOKUP($I$21,Tablas!$A$530:$G$596,6,TRUE)))","v":1720.009}]
[null,null,null,null,"Prima para hijo (s)",null,{"$f":"IF($F$21=0,0,(VLOOKUP($F$21,Tablas!$A$597:$G$599,3,TRUE)))","v":1638.9189999999999},{"$f":"IF($F$21=0,0,(VLOOKUP($F$21,Tablas!$A$597:$G$599,4,TRUE)))","v":1486.65},{"$f":"IF($F$21=0,0,(VLOOKUP($F$21,Tablas!$A$597:$G$599,5,TRUE)))","v":1112.2845000000002},{"$f":"IF($F$21=0,0,(VLOOKUP($F$21,Tablas!$A$597:$G$599,6,TRUE)))","v":805.94449999999995}]
[null,null,null,null,"Total de Prima neta",null,{"$f":"SUM(G39:G41)","v":8056.2915000000003},{"$f":"SUM(H39:H41)","v":7310.7139999999999},{"$f":"SUM(I39:I41)","v":5260.9390000000003},{"$f":"SUM(J39:J41)","v":3808.527}]
[null,null,null,null,"Tarifa administrativa anual",null,75,75,75,75]
[null,null,null,null,"IVA (12%)",null,{"$f":"(G42+G43)*12%","v":975.75498000000005},{"$f":"(H42+H43)*12%","v":886.28567999999996},640.31268,{"$f":"(J42+J43)*12%","v":466.02323999999999}]
[null,null,null,null,"TOTAL de primera cuota",null,{"$f":"SUM(G42:G44)","v":9107.0464800000009},{"$f":"SUM(H42:H44)","v":8271.9996800000008},{"$f":"SUM(I42:I44)","v":5976.2516800000003},{"$f":"SUM(J42:J44)","v":4349.5502400000005}]
[null,null,null,null,"Costo de segunda cuota",null,{"$f":"G42+G44 - G43*12%","v":9023.0464800000009},{"$f":"H42+H44 - H43*12%","v":8187.9996800000008},5892.2516800000003,{"$f":"J42+J44 - J43*12%","v":4265.5502400000005}]
[null,null,null,null,"TOTAL ANUAL",null,{"$f":"G45+G46","v":18130.092960000002},{"$f":"H45+H46","v":16459.999360000002},11868.503360000001,{"$f":"J45+J46","v":8615.100480000001}]
[]
[null,null,null,null,"Tarifas trimestrales"]
[null,null,null,null,"Prima para Asegurado Titular",null,{"$f":"VLOOKUP($I$19,Tablas!$A$755:$G$821,3,TRUE)","v":1404.13625},{"$f":"VLOOKUP($I$19,Tablas!$A$755:$G$821,4,TRUE)","v":1274.405},{"$f":"VLOOKUP($I$19,Tablas!$A$755:$G$821,5,TRUE)","v":919.33875},{"$f":"VLOOKUP($I$19,Tablas!$A$755:$G$821,6,TRUE)","v":665.48625000000004}]
[null,null,null,null,"Prima para conyuge",null,{"$f":"IF($F$19=1,0,(VLOOKUP($I$21,Tablas!$A$755:$G$821,3,TRUE)))","v":1925.6325000000002},{"$f":"IF($F$19=1,0,(VLOOKUP($I$21,Tablas!$A$755:$G$821,4,TRUE)))","v":1747.5150000000001},{"$f":"IF($F$19=1,0,(VLOOKUP($I$21,Tablas!$A$755:$G$821,5,TRUE)))","v":1233.2649999999999},{"$f":"IF($F$19=1,0,(VLOOKUP($I$21,Tablas!$A$755:$G$821,6,TRUE)))","v":892.45749999999998}]
[null,null,null,null,"Prima para hijo (s)",null,{"$f":"IF($F$21=0,0,(VLOOKUP($F$21,Tablas!$A$822:$G$824,3,TRUE)))","v":850.38250000000005},{"$f":"IF($F$21=0,0,(VLOOKUP($F$21,Tablas!$A$822:$G$824,4,TRUE)))","v":771.37500000000011},{"$f":"IF($F$21=0,0,(VLOOKUP($F$21,Tablas!$A$822:$G$824,5,TRUE)))","v":577.12875000000008},{"$f":"IF($F$21=0,0,(VLOOKUP($F$21,Tablas!$A$822:$G$824,6,TRUE)))","v":418.17874999999998}]
[null,null,null,null,"Total de Prima neta",null,{"$f":"SUM(G50:G52)","v":4180.1512499999999},{"$f":"SUM(H50:H52)","v":3793.2950000000001},{"$f":"SUM(I50:I52)","v":2729.7325000000001},{"$f":"SUM(J50:J52)","v":1976.1224999999999}]
[null,null,null,null,"Tarifa administrativa anual",null,75,75,75,75]
[null,null,null,null,"IVA (12%)",null,{"$f":"(G53+G54)*12%","v":510.61814999999996},{"$f":"(H53+H54)*12%","v":464.19540000000001},336.56790000000001,{"$f":"(J53+J54)*12%","v":246.13469999999998}]
[null,null,null,null,"TOTAL de primera cuota",null,{"$f":"SUM(G53:G55)","v":4765.7694000000001},{"$f":"SUM(H53:H55)","v":4332.4903999999997},{"$f":"SUM(I53:I55)","v":3141.3004000000001},{"$f":"SUM(J53:J55)","v":2297.2572}]
[null,null,null,null,"Costo de tarifa trimestral 2 a 4",null,{"$f":"G53+G55 - G54*12%","v":4681.7694000000001},{"$f":"H53+H55 - H54*12%","v":4248.4903999999997},3057.3004000000001,{"$f":"J53+J55 - J54*12%","v":2213.2572}]
[null,null,null,null,"TOTAL ANUAL",null,{"$f":"G56+(G57*3)","v":18811.077600000001},{"$f":"H56+(H57*3)","v":17077.961599999999},12313.2016,{"$f":"J56+(J57*3)","v":8937.0288}]
[]
[]
[null,null,null,null,"Tarifas en US $ -   Efectivas a partir del 1ro de enero de  2022"]
[null,null,null,null,"Este presupuesto solamente tiene carácter informativo y en ningún momento expresa compromiso legal para suministrarle cobertura de seguro. La emisión de una póliza de seguro Bupa está sujeta a todas las evaluaciones de riesgo por parte de Bupa y a la recepción de todos los pagos de prima requeridos."]

{"sheet":"Resumen tarifas","index":2,"n_rows":60,"n_cols":8,"rows_kept":60,"cut":false,"hidden":false,"merged":[[57,0,57,7],[58,0,58,7],[59,0,61,7],[55,0,55,1],[50,0,50,1],[44,4,44,7],[46,4,46,7],[49,4,49,7],[49,0,49,1],[26,0,26,6],[28,2,28,6],[31,4,31,5],[34,4,34,5],[28,0,28,1],[31,0,31,1],[34,0,34,1],[44,0,44,1],[45,0,45,1],[46,0,46,1],[47,0,47,1],[41,0,41,1]]}
[]
[null,null,null,null," "," "]
[]
[]
[]
[]
[]
[]
[]
[null,null,null,null," "," "," "]
[]
[]
[]
[]
[]
[]
[]
[]
[]
[]
[]
[]
[]
[]
[]
[]
["Cotizador de Seguro Médico - Bupa Global Health Plans"]
[]
["Nombre del Asegurado Titular",null,{"$f":"+'INGRESO DE DATOS'!$D$15","v":"NOMBRE COMPLETO"}]
[]
[]
["Número de adultos en la póliza",null,{"$f":"+'INGRESO DE DATOS'!$D$17","v":2},null,"Edad del Asegurado Titular",null,{"$f":"+'INGRESO DE DATOS'!$D$19","v":32}]
[]
[]
["Número de niños en la póliza",null,{"$f":"+'INGRESO DE DATOS'!$H$17","v":2},null,"Edad del/la cónyuge ",null,{"$f":"+'INGRESO DE DATOS'!$H$19","v":46}]
[]
[]
[null,null,null,"FECHA DE LA COTIZACIÓN :",{"$f":"NOW()","v":"2021-12-20T11:33:26.690"}]
[]
[]
["Global Premier Health Plan"]
["Deducibles",null,null,null,"PLAN 1","PLAN 2","PLAN 3","PLAN 3"]
["En el país de residencia",null,null,null,250,2000,5000,10000]
["Fuera del país de residencia",null,null,null,5000,2000,5000,10000]
[null,null,null,null,"Tarifas anuales"]
[null,null,null,null,{"$f":"+'Global Premier'!G36","v":17108.615999999998},{"$f":"+'Global Premier'!H36","v":15533.055999999999},{"$f":"+'Global Premier'!I36","v":11201.455999999998},{"$f":"+'Global Premier'!J36","v":8132.2079999999996}]
[null,null,null,null,"Tarifas semi anuales"]
[null,null,null,null,{"$f":"+'Global Premier'!G45","v":9107.0464800000009},{"$f":"+'Global Premier'!H45","v":8271.9996800000008},{"$f":"+'Global Premier'!I45","v":5976.2516800000003},{"$f":"+'Global Premier'!J45","v":4349.5502400000005}]
[null,null,null,null,{"$f":"+'Global Premier'!G46","v":9023.0464800000009},{"$f":"+'Global Premier'!H46","v":8187.9996800000008},{"$f":"+'Global Premier'!I46","v":5892.2516800000003},{"$f":"+'Global Premier'!J46","v":4265.5502400000005}]
[null,null,null,null,"Tarifas trimestrales"]
[null,null,null,null,{"$f":"+'Global Premier'!G56","v":4765.7694000000001},{"$f":"+'Global Premier'!H56","v":4332.4903999999997},{"$f":"+'Global Premier'!I56","v":3141.3004000000001},{"$f":"+'Global Premier'!J56","v":2297.2572}]
[null,null,null,null,{"$f":"+'Global Premier'!G57","v":4681.7694000000001},{"$f":"+'Global Premier'!H57","v":4248.4903999999997},{"$f":"+'Global Premier'!I57","v":3057.3004000000001},{"$f":"+'Global Premier'!J57","v":2213.2572}]
[]
[]
["Una tarifa administrativa de US$75 se carga automáticamente al primer pago"]
["*Basado en un modo de pago anual"]
[]
[]
["Tarifas en US $ -   Efectivas a partir del 1ro de enero de  2021\t"]
["Este presupuesto solamente tiene carácter informativo y en ningún momento expresa compromiso legal para suministrarle cobertura de seguro. La emisión de una póliza de seguro Bupa está sujeta a todas las evaluaciones de riesgo por parte de Bupa y a la recepción de todos los pagos de prima requeridos."]

{"sheet":"Tablas","index":3,"n_rows":1497,"n_cols":22,"rows_kept":1497,"cut":false,"hidden":true,"merged":[[1424,0,1424,6],[1425,0,1425,1],[1425,2,1425,6],[1348,0,1348,6],[1349,0,1349,6],[1350,0,1350,1],[1350,2,1350,6],[1423,0,1423,6],[1200,0,1200,1],[1200,2,1200,6],[1273,0,1273,6],[1274,0,1274,6],[1275,0,1275,1],[1275,2,1275,6],[1124,0,1124,6],[1125,0,1125,6],[1126,0,1126,1],[1126,2,1126,6],[1199,0,1199,6],[976,0,976,1],[976,2,976,6],[1049,0,1049,6],[1050,0,1050,6],[1051,0,1051,1],[1051,2,1051,6],[900,0,900,6],[901,0,901,6],[902,0,902,1],[902,2,902,6],[975,0,975,6],[1,0,1,6],[2,0,2,6],[77,0,77,1],[77,2,77,6],[76,0,76,6],[3,0,3,1],[3,2,3,6],[376,0,376,1],[376,2,376,6],[150,0,150,6],[151,0,151,6],[152,0,152,1],[152,2,152,6],[225,0,225,6],[226,0,226,1],[375,0,375,6],[226,2,226,6],[300,0,300,6],[301,0,301,6],[302,0,302,1],[302,2,302,6],[526,0,526,6],[450,0,450,6],[451,0,451,6],[452,0,452,1],[452,2,452,6],[525,0,525,6],[527,0,527,1],[527,2,527,6],[600,0,600,6],[601,0,601,6],[602,0,602,1],[602,2,602,6],[751,0,751,6],[675,0,675,6],[676,0,676,6],[677,0,677,1],[677,2,677,6],[750,0,750,6],[752,0,752,1],[752,2,752,6],[825,0,825,6],[826,0,826,6],[827,0,827,1],[827,2,827,6]]}
[]
["BUPA GLOBAL ELITE",null,null,null,null,null,null,null,"FACTOR MENSUAL:",null,{"$f":"1.12/12","v":9.3333333333333338E-2}]
["TARIFAS ANUALES",null,null,null,null,null,null,null,"FACTOR TRIMESTRAL:",null,{"$f":"1.1/4","v":0.27500000000000002}]
["EDAD",null,null,null,null,null,null,null,"FACTOR SEMIANUAL:",null,{"$f":"1.06/2","v":0.53}]
[" "," ",1000,2000,3500,5000,10000,null,null,null,null,null,1000,2000,3500,5000,10000,1000,2000,3500,5000,10000]
[18,"OK",{"$f":"M6*$K$6","v":5940.65},{"$f":"N6*$K$6","v":5206.25},4410.6499999999996,3823.2999999999997,2966.5,null,"Descuento (0%):",null,0.85,null,6989,6125,5189,4498,3490,{"$f":"M6*85%","v":5940.65},{"$f":"N6*85%","v":5206.25},{"$f":"O6*85%","v":4410.6499999999996},{"$f":"P6*85%","v":3823.2999999999997},{"$f":"Q6*85%","v":2966.5}]
[19,null,{"$f":"M7*$K$6","v":6012.05},{"$f":"N7*$K$6","v":5270},{"$f":"O7*$K$6","v":4457.3999999999996},{"$f":"P7*$K$6","v":3865.7999999999997},{"$f":"Q7*$K$6","v":2998.7999999999997},null,null,null,null,null,7073,6200,5244,4548,3528,{"$f":"M7*85%","v":6012.05},{"$f":"N7*85%","v":5270},{"$f":"O7*85%","v":4457.3999999999996},{"$f":"P7*85%","v":3865.7999999999997},{"$f":"Q7*85%","v":2998.7999999999997}]
[20,null,6088.55,5334.5999999999995,4506.7,3907.45,3030.25,null,null,null,null,null,7163,6276,5302,4597,3565,6088.55,5334.5999999999995,4506.7,3907.45,3030.25]
[21,null,6164.2,5403.45,4556.8499999999995,3951.65,3065.1,null,null,null,null,null,7252,6357,5361,4649,3606,6164.2,5403.45,4556.8499999999995,3951.65,3065.1]
[22,null,6244.0999999999995,5473.15,4610.3999999999996,3998.4,3100.7999999999997,null,null,null,null,null,7346,6439,5424,4704,3648,6244.0999999999995,5473.15,4610.3999999999996,3998.4,3100.7999999999997]
[23,null,6326.55,5547.0999999999995,4665.6499999999996,4045.15,3138.2,null,null,null,null,null,7443,6526,5489,4759,3692,6326.55,5547.0999999999995,4665.6499999999996,4045.15,3138.2]
[24,null,6411.55,5622.75,4721.75,4094.45,3175.6,null,null,null,null,null,7543,6615,5555,4817,3736,6411.55,5622.75,4721.75,4094.45,3175.6]
[25,null,6501.65,5698.4,4778.7,4143.75,3214.7,null,null,null,null,null,7649,6704,5622,4875,3782,6501.65,5698.4,4778.7,4143.75,3214.7]
[26,null,6629.15,5809.75,4865.3999999999996,4219.3999999999996,3272.5,null,null,null,null,null,7799,6835,5724,4964,3850,6629.15,5809.75,4865.3999999999996,4219.3999999999996,3272.5]
[27,null,6760.9,5927.05,4954.6499999999996,4296.75,3332,null,null,null,null,null,7954,6973,5829,5055,3920,6760.9,5927.05,4954.6499999999996,4296.75,3332]
[28,null,6899.45,6048.5999999999995,5047.3,4375.8,3394.9,null,null,null,null,null,8117,7116,5938,5148,3994,6899.45,6048.5999999999995,5047.3,4375.8,3394.9]
[29,null,7043.95,6174.4,5145.05,4460.8,3459.5,null,null,null,null,null,8287,7264,6053,5248,4070,7043.95,6174.4,5145.05,4460.8,3459.5]
[30,null,7191.8499999999995,6304.45,5247.05,4550.05,3528.35,null,null,null,null,null,8461,7417,6173,5353,4151,7191.8499999999995,6304.45,5247.05,4550.05,3528.35]
[31,null,7347.4,6442.15,5349.05,4639.3,3597.2,null,null,null,null,null,8644,7579,6293,5458,4232,7347.4,6442.15,5349.05,4639.3,3597.2]
[32,null,7505.5,6579,5460.4,4735.3499999999995,3672,null,null,null,null,null,8830,7740,6424,5571,4320,7505.5,6579,5460.4,4735.3499999999995,3672]
[33,null,7672.0999999999995,6725.2,5570.9,4832.25,3746.7999999999997,null,null,null,null,null,9026,7912,6554,5685,4408,7672.0999999999995,6725.2,5570.9,4832.25,3746.7999999999997]
[34,null,7842.0999999999995,6872.25,5688.2,4934.25,3825,null,null,null,null,null,9226,8085,6692,5805,4500,7842.0999999999995,6872.25,5688.2,4934.25,3825]
[35,null,8017.2,7026.95,5808.9,5037.0999999999995,3906.6,null,null,null,null,null,9432,8267,6834,5926,4596,8017.2,7026.95,5808.9,5037.0999999999995,3906.6]
[36,null,8197.4,7185.05,5931.3,5144.2,3988.2,null,null,null,null,null,9644,8453,6978,6052,4692,8197.4,7185.05,5931.3,5144.2,3988.2]
[37,null,8382.6999999999989,7348.25,6062.2,5256.4,4076.6,null,null,null,null,null,9862,8645,7132,6184,4796,8382.6999999999989,7348.25,6062.2,5256.4,4076.6]
[38,null,8574.7999999999993,7515.7,6193.95,5371.15,4164.1499999999996,null,null,null,null,null,10088,8842,7287,6319,4899,8574.7999999999993,7515.7,6193.95,5371.15,4164.1499999999996]
[39,null,8770.2999999999993,7687.4,6329.95,5488.45,4256.8,null,null,null,null,null,10318,9044,7447,6457,5008,8770.2999999999993,7687.4,6329.95,5488.45,4256.8]
[40,null,8970.9,7864.2,6467.65,5609.15,4350.3,null,null,null,null,null,10554,9252,7609,6599,5118,8970.9,7864.2,6467.65,5609.15,4350.3]
[41,null,9179.15,8046.0999999999995,6613,5733.25,4447.2,null,null,null,null,null,10799,9466,7780,6745,5232,9179.15,8046.0999999999995,6613,5733.25,4447.2]
[42,null,9392.5,8230.5499999999993,6760.9,5863.3,4546.6499999999996,null,null,null,null,null,11050,9683,7954,6898,5349,9392.5,8230.5499999999993,6760.9,5863.3,4546.6499999999996]
[43,null,9609.25,8421.7999999999993,6911.3499999999995,5993.3499999999995,4648.6499999999996,null,null,null,null,null,11305,9908,8131,7051,5469,9609.25,8421.7999999999993,6911.3499999999995,5993.3499999999995,4648.6499999999996]
[44,null,9831.1,8618.15,7066.9,6128.5,4753.2,null,null,null,null,null,11566,10139,8314,7210,5592,9831.1,8618.15,7066.9,6128.5,4753.2]
[45,null,10059.75,8818.75,7226.7,6267.05,4861.1499999999996,null,null,null,null,null,11835,10375,8502,7373,5719,10059.75,8818.75,7226.7,6267.05,4861.1499999999996]
[46,null,10292.65,9021.0499999999993,7389.9,6408.15,4969.95,null,null,null,null,null,12109,10613,8694,7539,5847,10292.65,9021.0499999999993,7389.9,6408.15,4969.95]
[47,null,10530.65,9231.85,7557.3499999999995,6552.65,5082.1499999999996,null,null,null,null,null,12389,10861,8891,7709,5979,10530.65,9231.85,7557.3499999999995,6552.65,5082.1499999999996]
[48,null,10776.3,9442.65,7728.2,6701.4,5196.8999999999996,null,null,null,null,null,12678,11109,9092,7884,6114,10776.3,9442.65,7728.2,6701.4,5196.8999999999996]
[49,null,11023.65,9662.7999999999993,7901.5999999999995,6851.8499999999995,5314.2,null,null,null,null,null,12969,11368,9296,8061,6252,11023.65,9662.7999999999993,7901.5999999999995,6851.8499999999995,5314.2]
[50,null,11278.65,9884.65,8081.8,7007.4,5434.05,null,null,null,null,null,13269,11629,9508,8244,6393,11278.65,9884.65,8081.8,7007.4,5434.05]
[51,null,11538.75,10113.299999999999,8265.4,7166.3499999999995,5557.3,null,null,null,null,null,13575,11898,9724,8431,6538,11538.75,10113.299999999999,8265.4,7166.3499999999995,5557.3]
[52,null,11801.4,10345.35,8449.85,7327,5682.25,null,null,null,null,null,13884,12171,9941,8620,6685,11801.4,10345.35,8449.85,7327,5682.25]
[53,null,12072.55,10582.5,8640.25,7492.75,5810.5999999999995,null,null,null,null,null,14203,12450,10165,8815,6836,12072.55,10582.5,8640.25,7492.75,5810.5999999999995]
[54,null,12348.8,10823.05,8835.75,7661.9,5941.5,null,null,null,null,null,14528,12733,10395,9014,6990,12348.8,10823.05,8835.75,7661.9,5941.5]
[55,null,12631,11069.55,9033.7999999999993,7832.75,6075.8,null,null,null,null,null,14860,13023,10628,9215,7148,12631,11069.55,9033.7999999999993,7832.75,6075.8]
[56,null,12914.9,11319.449999999999,9236.1,8008.7,6210.0999999999995,null,null,null,null,null,15194,13317,10866,9422,7306,12914.9,11319.449999999999,9236.1,8008.7,6210.0999999999995]
[57,null,13206.449999999999,11576.15,9440.1,8184.65,6348.65,null,null,null,null,null,15537,13619,11106,9629,7469,13206.449999999999,11576.15,9440.1,8184.65,6348.65]
[58,null,13503.949999999999,11837.1,9649.1999999999989,8366.5499999999993,6489.75,null,null,null,null,null,15887,13926,11352,9843,7635,13503.949999999999,11837.1,9649.1999999999989,8366.5499999999993,6489.75]
[59,null,13804.85,12099.75,9864.25,8553.5499999999993,6632.55,null,null,null,null,null,16241,14235,11605,10063,7803,13804.85,12099.75,9864.25,8553.5499999999993,6632.55]
[60,null,14111.699999999999,12370.05,10080.15,8740.5499999999993,6778.75,null,null,null,null,null,16602,14553,11859,10283,7975,14111.699999999999,12370.05,10080.15,8740.5499999999993,6778.75]
[61,null,15726.699999999999,13785.3,11229.35,9735.9,7551.4,null,null,null,null,null,18502,16218,13211,11454,8884,15726.699999999999,13785.3,11229.35,9735.9,7551.4]
[62,null,17472.599999999999,15315.3,12471.199999999999,10813.699999999999,8386.1,null,null,null,null,null,20556,18018,14672,12722,9866,17472.599999999999,15315.3,12471.199999999999,10813.699999999999,8386.1]
[63,null,19352.8,16962.599999999999,13812.5,11976.5,9288.7999999999993,null,null,null,null,null,22768,19956,16250,14090,10928,19352.8,16962.599999999999,13812.5,11976.5,9288.7999999999993]
[64,null,21360.5,18722.099999999999,15248.15,13221.75,10255.25,null,null,null,null,null,25130,22026,17939,15555,12065,21360.5,18722.099999999999,15248.15,13221.75,10255.25]
[65,null,23503.35,20600.599999999999,16783.25,14552.85,11286.3,null,null,null,null,null,27651,24236,19745,17121,13278,23503.35,20600.599999999999,16783.25,14552.85,11286.3]
[66,null,25777.1,22595.55,18416.099999999999,15968.1,12385.35,null,null,null,null,null,30326,26583,21666,18786,14571,25777.1,22595.55,18416.099999999999,15968.1,12385.35]
[67,null,28181.75,24702.7,20144.149999999998,17465.8,13546.449999999999,null,null,null,null,null,33155,29062,23699,20548,15937,28181.75,24702.7,20144.149999999998,17465.8,13546.449999999999]
[68,null,30717.3,26923.75,21970.799999999999,19051.05,14775.55,null,null,null,null,null,36138,31675,25848,22413,17383,30717.3,26923.75,21970.799999999999,19051.05,14775.55]
[69,null,33388,29264.649999999998,23894.35,20718.75,16067.55,null,null,null,null,null,39280,34429,28111,24375,18903,33388,29264.649999999998,23894.35,20718.75,16067.55]
[70,null,36187.049999999996,31718.6,25915.649999999998,22471.45,17428.399999999998,null,null,null,null,null,42573,37316,30489,26437,20504,36187.049999999996,31718.6,25915.649999999998,22471.45,17428.399999999998]
[71,null,39121.25,34289.85,28033,24306.6,18850.45,null,null,null,null,null,46025,40341,32980,28596,22177,39121.25,34289.85,28033,24306.6,18850.45]
[72,null,42184.65,36975,30248.1,26227.599999999999,20341.349999999999,null,null,null,null,null,49629,43500,35586,30856,23931,42184.65,36975,30248.1,26227.599999999999,20341.349999999999]
[73,null,45380.65,39776.6,32556.7,28231.899999999998,21894.3,null,null,null,null,null,53389,46796,38302,33214,25758,45380.65,39776.6,32556.7,28231.899999999998,21894.3]
[74,null,48708.4,42693.799999999996,34967.299999999996,30320.35,23514.399999999998,null,null,null,null,null,57304,50228,41138,35671,27664,48708.4,42693.799999999996,34967.299999999996,30320.35,23514.399999999998]
[75,null,52168.75,45725.75,37473.1,32493.8,25199.95,null,null,null,null,null,61375,53795,44086,38228,29647,52168.75,45725.75,37473.1,32493.8,25199.95]
[76,null,52168.75,45725.75,37473.1,32493.8,25199.95,null,null,null,null,null,61375,53795,44086,38228,29647,{"$f":"M64*85%","v":52168.75},{"$f":"N64*85%","v":45725.75},{"$f":"O64*85%","v":37473.1},{"$f":"P64*85%","v":32493.8},{"$f":"Q64*85%","v":25199.95}]
[77,null,52168.75,45725.75,37473.1,32493.8,25199.95,null,null,null,null,null,61375,53795,44086,38228,29647,52168.75,45725.75,37473.1,32493.8,25199.95]
[78,null,52168.75,45725.75,37473.1,32493.8,25199.95,null,null,null,null,null,61375,53795,44086,38228,29647,52168.75,45725.75,37473.1,32493.8,25199.95]
[79,null,52168.75,45725.75,37473.1,32493.8,25199.95,null,null,null,null,null,61375,53795,44086,38228,29647,52168.75,45725.75,37473.1,32493.8,25199.95]
[80,null,52168.75,45725.75,37473.1,32493.8,25199.95,null,null,null,null,null,61375,53795,44086,38228,29647,52168.75,45725.75,37473.1,32493.8,25199.95]
[81,null,52168.75,45725.75,37473.1,32493.8,25199.95,null,null,null,null,null,61375,53795,44086,38228,29647,52168.75,45725.75,37473.1,32493.8,25199.95]
[82,null,52168.75,45725.75,37473.1,32493.8,25199.95,null,null,null,null,null,61375,53795,44086,38228,29647,52168.75,45725.75,37473.1,32493.8,25199.95]
[83,null,{"$f":"M71*$K$6","v":52168.75},{"$f":"N71*$K$6","v":45725.75},{"$f":"O71*$K$6","v":37473.1},{"$f":"P71*$K$6","v":32493.8},{"$f":"Q71*$K$6","v":25199.95},null,null,null,null,null,61375,53795,44086,38228,29647,52168.75,45725.75,37473.1,32493.8,25199.95]
[84,"o más",52168.75,45725.75,37473.1,32493.8,25199.95,null,null,null,null,null,61375,53795,44086,38228,29647,52168.75,45725.75,37473.1,32493.8,25199.95]
[1,"Hijo",2674.1,2342.6,1984.75,1722.1,1335.35,null,null,null,null,null,3146,2756,2335,2026,1571,{"$f":"M73*85%","v":2674.1},{"$f":"N73*85%","v":2342.6},{"$f":"O73*85%","v":1984.75},{"$f":"P73*85%","v":1722.1},{"$f":"Q73*85%","v":1335.35}]
[2,"Hijos",4545.8,3984.7999999999997,3373.65,2925.7,2269.5,null,null,null,null,null,5348,4688,3969,3442,2670,4545.8,3984.7999999999997,3373.65,2925.7,2269.5]
[3,"Hijos o más",6415.8,5625.3,4763.3999999999996,4131,3203.65,null,null,null,null,null,7548,6618,5604,4860,3769,6415.8,5625.3,4763.3999999999996,4131,3203.65]
[]
["BUPA GLOBAL ELITE - MENSUALES",null,null,null,null,null,null,"?"]
["EDAD"]
[" "," ",1000,2000,3500]
[18,null,{"$f":"+C6*$K$2","v":554.46066666666661},{"$f":"+D6*$K$2","v":485.91666666666669},411.66066666666666,356.8413333333333,276.87333333333333]
[19,null,{"$f":"+C7*$K$2","v":561.12466666666671},491.86666666666667,416.024,360.80799999999999,279.88799999999998]
[20,null,{"$f":"+C8*$K$2","v":568.2646666666667},497.89599999999996,420.62533333333334,364.69533333333334,282.82333333333332]
[21,null,{"$f":"+C9*$K$2","v":575.32533333333333},504.322,425.30599999999998,368.82066666666668,286.07600000000002]
[22,null,{"$f":"+C10*$K$2","v":582.78266666666661},510.82733333333334,430.30399999999997,373.18400000000003,289.40800000000002]
[23,null,{"$f":"+C11*$K$2","v":590.47800000000007},517.72933333333333,435.46066666666667,377.54733333333337,292.89866666666666]
[24,null,{"$f":"+C12*$K$2","v":598.41133333333335},524.79000000000008,440.69666666666672,382.14866666666666,296.38933333333335]
[25,null,{"$f":"+C13*$K$2","v":606.82066666666663},531.85066666666671,446.012,386.75,300.03866666666664]
[26,null,{"$f":"+C14*$K$2","v":618.72066666666672},542.24333333333334,454.10399999999998,393.81066666666663,305.43333333333334]
[27,null,{"$f":"+C15*$K$2","v":631.01733333333334},553.19133333333343,462.43399999999997,401.03000000000003,310.98666666666668]
[28,null,{"$f":"+C16*$K$2","v":643.94866666666667},564.53599999999994,471.08133333333336,408.40800000000002,316.85733333333337]
[29,null,{"$f":"+C17*$K$2","v":657.43533333333335},576.27733333333333,480.2046666666667,416.34133333333335,322.88666666666666]
[30,null,{"$f":"+C18*$K$2","v":671.23933333333332},588.41533333333336,489.72466666666668,424.67133333333339,329.3126666666667]
[31,null,{"$f":"+C19*$K$2","v":685.75733333333335},601.26733333333334,499.24466666666672,433.00133333333338,335.73866666666669]
[32,null,{"$f":"+C20*$K$2","v":700.51333333333332},614.04000000000008,509.63733333333334,441.96599999999995,342.72]
[33,null,{"$f":"+C21*$K$2","v":716.0626666666667},627.68533333333335,519.95066666666662,451.01000000000005,349.70133333333331]
[34,null,{"$f":"+C22*$K$2","v":731.92933333333326},641.41000000000008,530.89866666666671,460.53000000000003,357]
[35,null,{"$f":"+C23*$K$2","v":748.27200000000005},655.84866666666665,542.16399999999999,470.12933333333331,364.61599999999999]
[36,null,{"$f":"+C24*$K$2","v":765.09066666666672},670.60466666666673,553.58800000000008,480.12533333333334,372.23200000000003]
[37,null,{"$f":"+C25*$K$2","v":782.38533333333328},685.8366666666667,565.80533333333335,490.59733333333332,380.48266666666666]
[38,null,{"$f":"+C26*$K$2","v":800.31466666666665},701.46533333333332,578.10199999999998,501.3073333333333,388.654]
[39,null,{"$f":"+C27*$K$2","v":818.56133333333332},717.4906666666667,590.79533333333336,512.25533333333328,397.30133333333339]
[40,null,{"$f":"+C28*$K$2","v":837.28399999999999},733.99199999999996,603.64733333333334,523.52066666666667,406.02800000000002]
[41,null,{"$f":"+C29*$K$2","v":856.72066666666672},750.96933333333334,617.21333333333337,535.10333333333335,415.072]
[42,null,{"$f":"+C30*$K$2","v":876.63333333333333},768.18466666666666,631.01733333333334,547.24133333333339,424.35399999999998]
[43,null,{"$f":"+C31*$K$2","v":896.86333333333334},786.03466666666668,645.05933333333326,559.37933333333331,433.87399999999997]
[44,null,{"$f":"+C32*$K$2","v":917.56933333333336},804.3606666666667,659.57733333333329,571.99333333333334,443.63200000000001]
[45,null,{"$f":"+C33*$K$2","v":938.91000000000008},823.08333333333337,674.49199999999996,584.92466666666667,453.70733333333334]
[46,null,{"$f":"+C34*$K$2","v":960.64733333333334},841.96466666666663,689.72400000000005,598.09399999999994,463.86200000000002]
[47,null,{"$f":"+C35*$K$2","v":982.8606666666667},861.63933333333341,705.35266666666666,611.58066666666662,474.334]
[48,null,{"$f":"+C36*$K$2","v":1005.788},881.31399999999996,721.29866666666669,625.46399999999994,485.04399999999998]
[49,null,{"$f":"+C37*$K$2","v":1028.874},901.86133333333328,737.48266666666666,639.50599999999997,495.99200000000002]
[50,null,{"$f":"+C38*$K$2","v":1052.674},922.56733333333329,754.30133333333333,654.024,507.17800000000005]
[51,null,{"$f":"+C39*$K$2","v":1076.95},943.90800000000002,771.4373333333333,668.85933333333332,518.68133333333333]
[52,null,{"$f":"+C40*$K$2","v":1101.4639999999999},965.56600000000003,788.65266666666673,683.85333333333335,530.34333333333336]
[53,null,{"$f":"+C41*$K$2","v":1126.7713333333334},987.7,806.4233333333334,699.32333333333338,542.32266666666669]
[54,null,{"$f":"+C42*$K$2","v":1152.5546666666667},1010.1513333333334,824.67000000000007,715.1106666666667,554.54000000000008]
[55,null,{"$f":"+C43*$K$2","v":1178.8933333333334},1033.1579999999999,843.15466666666669,731.05666666666673,567.07466666666676]
[56,null,{"$f":"+C44*$K$2","v":1205.3906666666667},1056.482,862.03600000000006,747.47866666666664,579.60933333333332]
[57,null,{"$f":"+C45*$K$2","v":1232.6019999999999},1080.4406666666666,881.07600000000002,763.90066666666667,592.54066666666665]
[58,null,{"$f":"+C46*$K$2","v":1260.3686666666665},1104.796,900.59199999999998,780.87799999999993,605.71]
[59,null,{"$f":"+C47*$K$2","v":1288.4526666666668},1129.31,920.66333333333341,798.3313333333333,619.03800000000001]
[60,null,{"$f":"+C48*$K$2","v":1317.0919999999999},1154.538,940.81399999999996,815.78466666666668,632.68333333333339]
[61,null,{"$f":"+C49*$K$2","v":1467.8253333333332},1286.6279999999999,1048.0726666666667,908.68399999999997,704.79733333333331]
[62,null,{"$f":"+C50*$K$2","v":1630.7759999999998},1429.4279999999999,1163.9786666666666,1009.2786666666666,782.70266666666669]
[63,null,{"$f":"+C51*$K$2","v":1806.2613333333334},1583.1759999999999,1289.1666666666667,1117.8066666666666,866.95466666666664]
[64,null,{"$f":"+C52*$K$2","v":1993.6466666666668},1747.396,1423.1606666666667,1234.03,957.15666666666675]
[65,null,{"$f":"+C53*$K$2","v":2193.6460000000002},1922.7226666666666,1566.4366666666667,1358.2660000000001,1053.3879999999999]
[66,null,{"$f":"+C54*$K$2","v":2405.8626666666664},2108.9180000000001,1718.836,1490.356,1155.9660000000001]
[67,null,{"$f":"+C55*$K$2","v":2630.2966666666666},2305.5853333333334,1880.1206666666665,1630.1413333333333,1264.3353333333332]
[68,null,{"$f":"+C56*$K$2","v":2866.9479999999999},2512.8833333333337,2050.6080000000002,1778.098,1379.0513333333333]
[69,null,{"$f":"+C57*$K$2","v":3116.2133333333336},2731.3673333333331,2230.1393333333335,1933.75,1499.6379999999999]
[70,null,{"$f":"+C58*$K$2","v":3377.4579999999996},2960.4026666666668,2418.7939999999999,2097.3353333333334,1626.6506666666664]
[71,null,{"$f":"+C59*$K$2","v":3651.3166666666666},3200.386,2616.4133333333334,2268.616,1759.3753333333334]
[72,null,{"$f":"+C60*$K$2","v":3937.2340000000004},3451,2823.1559999999999,2447.9093333333335,1898.5259999999998]
[73,null,{"$f":"+C61*$K$2","v":4235.5273333333334},3712.4826666666668,3038.6253333333334,2634.9773333333333,2043.4680000000001]
[74,null,{"$f":"+C62*$K$2","v":4546.1173333333336},3984.7546666666663,3263.6146666666664,2829.8993333333333,2194.6773333333331]
[75,null,{"$f":"+C63*$K$2","v":4869.0833333333339},4267.7366666666667,3497.4893333333334,3032.7546666666667,2351.9953333333333]
[76,null,{"$f":"+C64*$K$2","v":4869.0833333333339},4267.7366666666667,3497.4893333333334,3032.7546666666667,2351.9953333333333]
[77,null,{"$f":"+C65*$K$2","v":4869.0833333333339},4267.7366666666667,3497.4893333333334,3032.7546666666667,2351.9953333333333]
[78,null,{"$f":"+C66*$K$2","v":4869.0833333333339},4267.7366666666667,3497.4893333333334,3032.7546666666667,2351.9953333333333]
[79,null,{"$f":"+C67*$K$2","v":4869.0833333333339},4267.7366666666667,3497.4893333333334,3032.7546666666667,2351.9953333333333]
[80,null,{"$f":"+C68*$K$2","v":4869.0833333333339},4267.7366666666667,3497.4893333333334]
[81,null,{"$f":"+C69*$K$2","v":4869.0833333333339},4267.7366666666667,3497.4893333333334]
[82,null,{"$f":"+C70*$K$2","v":4869.0833333333339},4267.7366666666667,3497.4893333333334]
[83,null,{"$f":"+C71*$K$2","v":4869.0833333333339},4267.7366666666667,3497.4893333333334]
[84,"o más",{"$f":"+C72*$K$2","v":4869.0833333333339},4267.7366666666667,3497.4893333333334,3032.7546666666667,2351.9953333333333]
[1,"Hijo",{"$f":"+C73*$K$2","v":249.58266666666668},218.64266666666666,185.24333333333334,160.72933333333333,124.63266666666667]
[2,"Hijos",{"$f":"+C74*$K$2","v":424.27466666666669},371.91466666666668,314.87400000000002,273.06533333333334,211.82000000000002]
[3,"Hijos o más",{"$f":"+C75*$K$2","v":598.80799999999999},525.02800000000002,444.584,385.56,299.00733333333335]
[]
["BUPA GLOBAL PREMIER"]
["TARIFAS ANUALES"]
["EDAD"]
[" "," ",2000,3500,5000,10000,null,null,null,null,null,null,2000,3500,5000,10000]
[18,null,{"$f":"R155","v":4040.0499999999997},{"$f":"S155","v":3667.75},2743.7999999999997,1984.75,{"$f":"Q155*$K$6","v":0},null,null,null,null,null,4753,4315,3228,2335,null,{"$f":"M155*0.85","v":4040.0499999999997},{"$f":"N155*0.85","v":3667.75},2743.7999999999997,1984.75]
[19,null,{"$f":"R156","v":4091.0499999999997},{"$f":"S156","v":3712.7999999999997},{"$f":"T156","v":2768.45},{"$f":"U156","v":2003.45},{"$f":"Q156*$K$6","v":0},null,null,null,null,null,4813,4368,3257,2357,null,{"$f":"M156*0.85","v":4091.0499999999997},{"$f":"N156*0.85","v":3712.7999999999997},{"$f":"O156*0.85","v":2768.45},{"$f":"P156*0.85","v":2003.45}]
[20,null,4141.2,3757.85,2797.35,2024.7,0,null,null,null,null,null,4872,4421,3291,2382,null,4141.2,3757.85,2797.35,2024.7]
[21,null,4193.8999999999996,3804.6,2826.25,2045.95,0,null,null,null,null,null,4934,4476,3325,2407,null,4193.8999999999996,3804.6,2826.25,2045.95]
[22,null,4246.5999999999995,3856.45,2855.15,2068.0499999999997,0,null,null,null,null,null,4996,4537,3359,2433,null,4246.5999999999995,3856.45,2855.15,2068.0499999999997]
[23,null,4303.55,3906.6,2885.75,2089.2999999999997,0,null,null,null,null,null,5063,4596,3395,2458,null,4303.55,3906.6,2885.75,2089.2999999999997]
[24,null,4363.05,3959.2999999999997,2918.0499999999997,2112.25,0,null,null,null,null,null,5133,4658,3433,2485,null,4363.05,3959.2999999999997,2918.0499999999997,2112.25]
[25,null,4422.55,4012.85,2950.35,2135.1999999999998,0,null,null,null,null,null,5203,4721,3471,2512,null,4422.55,4012.85,2950.35,2135.1999999999998]
[26,null,4509.25,4093.6,3001.35,2171.75,0,null,null,null,null,null,5305,4816,3531,2555,null,4509.25,4093.6,3001.35,2171.75]
[27,null,4598.5,4175.2,3051.5,2209.15,0,null,null,null,null,null,5410,4912,3590,2599,null,4598.5,4175.2,3051.5,2209.15]
[28,null,4692.8499999999995,4259.3499999999995,3104.2,2247.4,0,null,null,null,null,null,5521,5011,3652,2644,null,4692.8499999999995,4259.3499999999995,3104.2,2247.4]
[29,null,4791.45,4347.75,3160.2999999999997,2288.1999999999998,0,null,null,null,null,null,5637,5115,3718,2692,null,4791.45,4347.75,3160.2999999999997,2288.1999999999998]
[30,null,4892.5999999999995,4442.0999999999995,3219.7999999999997,2331.5499999999997,0,null,null,null,null,null,5756,5226,3788,2743,null,4892.5999999999995,4442.0999999999995,3219.7999999999997,2331.5499999999997]
[31,null,4996.3,4535.5999999999995,3281,2374.9,0,null,null,null,null,null,5878,5336,3860,2794,null,4996.3,4535.5999999999995,3281,2374.9]
[32,null,5105.95,4634.2,3343.0499999999997,2419.9499999999998,0,null,null,null,null,null,6007,5452,3933,2847,null,5105.95,4634.2,3343.0499999999997,2419.9499999999998]
[33,null,5217.3,4736.2,3410.2,2467.5499999999997,0,null,null,null,null,null,6138,5572,4012,2903,null,5217.3,4736.2,3410.2,2467.5499999999997]
[34,null,5333.75,4839.8999999999996,3476.5,2516.85,0,null,null,null,null,null,6275,5694,4090,2961,null,5333.75,4839.8999999999996,3476.5,2516.85]
[35,null,5451.9,4949.55,3549.6,2569.5499999999997,0,null,null,null,null,null,6414,5823,4176,3023,null,5451.9,4949.55,3549.6,2569.5499999999997]
[36,null,5576,5060.8999999999996,3623.5499999999997,2622.25,0,null,null,null,null,null,6560,5954,4263,3085,null,5576,5060.8999999999996,3623.5499999999997,2622.25]
[37,null,5702.65,5174.8,3698.35,2676.65,0,null,null,null,null,null,6709,6088,4351,3149,null,5702.65,5174.8,3698.35,2676.65]
[38,null,5831.8499999999995,5294.65,3776.5499999999997,2732.75,0,null,null,null,null,null,6861,6229,4443,3215,null,5831.8499999999995,5294.65,3776.5499999999997,2732.75]
[39,null,5967,5416.2,3855.6,2791.4,0,null,null,null,null,null,7020,6372,4536,3284,null,5967,5416.2,3855.6,2791.4]
[40,null,6103,5540.3,3937.2,2849.2,0,null,null,null,null,null,7180,6518,4632,3352,null,6103,5540.3,3937.2,2849.2]
[41,null,6244.95,5666.95,4021.35,2910.4,0,null,null,null,null,null,7347,6667,4731,3424,null,6244.95,5666.95,4021.35,2910.4]
[42,null,6386.9,5797,4109.75,2974.15,0,null,null,null,null,null,7514,6820,4835,3499,null,6386.9,5797,4109.75,2974.15]
[43,null,6537.3499999999995,5931.3,4199.8499999999995,3041.2999999999997,0,null,null,null,null,null,7691,6978,4941,3578,null,6537.3499999999995,5931.3,4199.8499999999995,3041.2999999999997]
[44,null,6686.0999999999995,6069,4292.5,3107.6,0,null,null,null,null,null,7866,7140,5050,3656,null,6686.0999999999995,6069,4292.5,3107.6]
[45,null,6842.5,6211.8,4387.7,3176.45,0,null,null,null,null,null,8050,7308,5162,3737,null,6842.5,6211.8,4387.7,3176.45]
[46,null,7002.3,6354.5999999999995,4484.5999999999995,3245.2999999999997,0,null,null,null,null,null,8238,7476,5276,3818,null,7002.3,6354.5999999999995,4484.5999999999995,3245.2999999999997]
[47,null,7164.65,6500.8,4584.8999999999996,3319.25,0,null,null,null,null,null,8429,7648,5394,3905,null,7164.65,6500.8,4584.8999999999996,3319.25]
[48,null,7329.55,6651.25,4686.05,3391.5,0,null,null,null,null,null,8623,7825,5513,3990,null,7329.55,6651.25,4686.05,3391.5]
[49,null,7499.55,6805.0999999999995,4789.75,3466.2999999999997,0,null,null,null,null,null,8823,8006,5635,4078,null,7499.55,6805.0999999999995,4789.75,3466.2999999999997]
[50,null,7670.4,6962.3499999999995,4896.8499999999995,3543.65,0,null,null,null,null,null,9024,8191,5761,4169,null,7670.4,6962.3499999999995,4896.8499999999995,3543.65]
[51,null,7848.05,7122.15,5003.95,3622.7,0,null,null,null,null,null,9233,8379,5887,4262,null,7848.05,7122.15,5003.95,3622.7]
[52,null,8029.0999999999995,7285.3499999999995,5116.1499999999996,3703.45,0,null,null,null,null,null,9446,8571,6019,4357,null,8029.0999999999995,7285.3499999999995,5116.1499999999996,3703.45]
[53,null,8211.85,7452.8,5230.8999999999996,3786.75,0,null,null,null,null,null,9661,8768,6154,4455,null,8211.85,7452.8,5230.8999999999996,3786.75]
[54,null,8398.85,7621.0999999999995,5345.65,3869.2,0,null,null,null,null,null,9881,8966,6289,4552,null,8398.85,7621.0999999999995,5345.65,3869.2]
[55,null,8592.65,7797.05,5463.8,3955.9,0,null,null,null,null,null,10109,9173,6428,4654,null,8592.65,7797.05,5463.8,3955.9]
[56,null,8783.9,7973,5585.3499999999995,4042.6,0,null,null,null,null,null,10334,9380,6571,4756,null,8783.9,7973,5585.3499999999995,4042.6]
[57,null,8983.65,8152.3499999999995,5709.45,4133.55,0,null,null,null,null,null,10569,9591,6717,4863,null,8983.65,8152.3499999999995,5709.45,4133.55]
[58,null,9185.9499999999989,8335.1,5835.25,4224.5,0,null,null,null,null,null,10807,9806,6865,4970,null,9185.9499999999989,8335.1,5835.25,4224.5]
[59,null,9389.9499999999989,8522.1,5963.5999999999995,4315.45,0,null,null,null,null,null,11047,10026,7016,5077,null,9389.9499999999989,8522.1,5963.5999999999995,4315.45]
[60,null,9600.75,8712.5,6094.5,4411.5,0,null,null,null,null,null,11295,10250,7170,5190,null,9600.75,8712.5,6094.5,4411.5]
[61,null,10697.25,9708.6999999999989,6782.15,4909.5999999999995,0,null,null,null,null,null,12585,11422,7979,5776,null,10697.25,9708.6999999999989,6782.15,4909.5999999999995]
[62,null,11883.85,10784.8,7532.7,5451.9,0,null,null,null,null,null,13981,12688,8862,6414,null,11883.85,10784.8,7532.7,5451.9]
[63,null,13162.25,11944.199999999999,8341.0499999999993,6038.4,0,null,null,null,null,null,15485,14052,9813,7104,null,13162.25,11944.199999999999,8341.0499999999993,6038.4]
[64,null,14528.199999999999,13186.05,9211.4499999999989,6666.55,0,null,null,null,null,null,17092,15513,10837,7843,null,14528.199999999999,13186.05,9211.4499999999989,6666.55]
[65,null,15985.949999999999,14506.1,10139.65,7338.05,0,null,null,null,null,null,18807,17066,11929,8633,null,15985.949999999999,14506.1,10139.65,7338.05]
[66,null,17532.95,15909.449999999999,11129.9,8055.45,0,null,null,null,null,null,20627,18717,13094,9477,null,17532.95,15909.449999999999,11129.9,8055.45]
[67,null,19169.2,17395.25,12181.35,8817.0499999999993,0,null,null,null,null,null,22552,20465,14331,10373,null,19169.2,17395.25,12181.35,8817.0499999999993]
[68,null,20893.849999999999,18960.95,13290.6,9617.75,0,null,null,null,null,null,24581,22307,15636,11315,null,20893.849999999999,18960.95,13290.6,9617.75]
[69,null,22706.899999999998,20609.099999999999,14460.199999999999,10466.049999999999,0,null,null,null,null,null,26714,24246,17012,12313,null,22706.899999999998,20609.099999999999,14460.199999999999,10466.049999999999]
[70,null,24613.45,22337.149999999998,15691.85,11356.85,0,null,null,null,null,null,28957,26279,18461,13361,null,24613.45,22337.149999999998,15691.85,11356.85]
[71,null,26608.399999999998,24146.799999999999,16982.149999999998,12291.85,0,null,null,null,null,null,31304,28408,19979,14461,null,26608.399999999998,24146.799999999999,16982.149999999998,12291.85]
[72,null,28691.75,26038.899999999998,18330.25,13267.65,0,null,null,null,null,null,33755,30634,21565,15609,null,28691.75,26038.899999999998,18330.25,13267.65]
[73,null,30866.899999999998,28010.899999999998,19741.25,14286.8,0,null,null,null,null,null,36314,32954,23225,16808,null,30866.899999999998,28010.899999999998,19741.25,14286.8]
[74,null,33128.75,30065.35,21211.75,15352.699999999999,0,null,null,null,null,null,38975,35371,24955,18062,null,33128.75,30065.35,21211.75,15352.699999999999]
[75,null,35482.400000000001,32201.399999999998,22740.899999999998,16457.7,0,null,null,null,null,null,41744,37884,26754,19362,null,35482.400000000001,32201.399999999998,22740.899999999998,16457.7]
[76,null,35482.400000000001,32201.399999999998,22740.899999999998,16457.7,0,null,null,null,null,null,41744,37884,26754,19362,null,35482.400000000001,32201.399999999998,22740.899999999998,16457.7]
[77,null,35482.400000000001,32201.399999999998,22740.899999999998,16457.7,0,null,null,null,null,null,41744,37884,26754,19362,null,35482.400000000001,32201.399999999998,22740.899999999998,16457.7]
[78,null,35482.400000000001,32201.399999999998,22740.899999999998,16457.7,0,null,null,null,null,null,41744,37884,26754,19362,null,35482.400000000001,32201.399999999998,22740.899999999998,16457.7]
[79,null,35482.400000000001,32201.399999999998,22740.899999999998,16457.7,0,null,null,null,null,null,41744,37884,26754,19362,null,35482.400000000001,32201.399999999998,22740.899999999998,16457.7]
[80,null,35482.400000000001,32201.399999999998,22740.899999999998,16457.7,0,null,null,null,null,null,41744,37884,26754,19362,null,35482.400000000001,32201.399999999998,22740.899999999998,16457.7]
[81,null,35482.400000000001,32201.399999999998,22740.899999999998,16457.7,0,null,null,null,null,null,41744,37884,26754,19362,null,35482.400000000001,32201.399999999998,22740.899999999998,16457.7]
[82,null,35482.400000000001,32201.399999999998,22740.899999999998,16457.7,0,null,null,null,null,null,41744,37884,26754,19362,null,35482.400000000001,32201.399999999998,22740.899999999998,16457.7]
[83,null,{"$f":"R220","v":35482.400000000001},{"$f":"S220","v":32201.399999999998},{"$f":"T220","v":22740.899999999998},{"$f":"U220","v":16457.7},{"$f":"Q220*$K$6","v":0},null,null,null,null,null,41744,37884,26754,19362,null,{"$f":"M220*0.85","v":35482.400000000001},{"$f":"N220*0.85","v":32201.399999999998},{"$f":"O220*0.85","v":22740.899999999998},{"$f":"P220*0.85","v":16457.7}]
[84,"o más",35482.400000000001,32201.399999999998,22740.899999999998,16457.7,0,null,null,null,null,null,41744,37884,26754,19362,null,35482.400000000001,32201.399999999998,22740.899999999998,16457.7]
[1,"Hijo",1818.1499999999999,1651.55,1235.05,895.05,0,null,null,null,null,null,2139,1943,1453,1053,null,1818.1499999999999,1651.55,1235.05,895.05]
[2,"Hijos",3092.2999999999997,2805,2098.65,1520.6499999999999,0,null,null,null,null,null,3638,3300,2469,1789,null,3092.2999999999997,2805,2098.65,1520.6499999999999]
[3,"Hijos o más",4363.8999999999996,3961.85,2961.4,2143.6999999999998,0,null,null,null,null,null,5134,4661,3484,2522,null,4363.8999999999996,3961.85,2961.4,2143.6999999999998]
[]
["BUPA GLOBAL PREMIER - MENSUALES"]
["EDAD"]
[" "," ",2000,3500,5000]
[18,null,{"$f":"+C155*$K$2","v":377.07133333333331},342.32333333333332,256.08799999999997,185.24333333333334,0]
[19,null,{"$f":"+C156*$K$2","v":381.8313333333333},346.52799999999996,258.38866666666667,186.98866666666669,0]
[20,null,{"$f":"+C157*$K$2","v":386.512},350.73266666666666,261.08600000000001,188.97200000000001,0]
[21,null,{"$f":"+C158*$K$2","v":391.43066666666664},355.096,263.78333333333336,190.95533333333336,0]
[22,null,{"$f":"+C159*$K$2","v":396.34933333333328},359.93533333333335,266.48066666666671,193.01799999999997,0]
[23,null,{"$f":"+C160*$K$2","v":401.66466666666668},364.61599999999999,269.3366666666667,195.00133333333332,0]
[24,null,{"$f":"+C161*$K$2","v":407.21800000000002},369.53466666666668,272.35133333333334,197.14333333333335,0]
[25,null,{"$f":"+C162*$K$2","v":412.77133333333336},374.53266666666667,275.36599999999999,199.28533333333331,0]
[26,null,{"$f":"+C163*$K$2","v":420.86333333333334},382.06933333333336,280.12599999999998,202.69666666666669,0]
[27,null,{"$f":"+C164*$K$2","v":429.19333333333333},389.68533333333335,284.80666666666667,206.18733333333336,0]
[28,null,{"$f":"+C165*$K$2","v":437.99933333333331},397.53933333333327,289.72533333333331,209.75733333333335,0]
[29,null,{"$f":"+C166*$K$2","v":447.202},405.79,294.9613333333333,213.56533333333331,0]
[30,null,{"$f":"+C167*$K$2","v":456.64266666666663},414.59599999999995,300.51466666666664,217.61133333333331,0]
[31,null,{"$f":"+C168*$K$2","v":466.32133333333337},423.32266666666663,306.22666666666669,221.65733333333336,0]
[32,null,{"$f":"+C169*$K$2","v":476.55533333333335},432.52533333333332,312.01799999999997,225.86199999999999,0]
[33,null,{"$f":"+C170*$K$2","v":486.94800000000004},442.04533333333336,318.28533333333331,230.30466666666666,0]
[34,null,{"$f":"+C171*$K$2","v":497.81666666666666},451.72399999999999,324.47333333333336,234.90600000000001,0]
[35,null,{"$f":"+C172*$K$2","v":508.84399999999999},461.95800000000003,331.29599999999999,239.82466666666664,0]
[36,null,{"$f":"+C173*$K$2","v":520.42666666666673},472.35066666666665,338.19799999999998,244.74333333333334,0]
[37,null,{"$f":"+C174*$K$2","v":532.24733333333336},482.9813333333334,345.17933333333332,249.82066666666668,0]
[38,null,{"$f":"+C175*$K$2","v":544.30599999999993},494.16733333333332,352.47800000000001,255.05666666666667,0]
[39,null,{"$f":"+C176*$K$2","v":556.92000000000007},505.512,359.85599999999999,260.53066666666666,0]
[40,null,{"$f":"+C177*$K$2","v":569.61333333333334},517.09466666666674,367.47199999999998,265.92533333333336,0]
[41,null,{"$f":"+C178*$K$2","v":582.86199999999997},528.91533333333336,375.32600000000002,271.63733333333334,0]
[42,null,{"$f":"+C179*$K$2","v":596.1106666666667},541.0533333333334,383.57666666666671,277.58733333333333,0]
[43,null,{"$f":"+C180*$K$2","v":610.15266666666662},553.58800000000008,391.98599999999999,283.85466666666667,0]
[44,null,{"$f":"+C181*$K$2","v":624.03599999999994},566.44000000000005,400.63333333333333,290.04266666666666,0]
[45,null,{"$f":"+C182*$K$2","v":638.63333333333333},579.76800000000003,409.51866666666666,296.46866666666665,0]
[46,null,{"$f":"+C183*$K$2","v":653.548},593.096,418.56266666666664,302.89466666666664,0]
[47,null,{"$f":"+C184*$K$2","v":668.70066666666662},606.74133333333339,427.92399999999998,309.79666666666668,0]
[48,null,{"$f":"+C185*$K$2","v":684.09133333333341},620.78333333333342,437.36466666666672,316.54000000000002,0]
[49,null,{"$f":"+C186*$K$2","v":699.95800000000008},635.14266666666663,447.04333333333335,323.5213333333333,0]
[50,null,{"$f":"+C187*$K$2","v":715.904},649.81933333333336,457.03933333333327,330.7406666666667,0]
[51,null,{"$f":"+C188*$K$2","v":732.48466666666673},664.73400000000004,467.03533333333331,338.11866666666668,0]
[52,null,{"$f":"+C189*$K$2","v":749.38266666666664},679.96600000000001,477.50733333333335,345.65533333333332,0]
[53,null,{"$f":"+C190*$K$2","v":766.43933333333337},695.59466666666674,488.21733333333333,353.43,0]
[54,null,{"$f":"+C191*$K$2","v":783.89266666666674},711.3026666666666,498.92733333333331,361.12533333333334,0]
[55,null,{"$f":"+C192*$K$2","v":801.98066666666671},727.72466666666674,509.9546666666667,369.21733333333339,0]
[56,null,{"$f":"+C193*$K$2","v":819.83066666666662},744.14666666666665,521.29933333333327,377.30933333333337,0]
[57,null,{"$f":"+C194*$K$2","v":838.47400000000005},760.88599999999997,532.88200000000006,385.79800000000006,0]
[58,null,{"$f":"+C195*$K$2","v":857.35533333333331},777.9426666666667,544.62333333333333,394.28666666666669,0]
[59,null,{"$f":"+C196*$K$2","v":876.39533333333327},795.39600000000007,556.60266666666666,402.77533333333332,0]
[60,null,{"$f":"+C197*$K$2","v":896.07},813.16666666666674,568.82000000000005,411.74,0]
[61,null,{"$f":"+C198*$K$2","v":998.41000000000008},906.14533333333327,633.00066666666669,458.22933333333333,0]
[62,null,{"$f":"+C199*$K$2","v":1109.1593333333335},1006.5813333333333,703.05200000000002,508.84399999999999,0]
[63,null,{"$f":"+C200*$K$2","v":1228.4766666666667},1114.7919999999999,778.49799999999993,563.58399999999995,0]
[64,null,{"$f":"+C201*$K$2","v":1355.9653333333333},1230.6980000000001,859.7353333333333,622.21133333333341,0]
[65,null,{"$f":"+C202*$K$2","v":1492.0219999999999},1353.9026666666668,946.36733333333336,684.8846666666667,0]
[66,null,{"$f":"+C203*$K$2","v":1636.4086666666667},1484.8820000000001,1038.7906666666668,751.84199999999998,0]
[67,null,{"$f":"+C204*$K$2","v":1789.1253333333334},1623.5566666666668,1136.9260000000002,822.92466666666667,0]
[68,null,{"$f":"+C205*$K$2","v":1950.0926666666667},1769.6886666666669,1240.4560000000001,897.65666666666675,0]
[69,null,{"$f":"+C206*$K$2","v":2119.3106666666667},1923.5159999999998,1349.6186666666665,976.8313333333333,0]
[70,null,{"$f":"+C207*$K$2","v":2297.2553333333335},2084.8006666666665,1464.5726666666667,1059.9726666666668,0]
[71,null,{"$f":"+C208*$K$2","v":2483.4506666666666},2253.7013333333334,1585.0006666666666,1147.2393333333334,0]
[72,null,{"$f":"+C209*$K$2","v":2677.896666666667},2430.2973333333334,1710.8233333333335,1238.3140000000001,0]
[73,null,{"$f":"+C210*$K$2","v":2880.9106666666667},2614.3506666666667,1842.5166666666667,1333.4346666666668,0]
[74,null,{"$f":"+C211*$K$2","v":3092.0166666666669},2806.0993333333331,1979.7633333333333,1432.9186666666667,0]
[75,null,{"$f":"+C212*$K$2","v":3311.6906666666669},3005.4639999999999,2122.4839999999999,1536.0520000000001,0]
[76,null,{"$f":"+C213*$K$2","v":3311.6906666666669},3005.4639999999999,2122.4839999999999,1536.0520000000001,0]
[77,null,{"$f":"+C214*$K$2","v":3311.6906666666669},3005.4639999999999,2122.4839999999999,1536.0520000000001,0]
[78,null,{"$f":"+C215*$K$2","v":3311.6906666666669},3005.4639999999999,2122.4839999999999,1536.0520000000001,0]
[79,null,{"$f":"+C216*$K$2","v":3311.6906666666669},3005.4639999999999,2122.4839999999999,1536.0520000000001,0]
[80,null,{"$f":"+C217*$K$2","v":3311.6906666666669},3005.4639999999999,2122.4839999999999,1536.0520000000001,0]
[81,null,{"$f":"+C218*$K$2","v":3311.6906666666669},3005.4639999999999,2122.4839999999999,1536.0520000000001,0]
[82,null,{"$f":"+C219*$K$2","v":3311.6906666666669},3005.4639999999999,2122.4839999999999,1536.0520000000001,0]
[83,null,{"$f":"+C220*$K$2","v":3311.6906666666669},3005.4639999999999,2122.4839999999999,1536.0520000000001,0]
[84,"o más",{"$f":"+C221*$K$2","v":3311.6906666666669},3005.4639999999999,2122.4839999999999,1536.0520000000001,0]
[1,"Hijo",{"$f":"+C222*$K$2","v":169.69399999999999},154.14466666666667,115.27133333333333,83.537999999999997,0]
[2,"Hijos",{"$f":"+C223*$K$2","v":288.61466666666666},261.8,195.87400000000002,141.92733333333334,0]
[3,"Hijos o más",{"$f":"+C224*$K$2","v":407.29733333333331},369.77266666666668,276.39733333333334,200.07866666666666,0]
[]
[]
["BUPA GLOBAL SELECT"]
["TARIFAS ANUALES",null,null,null,null,null,null,"OK"]
["EDAD"]
[" "," ",2000,3500,5000,10000,null,null,null,null,null,null,2000,3500,5000,10000,null,2000,3500,5000,10000]
[18,null,{"$f":"M305*$K$6","v":2687.7},{"$f":"N305*$K$6","v":2578.0499999999997},1994.1,1483.25,null,null,null,null,null,null,3162,3033,2346,1745,null,{"$f":"M305*85%","v":2687.7},{"$f":"N305*85%","v":2578.0499999999997},{"$f":"O305*85%","v":1994.1},{"$f":"P305*85%","v":1483.25}]
[19,null,{"$f":"M306*$K$6","v":2725.95},{"$f":"N306*$K$6","v":2615.4499999999998},{"$f":"O306*$K$6","v":2015.35},{"$f":"P306*$K$6","v":1500.25},null,null,null,null,null,null,3207,3077,2371,1765,null,{"$f":"M306*85%","v":2725.95},{"$f":"N306*85%","v":2615.4499999999998},{"$f":"O306*85%","v":2015.35},{"$f":"P306*85%","v":1500.25}]
[20,null,2762.5,2652,2039.1499999999999,1517.25,null,null,null,null,null,null,3250,3120,2399,1785,null,2762.5,2652,2039.1499999999999,1517.25]
[21,null,2804.15,2691.1,2062.1,1535.1,null,null,null,null,null,null,3299,3166,2426,1806,null,2804.15,2691.1,2062.1,1535.1]
[22,null,2846.65,2730.2,2088.4499999999998,1553.8,null,null,null,null,null,null,3349,3212,2457,1828,null,2846.65,2730.2,2088.4499999999998,1553.8]
[23,null,2890,2772.7,2114.7999999999997,1574.2,null,null,null,null,null,null,3400,3262,2488,1852,null,2890,2772.7,2114.7999999999997,1574.2]
[24,null,2934.2,2815.2,2142,1593.75,null,null,null,null,null,null,3452,3312,2520,1875,null,2934.2,2815.2,2142,1593.75]
[25,null,2981.7999999999997,2859.4,2170.0499999999997,1615,null,null,null,null,null,null,3508,3364,2553,1900,null,2981.7999999999997,2859.4,2170.0499999999997,1615]
[26,null,3048.1,2923.15,2211.6999999999998,1646.45,null,null,null,null,null,null,3586,3439,2602,1937,null,3048.1,2923.15,2211.6999999999998,1646.45]
[27,null,3117.7999999999997,2992.85,2254.1999999999998,1677.8999999999999,null,null,null,null,null,null,3668,3521,2652,1974,null,3117.7999999999997,2992.85,2254.1999999999998,1677.8999999999999]
[28,null,3190.9,3060.85,2299.25,1711.8999999999999,null,null,null,null,null,null,3754,3601,2705,2014,null,3190.9,3060.85,2299.25,1711.8999999999999]
[29,null,3267.4,3133.95,2349.4,1747.6,null,null,null,null,null,null,3844,3687,2764,2056,null,3267.4,3133.95,2349.4,1747.6]
[30,null,3345.6,3210.45,2397,1784.1499999999999,null,null,null,null,null,null,3936,3777,2820,2099,null,3345.6,3210.45,2397,1784.1499999999999]
[31,null,3427.2,3288.65,2449.6999999999998,1824.1,null,null,null,null,null,null,4032,3869,2882,2146,null,3427.2,3288.65,2449.6999999999998,1824.1]
[32,null,3511.35,3370.25,2504.1,1862.35,null,null,null,null,null,null,4131,3965,2946,2191,null,3511.35,3370.25,2504.1,1862.35]
[33,null,3597.2,3451.85,2559.35,1904,null,null,null,null,null,null,4232,4061,3011,2240,null,3597.2,3451.85,2559.35,1904]
[34,null,3688.15,3537.7,2618,1947.35,null,null,null,null,null,null,4339,4162,3080,2291,null,3688.15,3537.7,2618,1947.35]
[35,null,3780.7999999999997,3627.7999999999997,2677.5,1991.55,null,null,null,null,null,null,4448,4268,3150,2343,null,3780.7999999999997,3627.7999999999997,2677.5,1991.55]
[36,null,3876.85,3718.75,2739.5499999999997,2038.3,null,null,null,null,null,null,4561,4375,3223,2398,null,3876.85,3718.75,2739.5499999999997,2038.3]
[37,null,3974.6,3813.95,2804.15,2085.0499999999997,null,null,null,null,null,null,4676,4487,3299,2453,null,3974.6,3813.95,2804.15,2085.0499999999997]
[38,null,4075.75,3911.7,2871.2999999999997,2135.1999999999998,null,null,null,null,null,null,4795,4602,3378,2512,null,4075.75,3911.7,2871.2999999999997,2135.1999999999998]
[39,null,4179.45,4011.15,2940.15,2187.0499999999997,null,null,null,null,null,null,4917,4719,3459,2573,null,4179.45,4011.15,2940.15,2187.0499999999997]
[40,null,4287.3999999999996,4114.8499999999995,3009.85,2238.9,null,null,null,null,null,null,5044,4841,3541,2634,null,4287.3999999999996,4114.8499999999995,3009.85,2238.9]
[41,null,4397.05,4218.55,3082.1,2292.4499999999998,null,null,null,null,null,null,5173,4963,3626,2697,null,4397.05,4218.55,3082.1,2292.4499999999998]
[42,null,4509.25,4326.5,3156.9,2349.4,null,null,null,null,null,null,5305,5090,3714,2764,null,4509.25,4326.5,3156.9,2349.4]
[43,null,4625.7,4439.55,3233.4,2404.65,null,null,null,null,null,null,5442,5223,3804,2829,null,4625.7,4439.55,3233.4,2404.65]
[44,null,4743,4551.75,3311.6,2462.4499999999998,null,null,null,null,null,null,5580,5355,3896,2897,null,4743,4551.75,3311.6,2462.4499999999998]
[45,null,4864.55,4668.2,3393.2,2523.65,null,null,null,null,null,null,5723,5492,3992,2969,null,4864.55,4668.2,3393.2,2523.65]
[46,null,4988.6499999999996,4786.3499999999995,3473.1,2584,null,null,null,null,null,null,5869,5631,4086,3040,null,4988.6499999999996,4786.3499999999995,3473.1,2584]
[47,null,5117,4908.75,3558.1,2647.75,null,null,null,null,null,null,6020,5775,4186,3115,null,5117,4908.75,3558.1,2647.75]
[48,null,5247.05,5032.8499999999995,3647.35,2712.35,null,null,null,null,null,null,6173,5921,4291,3191,null,5247.05,5032.8499999999995,3647.35,2712.35]
[49,null,5376.25,5159.5,3735.75,2778.65,null,null,null,null,null,null,6325,6070,4395,3269,null,5376.25,5159.5,3735.75,2778.65]
[50,null,5513.0999999999995,5289.55,3825,2846.65,null,null,null,null,null,null,6486,6223,4500,3349,null,5513.0999999999995,5289.55,3825,2846.65]
[51,null,5651.65,5421.3,3920.2,2916.35,null,null,null,null,null,null,6649,6378,4612,3431,null,5651.65,5421.3,3920.2,2916.35]
[52,null,5791.9,5557.3,4013.7,2986.0499999999997,null,null,null,null,null,null,6814,6538,4722,3513,null,5791.9,5557.3,4013.7,2986.0499999999997]
[53,null,5936.4,5695,4111.45,3058.2999999999997,null,null,null,null,null,null,6984,6700,4837,3598,null,5936.4,5695,4111.45,3058.2999999999997]
[54,null,6081.75,5836.95,4211.75,3132.25,null,null,null,null,null,null,7155,6867,4955,3685,null,6081.75,5836.95,4211.75,3132.25]
[55,null,6231.3499999999995,5980.5999999999995,4312.05,3207.9,null,null,null,null,null,null,7331,7036,5073,3774,null,6231.3499999999995,5980.5999999999995,4312.05,3207.9]
[56,null,6385.2,6125.0999999999995,4415.75,3284.4,null,null,null,null,null,null,7512,7206,5195,3864,null,6385.2,6125.0999999999995,4415.75,3284.4]
[57,null,6540.75,6273.8499999999995,4519.45,3360.9,null,null,null,null,null,null,7695,7381,5317,3954,null,6540.75,6273.8499999999995,4519.45,3360.9]
[58,null,6698,6427.7,4628.25,3443.35,null,null,null,null,null,null,7880,7562,5445,4051,null,6698,6427.7,4628.25,3443.35]
[59,null,6857.8,6580.7,4738.75,3524.1,null,null,null,null,null,null,8068,7742,5575,4146,null,6857.8,6580.7,4738.75,3524.1]
[60,null,7022.7,6737.95,4850.0999999999995,3608.25,null,null,null,null,null,null,8262,7927,5706,4245,null,7022.7,6737.95,4850.0999999999995,3608.25]
[61,null,7882.9,7564.15,5440.8499999999995,4046.85,null,null,null,null,null,null,9274,8899,6401,4761,null,7882.9,7564.15,5440.8499999999995,4046.85]
[62,null,8815.35,8458.35,6079.2,4523.7,null,null,null,null,null,null,10371,9951,7152,5322,null,8815.35,8458.35,6079.2,4523.7]
[63,null,9818.35,9420.5499999999993,6771.95,5037.0999999999995,null,null,null,null,null,null,11551,11083,7967,5926,null,9818.35,9420.5499999999993,6771.95,5037.0999999999995]
[64,null,10891.9,10449.9,7515.7,5590.45,null,null,null,null,null,null,12814,12294,8842,6577,null,10891.9,10449.9,7515.7,5590.45]
[65,null,12036,11548.949999999999,8311.2999999999993,6182.05,null,null,null,null,null,null,14160,13587,9778,7273,null,12036,11548.949999999999,8311.2999999999993,6182.05]
[66,null,13251.5,12713.449999999999,9157.9,6812.75,null,null,null,null,null,null,15590,14957,10774,8015,null,13251.5,12713.449999999999,9157.9,6812.75]
[67,null,14536.699999999999,13947.65,10056.35,7480,null,null,null,null,null,null,17102,16409,11831,8800,null,14536.699999999999,13947.65,10056.35,7480]
[68,null,15893.3,15249,11005.8,8186.3499999999995,null,null,null,null,null,null,18698,17940,12948,9631,null,15893.3,15249,11005.8,8186.3499999999995]
[69,null,17321.3,16620.05,12007.949999999999,8931.7999999999993,null,null,null,null,null,null,20378,19553,14127,10508,null,17321.3,16620.05,12007.949999999999,8931.7999999999993]
[70,null,18819.849999999999,18059.099999999999,13061.1,9714.65,null,null,null,null,null,null,22141,21246,15366,11429,null,18819.849999999999,18059.099999999999,13061.1,9714.65]
[71,null,20389.8,19564.45,14166.1,10537.449999999999,null,null,null,null,null,null,23988,23017,16666,12397,null,20389.8,19564.45,14166.1,10537.449999999999]
[72,null,22031.149999999998,21136.95,15323.8,11397.65,null,null,null,null,null,null,25919,24867,18028,13409,null,22031.149999999998,21136.95,15323.8,11397.65]
[73,null,23743.05,22780,16530.8,12296.1,null,null,null,null,null,null,27933,26800,19448,14466,null,23743.05,22780,16530.8,12296.1]
[74,null,25525.5,24491.899999999998,17789.649999999998,13233.65,null,null,null,null,null,null,30030,28814,20929,15569,null,25525.5,24491.899999999998,17789.649999999998,13233.65]
[75,null,27379.35,26270.1,19100.349999999999,14208.6,null,null,null,null,null,null,32211,30906,22471,16716,null,27379.35,26270.1,19100.349999999999,14208.6]
[76,null,27379.35,26270.1,19100.349999999999,14208.6,null,null,null,null,null,null,32211,30906,22471,16716,null,27379.35,26270.1,19100.349999999999,14208.6]
[77,null,27379.35,26270.1,19100.349999999999,14208.6,null,null,null,null,null,null,32211,30906,22471,16716,null,27379.35,26270.1,19100.349999999999,14208.6]
[78,null,27379.35,26270.1,19100.349999999999,14208.6,null,null,null,null,null,null,32211,30906,22471,16716,null,27379.35,26270.1,19100.349999999999,14208.6]
[79,null,27379.35,26270.1,19100.349999999999,14208.6,null,null,null,null,null,null,32211,30906,22471,16716,null,27379.35,26270.1,19100.349999999999,14208.6]
[80,null,27379.35,26270.1,19100.349999999999,14208.6,null,null,null,null,null,null,32211,30906,22471,16716,null,27379.35,26270.1,19100.349999999999,14208.6]
[81,null,27379.35,26270.1,19100.349999999999,14208.6,null,null,null,null,null,null,32211,30906,22471,16716,null,27379.35,26270.1,19100.349999999999,14208.6]
[82,null,27379.35,26270.1,19100.349999999999,14208.6,null,null,null,null,null,null,32211,30906,22471,16716,null,27379.35,26270.1,19100.349999999999,14208.6]
[83,null,{"$f":"M370*$K$6","v":27379.35},{"$f":"N370*$K$6","v":26270.1},{"$f":"O370*$K$6","v":19100.349999999999},{"$f":"P370*$K$6","v":14208.6},null,null,null,null,null,null,32211,30906,22471,16716,null,{"$f":"M370*85%","v":27379.35},{"$f":"N370*85%","v":26270.1},{"$f":"O370*85%","v":19100.349999999999},{"$f":"P370*85%","v":14208.6}]
[84,"o más",27379.35,26270.1,19100.349999999999,14208.6,null,null,null,null,null,null,32211,30906,22471,16716,null,27379.35,26270.1,19100.349999999999,14208.6]
[1,"Hijo",1351.5,1295.3999999999999,1001.3,745.44999999999993,null,null,null,null,null,null,1590,1524,1178,877,null,1351.5,1295.3999999999999,1001.3,745.44999999999993]
[2,"Hijos",2295.85,2201.5,1703.3999999999999,1267.3499999999999,null,null,null,null,null,null,2701,2590,2004,1491,null,2295.85,2201.5,1703.3999999999999,1267.3499999999999]
[3,"Hijos o más",3241.0499999999997,3110.15,2403.7999999999997,1788.3999999999999,null,null,null,null,null,null,3813,3659,2828,2104,null,3241.0499999999997,3110.15,2403.7999999999997,1788.3999999999999]
[]
["BUPA GLOBAL SELECT - MENSUALES"]
["EDAD"]
[" "," ",2000,3500,5000]
[18,null,{"$f":"+C305*$K$2","v":250.852},240.61799999999999,186.11600000000001,138.43666666666667,0]
[19,null,{"$f":"+C306*$K$2","v":254.422},244.10866666666666,188.09933333333333,140.02333333333334,0]
[20,null,{"$f":"+C307*$K$2","v":257.83333333333337},247.52,190.32066666666665,141.61000000000001,0]
[21,null,{"$f":"+C308*$K$2","v":261.72066666666666},251.16933333333333,192.46266666666668,143.27600000000001,0]
[22,null,{"$f":"+C309*$K$2","v":265.68733333333336},254.81866666666667,194.922,145.02133333333333,0]
[23,null,{"$f":"+C310*$K$2","v":269.73333333333335},258.78533333333331,197.38133333333332,146.92533333333336,0]
[24,null,{"$f":"+C311*$K$2","v":273.85866666666664},262.75200000000001,199.92000000000002,148.75,0]
[25,null,{"$f":"+C312*$K$2","v":278.30133333333333},266.87733333333335,202.53799999999998,150.73333333333335,0]
[26,null,{"$f":"+C313*$K$2","v":284.48933333333332},272.82733333333334,206.42533333333333,153.66866666666667,0]
[27,null,{"$f":"+C314*$K$2","v":290.99466666666666},279.33266666666668,210.392,156.60399999999998,0]
[28,null,{"$f":"+C315*$K$2","v":297.81733333333335},285.67933333333332,214.59666666666666,159.77733333333333,0]
[29,null,{"$f":"+C316*$K$2","v":304.95733333333334},292.50200000000001,219.27733333333336,163.10933333333332,0]
[30,null,{"$f":"+C317*$K$2","v":312.25600000000003},299.642,223.72,166.52066666666667,0]
[31,null,{"$f":"+C318*$K$2","v":319.87200000000001},306.94066666666669,228.63866666666667,170.24933333333334,0]
[32,null,{"$f":"+C319*$K$2","v":327.726},314.55666666666667,233.71600000000001,173.81933333333333,0]
[33,null,{"$f":"+C320*$K$2","v":335.73866666666669},322.17266666666666,238.87266666666667,177.70666666666668,0]
[34,null,{"$f":"+C321*$K$2","v":344.22733333333338},330.18533333333335,244.34666666666666,181.75266666666667,0]
[35,null,{"$f":"+C322*$K$2","v":352.87466666666666},338.59466666666668,249.9,185.87800000000001,0]
[36,null,{"$f":"+C323*$K$2","v":361.83933333333334},347.08333333333337,255.69133333333332,190.24133333333333,0]
[37,null,{"$f":"+C324*$K$2","v":370.96266666666668},355.96866666666665,261.72066666666666,194.60466666666665,0]
[38,null,{"$f":"+C325*$K$2","v":380.40333333333336},365.09199999999998,267.988,199.28533333333331,0]
[39,null,{"$f":"+C326*$K$2","v":390.08199999999999},374.37400000000002,274.41400000000004,204.12466666666666,0]
[40,null,{"$f":"+C327*$K$2","v":400.15733333333333},384.05266666666665,280.91933333333333,208.96400000000003,0]
[41,null,{"$f":"+C328*$K$2","v":410.39133333333336},393.7313333333334,287.66266666666667,213.96199999999999,0]
[42,null,{"$f":"+C329*$K$2","v":420.86333333333334},403.80666666666667,294.64400000000001,219.27733333333336,0]
[43,null,{"$f":"+C330*$K$2","v":431.73200000000003},414.35800000000006,301.78400000000005,224.43400000000003,0]
[44,null,{"$f":"+C331*$K$2","v":442.68},424.83000000000004,309.08266666666668,229.82866666666666,0]
[45,null,{"$f":"+C332*$K$2","v":454.02466666666669},435.69866666666667,316.69866666666667,235.54066666666668,0]
[46,null,{"$f":"+C333*$K$2","v":465.60733333333332},446.72599999999994,324.15600000000001,241.17333333333335,0]
[47,null,{"$f":"+C334*$K$2","v":477.5866666666667},458.15000000000003,332.08933333333334,247.12333333333333,0]
[48,null,{"$f":"+C335*$K$2","v":489.72466666666668},469.73266666666666,340.41933333333333,253.15266666666668,0]
[49,null,{"$f":"+C336*$K$2","v":501.78333333333336},481.55333333333334,348.67,259.34066666666666,0]
[50,null,{"$f":"+C337*$K$2","v":514.55599999999993},493.69133333333338,357,265.68733333333336,0]
[51,null,{"$f":"+C338*$K$2","v":527.48733333333337},505.98800000000006,365.88533333333334,272.1926666666667,0]
[52,null,{"$f":"+C339*$K$2","v":540.57733333333329},518.68133333333333,374.61200000000002,278.69799999999998,0]
[53,null,{"$f":"+C340*$K$2","v":554.06399999999996},531.5333333333333,383.73533333333336,285.44133333333332,0]
[54,null,{"$f":"+C341*$K$2","v":567.63},544.78200000000004,393.09666666666669,292.34333333333336,0]
[55,null,{"$f":"+C342*$K$2","v":581.59266666666667},558.18933333333325,402.45800000000003,299.404,0]
[56,null,{"$f":"+C343*$K$2","v":595.952},571.67599999999993,412.13666666666671,306.54400000000004,0]
[57,null,{"$f":"+C344*$K$2","v":610.47},585.55933333333326,421.81533333333334,313.68400000000003,0]
[58,null,{"$f":"+C345*$K$2","v":625.14666666666665},599.9186666666667,431.97,321.37933333333336,0]
[59,null,{"$f":"+C346*$K$2","v":640.06133333333332},614.19866666666667,442.28333333333336,328.916,0]
[60,null,{"$f":"+C347*$K$2","v":655.452},628.8753333333334,452.67599999999999,336.77000000000004,0]
[61,null,{"$f":"+C348*$K$2","v":735.73733333333337},705.98733333333337,507.81266666666664,377.70600000000002,0]
[62,null,{"$f":"+C349*$K$2","v":822.76600000000008},789.44600000000003,567.39200000000005,422.21199999999999,0]
[63,null,{"$f":"+C350*$K$2","v":916.37933333333342},879.25133333333326,632.04866666666669,470.12933333333331,0]
[64,null,{"$f":"+C351*$K$2","v":1016.5773333333334},975.32399999999996,701.46533333333332,521.77533333333338,0]
[65,null,{"$f":"+C352*$K$2","v":1123.3600000000001},1077.902,775.72133333333329,576.99133333333339,0]
[66,null,{"$f":"+C353*$K$2","v":1236.8066666666666},1186.5886666666665,854.73733333333337,635.85666666666668,0]
[67,null,{"$f":"+C354*$K$2","v":1356.7586666666666},1301.7806666666668,938.59266666666679,698.13333333333333,0]
[68,null,{"$f":"+C355*$K$2","v":1483.3746666666666},1423.24,1027.2080000000001,764.05933333333337,0]
[69,null,{"$f":"+C356*$K$2","v":1616.6546666666666},1551.2046666666668,1120.742,833.63466666666659,0]
[70,null,{"$f":"+C357*$K$2","v":1756.5193333333332},1685.5159999999998,1219.0360000000001,906.70066666666662,0]
[71,null,{"$f":"+C358*$K$2","v":1903.048},1826.0153333333335,1322.1693333333335,983.49533333333329,0]
[72,null,{"$f":"+C359*$K$2","v":2056.2406666666666},1972.7820000000002,1430.2213333333334,1063.7806666666668,0]
[73,null,{"$f":"+C360*$K$2","v":2216.018},2126.1333333333332,1542.8746666666666,1147.6360000000002,0]
[74,null,{"$f":"+C361*$K$2","v":2382.38},2285.9106666666667,1660.3673333333331,1235.1406666666667,0]
[75,null,{"$f":"+C362*$K$2","v":2555.4059999999999},2451.8759999999997,1782.6993333333332,1326.1360000000002,0]
[76,null,{"$f":"+C363*$K$2","v":2555.4059999999999},2451.8759999999997,1782.6993333333332,1326.1360000000002,0]
[77,null,{"$f":"+C364*$K$2","v":2555.4059999999999},2451.8759999999997,1782.6993333333332,1326.1360000000002,0]
[78,null,{"$f":"+C365*$K$2","v":2555.4059999999999},2451.8759999999997,1782.6993333333332,1326.1360000000002,0]
[79,null,{"$f":"+C366*$K$2","v":2555.4059999999999},2451.8759999999997,1782.6993333333332,1326.1360000000002,0]
[80,null,{"$f":"+C367*$K$2","v":2555.4059999999999},2451.8759999999997,1782.6993333333332,1326.1360000000002]
[81,null,{"$f":"+C368*$K$2","v":2555.4059999999999},2451.8759999999997,1782.6993333333332,1326.1360000000002]
[82,null,{"$f":"+C369*$K$2","v":2555.4059999999999},2451.8759999999997,1782.6993333333332,1326.1360000000002]
[83,null,{"$f":"+C370*$K$2","v":2555.4059999999999},2451.8759999999997,1782.6993333333332,1326.1360000000002]
[84,"o más",{"$f":"+C371*$K$2","v":2555.4059999999999},2451.8759999999997,1782.6993333333332,1326.1360000000002,0]
[1,"Hijo",{"$f":"+C372*$K$2","v":126.14},120.904,93.454666666666668,{"$f":"+F372*$K$2","v":69.575333333333333}]
[2,"Hijos",{"$f":"+C373*$K$2","v":214.27933333333334},205.47333333333333,158.98399999999998,{"$f":"+F373*$K$2","v":118.286}]
[3,"Hijos o más",{"$f":"+C374*$K$2","v":302.49799999999999},290.28066666666666,224.35466666666665,{"$f":"+F374*$K$2","v":166.91733333333332}]
[]
[]
["BUPA GLOBAL ELITE"]
["TARIFAS SEMESTRALES"]
["EDAD"]
[" "," ",1000,2000,3500]
[18,null,{"$f":"+C6*$K$4","v":3148.5445},{"$f":"+D6*$K$4","v":2759.3125},2337.6444999999999,2026.3489999999999,1572.2450000000001]
[19,null,{"$f":"+C7*$K$4","v":3186.3865000000001},{"$f":"+D7*$K$4","v":2793.1000000000004},2362.422,2048.8739999999998,1589.364]
[20,null,{"$f":"+C8*$K$4","v":3226.9315000000001},2827.3379999999997,2388.5509999999999,2070.9485,1606.0325]
[21,null,3267.0260000000003,2863.8285000000001,2415.1304999999998,2094.3745000000004,1624.5029999999999]
[22,null,3309.373,2900.7694999999999,2443.5119999999997,2119.152,1643.424]
[23,null,3353.0715000000005,2939.9629999999997,2472.7945,2143.9295000000002,1663.2460000000001]
[24,null,3398.1215000000002,2980.0575000000003,2502.5275000000001,2170.0585000000001,1683.068]
[25,null,3445.8744999999999,3020.152,2532.7110000000002,2196.1875,1703.7909999999999]
[26,null,3513.4495000000002,3079.1675,2578.6619999999998,2236.2819999999997,1734.4250000000002]
[27,null,3583.277,3141.3365000000003,2625.9645,2277.2775000000001,1765.96]
[28,null,3656.7085000000002,3205.7579999999998,2675.0690000000004,2319.1740000000004,1799.297]
[29,null,3733.2935000000002,3272.4319999999998,2726.8765000000003,2364.2240000000002,1833.5350000000001]
[30,null,3811.6804999999999,3341.3585000000003,2780.9365000000003,2411.5265000000004,1870.0255]
[31,null,3894.1219999999998,3414.3395,2834.9965000000002,2458.8290000000002,1906.5160000000001]
[32,null,3977.9150000000004,3486.8700000000003,2894.0120000000002,2509.7354999999998,1946.16]
[33,null,4066.2129999999997,3564.3560000000002,2952.5769999999998,2561.0925000000002,1985.8039999999999]
[34,null,4156.3130000000001,3642.2925,3014.7460000000001,2615.1525000000001,2027.25]
[35,null,4249.116,3724.2835,3078.7170000000001,2669.663,2070.498]
[36,null,4344.6220000000003,3808.0765000000001,3143.5890000000004,2726.4259999999999,2113.7460000000001]
[37,null,4442.8309999999992,3894.5725000000002,3212.9659999999999,2785.8919999999998,2160.598]
[38,null,4544.6440000000002,3983.3209999999999,3282.7935000000002,2846.7094999999999,2206.9994999999999]
[39,null,4648.259,4074.3220000000001,3354.8735000000001,2908.8785000000003,2256.1040000000003]
[40,null,4754.5770000000002,4168.0259999999998,3427.8544999999999,2972.8494999999998,2305.6590000000001]
[41,null,4864.9494999999997,4264.433,3504.8900000000003,3038.6224999999999,2357.0160000000001]
[42,null,4978.0250000000005,4362.1914999999999,3583.277,3107.5490000000004,2409.7244999999998]
[43,null,5092.9025000000001,4463.5540000000001,3663.0155,3176.4755,2463.7844999999998]
[44,null,5210.4830000000002,4567.6194999999998,3745.4569999999999,3248.105,2519.1959999999999]
[45,null,5331.6675000000005,4673.9375,3830.1510000000003,3321.5365000000002,2576.4094999999998]
[46,null,5455.1045000000004,4781.1565000000001,3916.6469999999999,3396.3195000000001,2634.0735]
[47,null,5581.2444999999998,4892.8805000000002,4005.3955000000001,3472.9045000000001,2693.5394999999999]
[48,null,5711.4390000000003,5004.6045000000004,4095.9459999999999,3551.7420000000002,2754.357]
[49,null,5842.5344999999998,5121.2839999999997,4187.848,3631.4805000000001,2816.5259999999998]
[50,null,5977.6845000000003,5238.8644999999997,4283.3540000000003,3713.922,2880.0465000000004]
[51,null,6115.5375000000004,5360.049,4380.6620000000003,3798.1655000000001,2945.3690000000001]
[52,null,6254.7420000000002,5483.0355000000009,4478.4205000000002,3883.3100000000004,3011.5925000000002]
[53,null,6398.4515000000001,5608.7250000000004,4579.3325000000004,3971.1575000000003,3079.6179999999999]
[54,null,6544.8639999999996,5736.2164999999995,4682.9475000000002,4060.8069999999998,3148.9950000000003]
[55,null,6694.43,5866.8615,4787.9139999999998,4151.3575000000001,3220.1740000000004]
[56,null,6844.8969999999999,5999.3085000000001,4895.1330000000007,4244.6109999999999,3291.3530000000001]
[57,null,6999.4184999999998,6135.3595000000005,5003.2530000000006,4337.8644999999997,3364.7844999999998]
[58,null,7157.0934999999999,6273.6630000000005,5114.076,4434.2714999999998,3439.5675000000001]
[59,null,7316.5705000000007,6412.8675000000003,5228.0525000000007,4533.3814999999995,3515.2515000000003]
[60,null,7479.201,6556.1265000000003,5342.4795000000004,4632.4915000000001,3592.7375000000002]
[61,null,8335.1509999999998,7306.2089999999998,5951.5555000000004,5160.027,4002.2420000000002]
[62,null,9260.4779999999992,8117.1090000000004,6609.7359999999999,5731.2609999999995,4444.6330000000007]
[63,null,10256.984,8990.1779999999999,7320.625,6347.5450000000001,4923.0640000000003]
[64,null,11321.065000000001,9922.7129999999997,8081.5195000000003,7007.5275000000001,5435.2825000000003]
[65,null,12456.7755,10918.317999999999,8895.1225000000013,7713.0105000000003,5981.7389999999996]
[66,null,13661.862999999999,11975.6415,9760.5329999999994,8463.0930000000008,6564.2355000000007]
[67,null,14936.327500000001,13092.431,10676.3995,{"$f":"+F55*$K$4","v":9256.8739999999998},7179.6184999999996]
[68,null,16280.169,14269.587500000001,11644.523999999999,10097.056500000001,7831.0415000000003]
[69,null,17695.64,15510.264499999999,12664.005499999999,10980.9375,8515.8014999999996]
[70,null,19179.136499999997,16810.858,13735.2945,11909.8685,9237.0519999999997]
[71,null,20734.262500000001,18173.620500000001,14857.490000000002,12882.498,9990.7385000000013]
[72,null,22357.864500000003,19596.75,16031.493,13900.628000000001,10780.915499999999]
[73,null,24051.744500000001,21081.598000000002,17255.050999999999,14962.906999999999,11603.978999999999]
[74,null,25815.452000000001,22627.714,18532.668999999998,16069.7855,12462.632]
[75,null,27649.4375,24234.647500000003,19860.742999999999,17221.714,13355.973500000002]
[76,null,27649.4375,24234.647500000003,19860.742999999999,17221.714,13355.973500000002]
[77,null,27649.4375,24234.647500000003,19860.742999999999,17221.714,13355.973500000002]
[78,null,27649.4375,24234.647500000003,19860.742999999999,17221.714,13355.973500000002]
[79,null,27649.4375,24234.647500000003,19860.742999999999,17221.714,13355.973500000002]
[80,null,27649.4375,24234.647500000003,19860.742999999999,17221.714,13355.973500000002]
[81,null,27649.4375,24234.647500000003,19860.742999999999,17221.714,13355.973500000002]
[82,null,27649.4375,24234.647500000003,19860.742999999999,17221.714,13355.973500000002]
[83,null,27649.4375,{"$f":"+D71*$K$4","v":24234.647500000003},19860.742999999999,17221.714,13355.973500000002]
[84,"o más",27649.4375,24234.647500000003,19860.742999999999,17221.714,13355.973500000002]
[1,"Hijo",{"$f":"+C73*$K$4","v":1417.2729999999999},1241.578,1051.9175,912.71299999999997,707.7355]
[2,"Hijos",2409.2740000000003,2111.944,1788.0345000000002,1550.6210000000001,1202.835]
[3,"Hijos o más",3400.3740000000003,2981.4090000000001,2524.6019999999999,2189.4300000000003,1697.9345000000001]
[]
["BUPA GLOBAL PREMIER"]
["TARIFAS SEMESTRALES"]
["EDAD"]
[" "," ",2000,3500,5000]
[18,null,{"$f":"+C155*$K$4","v":2141.2264999999998},{"$f":"+D155*$K$4","v":1943.9075},1454.2139999999999,1051.9175,0]
[19,null,{"$f":"+C156*$K$4","v":2168.2565},1967.7839999999999,1467.2784999999999,1061.8285000000001,0]
[20,null,{"$f":"+C157*$K$4","v":2194.8360000000002},1991.6605,1482.5955000000001,1073.0910000000001,0]
[21,null,{"$f":"+C158*$K$4","v":2222.7669999999998},2016.4380000000001,1497.9125000000001,1084.3535000000002,0]
[22,null,{"$f":"+C159*$K$4","v":2250.6979999999999},2043.9185,1513.2295000000001,1096.0664999999999,0]
[23,null,{"$f":"+C160*$K$4","v":2280.8815000000004},2070.498,1529.4475,1107.329,0]
[24,null,{"$f":"+C161*$K$4","v":2312.4165000000003},2098.4290000000001,1546.5664999999999,1119.4925000000001,0]
[25,null,{"$f":"+C162*$K$4","v":2343.9515000000001},2126.8105,1563.6855,1131.6559999999999,0]
[26,null,{"$f":"+C163*$K$4","v":2389.9025000000001},2169.6080000000002,1590.7155,1151.0275000000001,0]
[27,null,{"$f":"+C164*$K$4","v":2437.2049999999999},2212.8560000000002,1617.2950000000001,1170.8495,0]
[28,null,{"$f":"+C165*$K$4","v":2487.2104999999997},2257.4555,1645.2259999999999,1191.1220000000001,0]
[29,null,{"$f":"+C166*$K$4","v":2539.4684999999999},2304.3074999999999,1674.9589999999998,1212.7459999999999,0]
[30,null,{"$f":"+C167*$K$4","v":2593.078},2354.3129999999996,1706.4939999999999,1235.7214999999999,0]
[31,null,{"$f":"+C168*$K$4","v":2648.0390000000002},2403.8679999999999,1738.93,1258.6970000000001,0]
[32,null,{"$f":"+C169*$K$4","v":2706.1534999999999},2456.1260000000002,1771.8164999999999,1282.5735,0]
[33,null,{"$f":"+C170*$K$4","v":2765.1690000000003},2510.1860000000001,1807.4059999999999,1307.8015,0]
[34,null,{"$f":"+C171*$K$4","v":2826.8875000000003},2565.1469999999999,1842.5450000000001,1333.9304999999999,0]
[35,null,{"$f":"+C172*$K$4","v":2889.5070000000001},2623.2615000000001,1881.288,1361.8615,0]
[36,null,{"$f":"+C173*$K$4","v":2955.28},2682.277,1920.4814999999999,1389.7925,0]
[37,null,{"$f":"+C174*$K$4","v":3022.4045000000001},2742.6440000000002,1960.1255000000001,1418.6245000000001,0]
[38,null,{"$f":"+C175*$K$4","v":3090.8804999999998},2806.1644999999999,2001.5715,1448.3575000000001,0]
[39,null,{"$f":"+C176*$K$4","v":3162.51},2870.5860000000002,2043.4680000000001,1479.4420000000002,0]
[40,null,{"$f":"+C177*$K$4","v":3234.59},2936.3590000000004,2086.7159999999999,1510.076,0]
[41,null,{"$f":"+C178*$K$4","v":3309.8235},3003.4835000000003,2131.3155000000002,1542.5120000000002,0]
[42,null,{"$f":"+C179*$K$4","v":3385.0569999999998},3072.4100000000003,2178.1675,1576.2995000000001,0]
[43,null,{"$f":"+C180*$K$4","v":3464.7954999999997},3143.5890000000004,2225.9204999999997,1611.8889999999999,0]
[44,null,{"$f":"+C181*$K$4","v":3543.6329999999998},3216.57,2275.0250000000001,1647.028,0]
[45,null,{"$f":"+C182*$K$4","v":3626.5250000000001},3292.2540000000004,2325.4810000000002,1683.5184999999999,0]
[46,null,{"$f":"+C183*$K$4","v":3711.2190000000005},3367.9380000000001,2376.8379999999997,1720.009,0]
[47,null,{"$f":"+C184*$K$4","v":3797.2644999999998},3445.4240000000004,2429.9969999999998,1759.2025000000001,0]
[48,null,{"$f":"+C185*$K$4","v":3884.6615000000002},3525.1625000000004,2483.6065000000003,1797.4950000000001,0]
[49,null,{"$f":"+C186*$K$4","v":3974.7615000000001},3606.703,2538.5675000000001,1837.1389999999999,0]
[50,null,{"$f":"+C187*$K$4","v":4065.3119999999999},3690.0454999999997,2595.3305,1878.1345000000001,0]
[51,null,{"$f":"+C188*$K$4","v":4159.4665000000005},3774.7395000000001,2652.0934999999999,1920.0309999999999,0]
[52,null,{"$f":"+C189*$K$4","v":4255.4229999999998},3861.2354999999998,2711.5594999999998,1962.8285000000001,0]
[53,null,{"$f":"+C190*$K$4","v":4352.2805000000008},3949.9840000000004,2772.377,2006.9775000000002,0]
[54,null,{"$f":"+C191*$K$4","v":4451.3905000000004},4039.183,2833.1945000000001,2050.6759999999999,0]
[55,null,{"$f":"+C192*$K$4","v":4554.1045000000004},4132.4365000000007,2895.8140000000003,2096.627,0]
[56,null,{"$f":"+C193*$K$4","v":4655.4669999999996},4225.6900000000005,2960.2354999999998,2142.578,0]
[57,null,{"$f":"+C194*$K$4","v":4761.3344999999999},4320.7455,3026.0084999999999,2190.7815000000001,0]
[58,null,{"$f":"+C195*$K$4","v":4868.5535},4417.6030000000001,3092.6825000000003,2238.9850000000001,0]
[59,null,{"$f":"+C196*$K$4","v":4976.6734999999999},4516.7130000000006,3160.7080000000001,2287.1885000000002,0]
[60,null,{"$f":"+C197*$K$4","v":5088.3975},4617.625,3230.085,2338.0950000000003,0]
[61,null,{"$f":"+C198*$K$4","v":5669.5425000000005},5145.6109999999999,3594.5394999999999,2602.0879999999997,0]
[62,null,{"$f":"+C199*$K$4","v":6298.4405000000006},5715.9439999999995,3992.3310000000001,2889.5070000000001,0]
[63,null,{"$f":"+C200*$K$4","v":6975.9925000000003},6330.4259999999995,4420.7564999999995,3200.3519999999999,0]
[64,null,{"$f":"+C201*$K$4","v":7699.9459999999999},6988.6064999999999,4882.0684999999994,3533.2715000000003,0]
[65,null,{"$f":"+C202*$K$4","v":8472.5535},7688.2330000000002,5374.0145000000002,3889.1665000000003,0]
[66,null,{"$f":"+C203*$K$4","v":9292.4635000000017},8432.0084999999999,5898.8469999999998,4269.3885,0]
[67,null,{"$f":"+C204*$K$4","v":10159.676000000001},9219.4825000000001,6456.1155000000008,4673.0365000000002,0]
[68,null,{"$f":"+C205*$K$4","v":11073.7405},10049.3035,7044.0180000000009,5097.4075000000003,0]
[69,null,{"$f":"+C206*$K$4","v":12034.656999999999},10922.823,7663.9059999999999,5547.0064999999995,0]
[70,null,{"$f":"+C207*$K$4","v":13045.128500000001},11838.689499999999,8316.6805000000004,6019.1305000000002,0]
[71,null,{"$f":"+C208*$K$4","v":14102.451999999999},12797.804,9000.539499999999,6514.6805000000004,0]
[72,null,{"$f":"+C209*$K$4","v":15206.627500000001},13800.617,9715.0325000000012,7031.8545000000004,0]
[73,null,{"$f":"+C210*$K$4","v":16359.457},14845.777,10462.862500000001,7572.0039999999999,0]
[74,null,{"$f":"+C211*$K$4","v":17558.237499999999},15934.6355,11242.227500000001,8136.9309999999996,0]
[75,null,{"$f":"+C212*$K$4","v":18805.672000000002},17066.741999999998,12052.677,8722.5810000000001,0]
[76,null,{"$f":"+C213*$K$4","v":18805.672000000002},17066.741999999998,12052.677,8722.5810000000001,0]
[77,null,{"$f":"+C214*$K$4","v":18805.672000000002},17066.741999999998,12052.677,8722.5810000000001,0]
[78,null,{"$f":"+C215*$K$4","v":18805.672000000002},17066.741999999998,12052.677,8722.5810000000001,0]
[79,null,{"$f":"+C216*$K$4","v":18805.672000000002},17066.741999999998,12052.677,8722.5810000000001,0]
[80,null,{"$f":"+C217*$K$4","v":18805.672000000002},17066.741999999998,12052.677,8722.5810000000001,0]
[81,null,{"$f":"+C218*$K$4","v":18805.672000000002},17066.741999999998,12052.677,8722.5810000000001,0]
[82,null,{"$f":"+C219*$K$4","v":18805.672000000002},17066.741999999998,12052.677,8722.5810000000001,0]
[83,null,{"$f":"+C220*$K$4","v":18805.672000000002},17066.741999999998,12052.677,8722.5810000000001,0]
[84,"o más",{"$f":"+C221*$K$4","v":18805.672000000002},17066.741999999998,12052.677,8722.5810000000001,0]
[1,"Hijo",{"$f":"+C222*$K$4","v":963.61950000000002},875.32150000000001,654.57650000000001,474.37650000000002,0]
[2,"Hijos",{"$f":"+C223*$K$4","v":1638.9189999999999},1486.65,1112.2845000000002,805.94449999999995,0]
[3,"Hijos o más",{"$f":"+C224*$K$4","v":2312.8669999999997},2099.7804999999998,1569.5420000000001,1136.1610000000001,0]
[]
["BUPA GLOBAL SELECT"]
["TARIFAS SEMESTRALES"]
["EDAD"]
[" "," ",2000,3500,5000]
[18,null,{"$f":"+C305*$K$4","v":1424.481},{"$f":"+D305*$K$4","v":1366.3664999999999},1056.873,786.12250000000006,0]
[19,null,{"$f":"+C306*$K$4","v":1444.7535},1386.1885,1068.1355000000001,795.13250000000005,0]
[20,null,{"$f":"+C307*$K$4","v":1464.125},1405.5600000000002,1080.7494999999999,804.14250000000004,0]
[21,null,{"$f":"+C308*$K$4","v":1486.1995000000002},1426.2830000000001,1092.913,813.60299999999995,0]
[22,null,{"$f":"+C309*$K$4","v":1508.7245},1447.0060000000001,1106.8785,823.51400000000001,0]
[23,null,{"$f":"+C310*$K$4","v":1531.7},1469.5309999999999,1120.8439999999998,834.32600000000002,0]
[24,null,{"$f":"+C311*$K$4","v":1555.126},1492.056,1135.26,844.6875,0]
[25,null,{"$f":"+C312*$K$4","v":1580.354},1515.4820000000002,1150.1264999999999,855.95,0]
[26,null,{"$f":"+C313*$K$4","v":1615.4929999999999},1549.2695000000001,1172.201,872.61850000000004,0]
[27,null,{"$f":"+C314*$K$4","v":1652.434},1586.2105000000001,1194.7259999999999,889.28699999999992,0]
[28,null,{"$f":"+C315*$K$4","v":1691.1770000000001},1622.2505000000001,1218.6025,907.30700000000002,0]
[29,null,{"$f":"+C316*$K$4","v":1731.7220000000002},1660.9935,1245.182,926.22799999999995,0]
[30,null,{"$f":"+C317*$K$4","v":1773.1680000000001},1701.5384999999999,1270.4100000000001,945.59949999999992,0]
[31,null,{"$f":"+C318*$K$4","v":1816.4159999999999},1742.9845,1298.3409999999999,966.77300000000002,0]
[32,null,{"$f":"+C319*$K$4","v":1861.0155},1786.2325000000001,1327.173,987.04549999999995,0]
[33,null,{"$f":"+C320*$K$4","v":1906.5160000000001},1829.4805000000001,1356.4555,1009.12,0]
[34,null,{"$f":"+C321*$K$4","v":1954.7195000000002},1874.981,1387.54,1032.0954999999999,0]
[35,null,{"$f":"+C322*$K$4","v":2003.8240000000001},1922.7339999999999,1419.075,1055.5215000000001,0]
[36,null,{"$f":"+C323*$K$4","v":2054.7305000000001},1970.9375,1451.9614999999999,1080.299,0]
[37,null,{"$f":"+C324*$K$4","v":2106.538},2021.3934999999999,1486.1995000000002,1105.0764999999999,0]
[38,null,{"$f":"+C325*$K$4","v":2160.1475},2073.201,1521.789,1131.6559999999999,0]
[39,null,{"$f":"+C326*$K$4","v":2215.1084999999998},2125.9095000000002,1558.2795000000001,1159.1364999999998,0]
[40,null,{"$f":"+C327*$K$4","v":2272.3220000000001},2180.8705,1595.2205000000001,1186.6170000000002,0]
[41,null,{"$f":"+C328*$K$4","v":2330.4365000000003},2235.8315000000002,1633.5130000000001,1214.9984999999999,0]
[42,null,{"$f":"+C329*$K$4","v":2389.9025000000001},2293.0450000000001,1673.1570000000002,1245.182,0]
[43,null,{"$f":"+C330*$K$4","v":2451.6210000000001},2352.9615000000003,1713.7020000000002,1274.4645,0]
[44,null,{"$f":"+C331*$K$4","v":2513.79},2412.4275000000002,1755.1480000000001,1305.0985000000001,0]
[45,null,{"$f":"+C332*$K$4","v":2578.2115000000003},2474.1460000000002,1798.396,1337.5345000000002,0]
[46,null,{"$f":"+C333*$K$4","v":2643.9845},2536.7655,1840.7429999999999,1369.52,0]
[47,null,{"$f":"+C334*$K$4","v":2712.01},2601.6375000000003,1885.7930000000001,1403.3075000000001,0]
[48,null,{"$f":"+C335*$K$4","v":2780.9365000000003},2667.4105,1933.0955000000001,1437.5454999999999,0]
[49,null,{"$f":"+C336*$K$4","v":2849.4125000000004},2734.5350000000003,1979.9475,1472.6845000000001,0]
[50,null,{"$f":"+C337*$K$4","v":2921.9429999999998},2803.4615000000003,2027.25,1508.7245,0]
[51,null,{"$f":"+C338*$K$4","v":2995.3744999999999},2873.2890000000002,2077.7060000000001,1545.6655000000001,0]
[52,null,{"$f":"+C339*$K$4","v":3069.7069999999999},2945.3690000000001,2127.261,1582.6064999999999,0]
[53,null,{"$f":"+C340*$K$4","v":3146.2919999999999},3018.3500000000004,2179.0684999999999,1620.8989999999999,0]
[54,null,{"$f":"+C341*$K$4","v":3223.3275000000003},3093.5835000000002,2232.2275,1660.0925,0]
[55,null,{"$f":"+C342*$K$4","v":3302.6154999999999},3169.7179999999998,2285.3865000000001,1700.1870000000001,0]
[56,null,{"$f":"+C343*$K$4","v":3384.1559999999999},3246.3029999999999,2340.3475000000003,1740.7320000000002,0]
[57,null,{"$f":"+C344*$K$4","v":3466.5975000000003},3325.1405,2395.3085000000001,1781.277,0]
[58,null,{"$f":"+C345*$K$4","v":3549.94},3406.681,2452.9725000000003,1824.9755,0]
[59,null,{"$f":"+C346*$K$4","v":3634.6340000000005},3487.7710000000002,2511.5374999999999,1867.7730000000001,0]
[60,null,{"$f":"+C347*$K$4","v":3722.0309999999999},3571.1134999999999,2570.5529999999999,1912.3725000000002,0]
[61,null,{"$f":"+C348*$K$4","v":4177.9369999999999},4008.9994999999999,2883.6504999999997,2144.8305,0]
[62,null,{"$f":"+C349*$K$4","v":4672.1355000000003},4482.9255000000003,3221.9760000000001,2397.5610000000001,0]
[63,null,{"$f":"+C350*$K$4","v":5203.7255000000005},4992.8914999999997,3589.1334999999999,2669.663,0]
[64,null,{"$f":"+C351*$K$4","v":5772.7070000000003},5538.4470000000001,3983.3209999999999,2962.9385000000002,0]
[65,null,{"$f":"+C352*$K$4","v":6379.08},6120.9434999999994,4404.9889999999996,3276.4865000000004,0]
[66,null,{"$f":"+C353*$K$4","v":7023.2950000000001},6738.1284999999998,4853.6869999999999,3610.7575000000002,0]
[67,null,{"$f":"+C354*$K$4","v":7704.451},7392.2545,5329.8655000000008,3964.4,0]
[68,null,{"$f":"+C355*$K$4","v":8423.4490000000005},8081.97,5833.0739999999996,4338.7654999999995,0]
[69,null,{"$f":"+C356*$K$4","v":9180.2890000000007},8808.6265000000003,6364.2134999999998,4733.8540000000003,0]
[70,null,{"$f":"+C357*$K$4","v":9974.5205000000005},9571.3230000000003,6922.3830000000007,5148.7645000000002,0]
[71,null,{"$f":"+C358*$K$4","v":10806.594000000001},10369.158500000001,7508.0330000000004,5584.8485000000001,0]
[72,null,{"$f":"+C359*$K$4","v":11676.5095},11202.583500000001,8121.6139999999996,6040.7545,0]
[73,null,{"$f":"+C360*$K$4","v":12583.816500000001},12073.400000000001,8761.3240000000005,6516.9330000000009,0]
[74,null,{"$f":"+C361*$K$4","v":13528.515000000001},12980.707,9428.5144999999993,7013.8344999999999,0]
[75,null,{"$f":"+C362*$K$4","v":14511.0555},13923.153,10123.1855,7530.5580000000009,0]
[76,null,{"$f":"+C363*$K$4","v":14511.0555},13923.153,10123.1855,7530.5580000000009,0]
[77,null,{"$f":"+C364*$K$4","v":14511.0555},13923.153,10123.1855,7530.5580000000009,0]
[78,null,{"$f":"+C365*$K$4","v":14511.0555},13923.153,10123.1855,7530.5580000000009,0]
[79,null,{"$f":"+C366*$K$4","v":14511.0555},13923.153,10123.1855,7530.5580000000009,0]
[80,null,{"$f":"+C367*$K$4","v":14511.0555},13923.153,10123.1855,7530.5580000000009,0]
[81,null,{"$f":"+C368*$K$4","v":14511.0555},13923.153,10123.1855,7530.5580000000009,0]
[82,null,{"$f":"+C369*$K$4","v":14511.0555},13923.153,10123.1855,7530.5580000000009,0]
[83,null,{"$f":"+C370*$K$4","v":14511.0555},13923.153,10123.1855,7530.5580000000009,0]
[84,"o más",{"$f":"+C371*$K$4","v":14511.0555},13923.153,10123.1855,7530.5580000000009,0]
[1,"Hijo",{"$f":"+C372*$K$4","v":716.29500000000007},686.56200000000001,530.68899999999996,395.08850000000001,0]
[2,"Hijos",{"$f":"+C373*$K$4","v":1216.8005000000001},1166.7950000000001,902.80200000000002,671.69550000000004,0]
[3,"Hijos o más",{"$f":"+C374*$K$4","v":1717.7565},1648.3795000000002,1274.0139999999999,947.85199999999998,0]
[]
["BUPA GLOBAL ELITE"]
["TARIFAS TRIMESTRALES"]
["EDAD"]
[" "," ",1000,2000,3500]
[18,null,{"$f":"+C6*$K$3","v":1633.67875},{"$f":"+D6*$K$3","v":1431.7187500000002},1212.92875,1051.4075,815.78750000000002]
[19,null,{"$f":"+C7*$K$3","v":1653.3137500000003},1449.2500000000002,1225.7850000000001,1063.095,824.67]
[20,null,{"$f":"+C8*$K$3","v":1674.3512500000002},1467.0149999999999,1239.3425,1074.5487499999999,833.31875000000002]
[21,null,{"$f":"+C9*$K$3","v":1695.1550000000002},1485.94875,1253.13375,1086.7037500000001,842.90250000000003]
[22,null,{"$f":"+C10*$K$3","v":1717.1275000000001},1505.11625,1267.8599999999999,1099.5600000000002,852.72]
[23,null,{"$f":"+C11*$K$3","v":1739.8012500000002},1525.4524999999999,1283.05375,1112.4162500000002,863.005]
[24,null,{"$f":"+C12*$K$3","v":1763.1762500000002},1546.2562500000001,1298.48125,1125.9737500000001,873.29000000000008]
[25,null,{"$f":"+C13*$K$3","v":1787.9537500000001},1567.06,1314.1425000000002,1139.53125,884.04250000000002]
[26,null,{"$f":"+C14*$K$3","v":1823.0162500000001},1597.6812500000001,1337.9849999999999,1160.335,899.93750000000011]
[27,null,{"$f":"+C15*$K$3","v":1859.2474999999999},1629.9387500000003,1362.5287499999999,1181.60625,916.30000000000007]
[28,null,{"$f":"+C16*$K$3","v":1897.3487500000001},1663.365,1388.0075000000002,1203.3450000000003,933.59750000000008]
[29,null,{"$f":"+C17*$K$3","v":1937.0862500000001},1697.96,1414.8887500000001,1226.7200000000003,951.36250000000007]
[30,null,{"$f":"+C18*$K$3","v":1977.75875},1733.7237500000001,1442.9387500000003,1251.2637500000001,970.2962500000001]
[31,null,{"$f":"+C19*$K$3","v":2020.5350000000001},1771.5912499999999,1470.9887500000002,1275.8075000000001,989.23]
[32,null,{"$f":"+C20*$K$3","v":2064.0125000000003},1809.2250000000001,1501.6100000000001,1302.2212500000001,1009.8000000000001]
[33,null,{"$f":"+C21*$K$3","v":2109.8274999999999},1849.43,1531.9974999999999,1328.8687500000001,1030.3700000000001]
[34,null,{"$f":"+C22*$K$3","v":2156.5774999999999},1889.8687500000001,1564.2550000000001,1356.91875,1051.875]
[35,null,{"$f":"+C23*$K$3","v":2204.73},1932.4112500000001,1597.4475,1385.2024999999999,1074.3150000000001]
[36,null,{"$f":"+C24*$K$3","v":2254.2850000000003},1975.8887500000003,1631.1075000000001,1414.655,1096.7550000000001]
[37,null,{"$f":"+C25*$K$3","v":2305.2424999999998},2020.7687500000002,1667.105,1445.51,1121.0650000000001]
[38,null,{"$f":"+C26*$K$3","v":2358.0700000000002},2066.8175000000001,1703.3362500000001,1477.0662500000001,1145.1412499999999]
[39,null,{"$f":"+C27*$K$3","v":2411.8325},2114.0349999999999,1740.7362500000002,1509.32375,1170.6200000000001]
[40,null,{"$f":"+C28*$K$3","v":2466.9974999999999},2162.6550000000002,1778.60375,1542.5162500000001,1196.3325000000002]
[41,null,{"$f":"+C29*$K$3","v":2524.2662500000001},2212.6775000000002,1818.575,1576.6437500000002,1222.98]
[42,null,{"$f":"+C30*$K$3","v":2582.9375},2263.4012499999999,1859.2474999999999,1612.4075000000003,1250.3287499999999]
[43,null,{"$f":"+C31*$K$3","v":2642.5437500000003},2315.9949999999999,1900.6212499999999,1648.1712499999999,1278.3787500000001]
[44,null,{"$f":"+C32*$K$3","v":2703.5525000000002},2369.99125,1943.3975,1685.3375000000001,1307.1300000000001]
[45,null,{"$f":"+C33*$K$3","v":2766.4312500000001},2425.15625,1987.3425000000002,1723.4387500000003,1336.8162500000001]
[46,null,{"$f":"+C34*$K$3","v":2830.4787500000002},2480.7887500000002,2032.2225000000001,1762.24125,1366.7362500000002]
[47,null,{"$f":"+C35*$K$3","v":2895.92875},2538.7587500000004,2078.2712500000002,1801.97875,1397.5912499999999]
[48,null,{"$f":"+C36*$K$3","v":2963.4825000000001},2596.7287500000002,2125.2550000000001,1842.885,1429.1475]
[49,null,{"$f":"+C37*$K$3","v":3031.5037500000003},2657.27,2172.94,1884.25875,1461.405]
[50,null,{"$f":"+C38*$K$3","v":3101.6287500000003},2718.2787499999999,2222.4950000000003,1927.0350000000001,1494.3637500000002]
[51,null,{"$f":"+C39*$K$3","v":3173.1562500000005},2781.1574999999998,2272.9850000000001,1970.7462499999999,1528.2575000000002]
[52,null,{"$f":"+C40*$K$3","v":3245.3850000000002},2844.9712500000005,2323.7087500000002,2014.9250000000002,1562.6187500000001]
[53,null,{"$f":"+C41*$K$3","v":3319.9512500000001},2910.1875000000005,2376.0687500000004,2060.5062500000004,1597.915]
[54,null,{"$f":"+C42*$K$3","v":3395.92},2976.3387499999999,2429.8312500000002,2107.0225,1633.9125000000001]
[55,null,{"$f":"+C43*$K$3","v":3473.5250000000001},3044.1262500000003,2484.2950000000001,2154.0062500000004,1670.8450000000003]
[56,null,{"$f":"+C44*$K$3","v":3551.5975000000003},3112.8487500000001,2539.9275000000002,2202.3924999999999,1707.7774999999999]
[57,null,{"$f":"+C45*$K$3","v":3631.7737499999998},3183.4412500000003,2596.0275000000001,2250.7787499999999,1745.8787500000001]
[58,null,{"$f":"+C46*$K$3","v":3713.5862499999998},3255.2025000000003,2653.5299999999997,2300.80125,1784.6812500000001]
[59,null,{"$f":"+C47*$K$3","v":3796.3337500000002},3327.4312500000001,2712.6687500000003,2352.2262500000002,1823.9512500000003]
[60,null,{"$f":"+C48*$K$3","v":3880.7175000000002},3401.7637500000001,2772.0412500000002,2403.6512499999999,1864.1562500000002]
[61,null,{"$f":"+C49*$K$3","v":4324.8424999999997},3790.9575,3088.0712500000004,2677.3724999999999,2076.6350000000002]
[62,null,{"$f":"+C50*$K$3","v":4804.9650000000001},4211.7075000000004,3429.58,2973.7674999999999,2306.1775000000002]
[63,null,{"$f":"+C51*$K$3","v":5322.02},4664.7150000000001,3798.4375000000005,3293.5375000000004,2554.42]
[64,null,{"$f":"+C52*$K$3","v":5874.1375000000007},5148.5775000000003,4193.24125,3635.9812500000003,2820.1937500000004]
[65,null,{"$f":"+C53*$K$3","v":6463.4212500000003},5665.165,4615.3937500000002,4002.0337500000005,3103.7325000000001]
[66,null,{"$f":"+C54*$K$3","v":7088.7025000000003},6213.7762499999999,5064.4274999999998,4391.2275000000009,3405.9712500000005]
[67,null,{"$f":"+C55*$K$3","v":7749.9812500000007},6793.2425000000012,5539.6412499999997,4803.0950000000003,3725.2737499999998]
[68,null,{"$f":"+C56*$K$3","v":8447.2574999999997},7404.0312500000009,6041.97,5239.0387500000006,4063.2762500000003]
[69,null,{"$f":"+C57*$K$3","v":9181.7000000000007},8047.7787500000004,6570.94625,5697.6562500000009,4418.5762500000001]
[70,null,{"$f":"+C58*$K$3","v":9951.4387499999993},8722.6149999999998,7126.80375,6179.6487500000003,4792.8099999999995]
[71,null,{"$f":"+C59*$K$3","v":10758.34375},9429.7087499999998,7709.0750000000007,6684.3150000000005,5183.8737500000007]
[72,null,{"$f":"+C60*$K$3","v":11600.778750000001},10168.125,8318.2275000000009,7212.59,5593.8712500000001]
[73,null,{"$f":"+C61*$K$3","v":12479.678750000001},10938.565000000001,8953.0925000000007,7763.7725,6020.9324999999999]
[74,null,{"$f":"+C62*$K$3","v":13394.810000000001},11740.795,9616.0074999999997,8338.0962500000005,6466.46]
[75,null,{"$f":"+C63*$K$3","v":14346.406250000002},12574.581250000001,10305.102500000001,8935.7950000000001,6929.9862500000008]
[76,null,{"$f":"+C64*$K$3","v":14346.406250000002},12574.581250000001,10305.102500000001,8935.7950000000001,6929.9862500000008]
[77,null,{"$f":"+C65*$K$3","v":14346.406250000002},12574.581250000001,10305.102500000001,8935.7950000000001,6929.9862500000008]
[78,null,{"$f":"+C66*$K$3","v":14346.406250000002},12574.581250000001,10305.102500000001,8935.7950000000001,6929.9862500000008]
[79,null,{"$f":"+C67*$K$3","v":14346.406250000002},12574.581250000001,10305.102500000001,8935.7950000000001,6929.9862500000008]
[80,null,{"$f":"+C68*$K$3","v":14346.406250000002},12574.581250000001,10305.102500000001,8935.7950000000001,6929.9862500000008]
[81,null,{"$f":"+C69*$K$3","v":14346.406250000002},12574.581250000001,10305.102500000001,8935.7950000000001,6929.9862500000008]
[82,null,{"$f":"+C70*$K$3","v":14346.406250000002},12574.581250000001,10305.102500000001,8935.7950000000001,6929.9862500000008]
[83,null,{"$f":"+C71*$K$3","v":14346.406250000002},12574.581250000001,10305.102500000001,8935.7950000000001,6929.9862500000008]
[84,"o más",{"$f":"+C72*$K$3","v":14346.406250000002},12574.581250000001,10305.102500000001,8935.7950000000001,6929.9862500000008]
[1,"Hijo",{"$f":"+C73*$K$3","v":735.37750000000005},644.21500000000003,545.80625000000009,473.57749999999999,367.22125]
[2,"Hijos",{"$f":"+C74*$K$3","v":1250.0950000000003},1095.82,927.75375000000008,804.5675,624.11250000000007]
[3,"Hijos o más",{"$f":"+C75*$K$3","v":1764.3450000000003},1546.9575000000002,1309.9349999999999,1136.0250000000001,881.00375000000008]
[]
["BUPA GLOBAL PREMIER"]
["TARIFAS TRIMESTRALES"]
["EDAD"]
[" "," ",2000,3500,5000]
[18,null,{"$f":"+C155*$K$3","v":1111.0137500000001},{"$f":"+D155*$K$3","v":1008.6312500000001},754.54499999999996,545.80625000000009,0]
[19,null,{"$f":"+C156*$K$3","v":1125.0387499999999},1021.02,761.32375000000002,550.94875000000002,0]
[20,null,{"$f":"+C157*$K$3","v":1138.8300000000002},1033.4087500000001,769.27125000000001,556.79250000000002,0]
[21,null,{"$f":"+C158*$K$3","v":1153.3225},1046.2650000000001,777.21875000000011,562.63625000000002,0]
[22,null,{"$f":"+C159*$K$3","v":1167.8150000000001},1060.5237500000001,785.1662500000001,568.71375,0]
[23,null,{"$f":"+C160*$K$3","v":1183.4762500000002},1074.3150000000001,793.58125000000007,574.5575,0]
[24,null,{"$f":"+C161*$K$3","v":1199.8387500000001},1088.8075000000001,802.46375,580.86875000000009,0]
[25,null,{"$f":"+C162*$K$3","v":1216.2012500000001},1103.5337500000001,811.34625000000005,587.17999999999995,0]
[26,null,{"$f":"+C163*$K$3","v":1240.04375},1125.74,825.37125000000003,597.23125000000005,0]
[27,null,{"$f":"+C164*$K$3","v":1264.5875000000001},1148.18,839.16250000000002,607.51625000000013,0]
[28,null,{"$f":"+C165*$K$3","v":1290.5337500000001},1171.32125,853.65499999999997,618.03500000000008,0]
[29,null,{"$f":"+C166*$K$3","v":1317.6487500000001},1195.6312500000001,869.08249999999998,629.255,0]
[30,null,{"$f":"+C167*$K$3","v":1345.4649999999999},1221.5774999999999,885.44500000000005,641.17624999999998,0]
[31,null,{"$f":"+C168*$K$3","v":1373.9825000000001},1247.29,902.27500000000009,653.09750000000008,0]
[32,null,{"$f":"+C169*$K$3","v":1404.13625},1274.405,919.33875,665.48625000000004,0]
[33,null,{"$f":"+C170*$K$3","v":1434.7575000000002},1302.4550000000002,937.80500000000006,678.57624999999996,0]
[34,null,{"$f":"+C171*$K$3","v":1466.7812500000002},1330.9725000000001,956.03750000000002,692.13375000000008,0]
[35,null,{"$f":"+C172*$K$3","v":1499.2725},1361.1262500000003,976.1400000000001,706.62625000000003,0]
[36,null,{"$f":"+C173*$K$3","v":1533.4},1391.7474999999999,996.47625000000005,721.11875000000009,0]
[37,null,{"$f":"+C174*$K$3","v":1568.22875},1423.0700000000002,1017.0462500000001,736.07875000000013,0]
[38,null,{"$f":"+C175*$K$3","v":1603.75875},1456.0287499999999,1038.55125,751.50625000000002,0]
[39,null,{"$f":"+C176*$K$3","v":1640.9250000000002},1489.4550000000002,1060.29,767.6350000000001,0]
[40,null,{"$f":"+C177*$K$3","v":1678.325},1523.5825000000002,1082.73,783.53,0]
[41,null,{"$f":"+C178*$K$3","v":1717.3612500000002},1558.4112500000001,1105.8712500000001,800.36000000000013,0]
[42,null,{"$f":"+C179*$K$3","v":1756.3975},1594.1750000000002,1130.1812500000001,817.89125000000013,0]
[43,null,{"$f":"+C180*$K$3","v":1797.77125},1631.1075000000001,1154.95875,836.35749999999996,0]
[44,null,{"$f":"+C181*$K$3","v":1838.6775},1668.9750000000001,1180.4375,854.59,0]
[45,null,{"$f":"+C182*$K$3","v":1881.6875000000002},1708.2450000000001,1206.6175000000001,873.52375000000006,0]
[46,null,{"$f":"+C183*$K$3","v":1925.6325000000002},1747.5150000000001,1233.2649999999999,892.45749999999998,0]
[47,null,{"$f":"+C184*$K$3","v":1970.2787499999999},1787.7200000000003,1260.8475000000001,912.79375000000005,0]
[48,null,{"$f":"+C185*$K$3","v":2015.6262500000003},1829.0937500000002,1288.6637500000002,932.66250000000002,0]
[49,null,{"$f":"+C186*$K$3","v":2062.3762500000003},1871.4024999999999,1317.1812500000001,953.23249999999996,0]
[50,null,{"$f":"+C187*$K$3","v":2109.36},1914.64625,1346.63375,974.50375000000008,0]
[51,null,{"$f":"+C188*$K$3","v":2158.2137500000003},1958.5912499999999,1376.0862500000001,996.24250000000006,0]
[52,null,{"$f":"+C189*$K$3","v":2208.0025000000001},2003.4712500000001,1406.9412500000001,1018.44875,0]
[53,null,{"$f":"+C190*$K$3","v":2258.2587500000004},2049.5200000000004,1438.4974999999999,1041.35625,0]
[54,null,{"$f":"+C191*$K$3","v":2309.6837500000001},2095.8025000000002,1470.05375,1064.03,0]
[55,null,{"$f":"+C192*$K$3","v":2362.9787500000002},2144.1887500000003,1502.5450000000001,1087.8725000000002,0]
[56,null,{"$f":"+C193*$K$3","v":2415.5725000000002},2192.5750000000003,1535.9712500000001,1111.7150000000001,0]
[57,null,{"$f":"+C194*$K$3","v":2470.5037500000003},2241.8962500000002,1570.0987500000001,1136.7262500000002,0]
[58,null,{"$f":"+C195*$K$3","v":2526.13625},2292.1525000000001,1604.6937500000001,1161.7375000000002,0]
[59,null,{"$f":"+C196*$K$3","v":2582.2362499999999},2343.5775000000003,1639.99,1186.74875,0]
[60,null,{"$f":"+C197*$K$3","v":2640.2062500000002},2395.9375,1675.9875000000002,1213.1625000000001,0]
[61,null,{"$f":"+C198*$K$3","v":2941.7437500000001},2669.8924999999999,1865.0912499999999,1350.1399999999999,0]
[62,null,{"$f":"+C199*$K$3","v":3268.0587500000001},2965.82,2071.4925000000003,1499.2725,0]
[63,null,{"$f":"+C200*$K$3","v":3619.6187500000001},3284.6549999999997,2293.7887500000002,1660.56,0]
[64,null,{"$f":"+C201*$K$3","v":3995.2550000000001},3626.1637500000002,2533.1487499999998,1833.3012500000002,0]
[65,null,{"$f":"+C202*$K$3","v":4396.1362500000005},3989.1775000000002,2788.4037499999999,2017.9637500000001,0]
[66,null,{"$f":"+C203*$K$3","v":4821.5612500000007},4375.0987500000001,3060.7225000000003,2215.2487500000002,0]
[67,null,{"$f":"+C204*$K$3","v":5271.5300000000007},4783.6937500000004,3349.8712500000001,2424.6887499999998,0]
[68,null,{"$f":"+C205*$K$3","v":5745.8087500000001},5214.2612500000005,3654.9150000000004,2644.8812500000004,0]
[69,null,{"$f":"+C206*$K$3","v":6244.3975},5667.5025000000005,3976.5549999999998,2878.1637500000002,0]
[70,null,{"$f":"+C207*$K$3","v":6768.6987500000005},6142.7162499999995,4315.2587500000009,3123.1337500000004,0]
[71,null,{"$f":"+C208*$K$3","v":7317.31},6640.37,4670.0912499999995,3380.2587500000004,0]
[72,null,{"$f":"+C209*$K$3","v":7890.2312500000007},7160.6975000000002,5040.8187500000004,3648.6037500000002,0]
[73,null,{"$f":"+C210*$K$3","v":8488.3975000000009},7702.9975000000004,5428.84375,3928.87,0]
[74,null,{"$f":"+C211*$K$3","v":9110.40625},8267.9712500000005,5833.2312500000007,4221.9925000000003,0]
[75,null,{"$f":"+C212*$K$3","v":9757.6600000000017},8855.3850000000002,6253.7474999999995,4525.8675000000003,0]
[76,null,{"$f":"+C213*$K$3","v":9757.6600000000017},8855.3850000000002,6253.7474999999995,4525.8675000000003,0]
[77,null,{"$f":"+C214*$K$3","v":9757.6600000000017},8855.3850000000002,6253.7474999999995,4525.8675000000003,0]
[78,null,{"$f":"+C215*$K$3","v":9757.6600000000017},8855.3850000000002,6253.7474999999995,4525.8675000000003,0]
[79,null,{"$f":"+C216*$K$3","v":9757.6600000000017},8855.3850000000002,6253.7474999999995,4525.8675000000003,0]
[80,null,{"$f":"+C217*$K$3","v":9757.6600000000017},8855.3850000000002,6253.7474999999995,4525.8675000000003,0]
[81,null,{"$f":"+C218*$K$3","v":9757.6600000000017},8855.3850000000002,6253.7474999999995,4525.8675000000003,0]
[82,null,{"$f":"+C219*$K$3","v":9757.6600000000017},8855.3850000000002,6253.7474999999995,4525.8675000000003,0]
[83,null,{"$f":"+C220*$K$3","v":9757.6600000000017},8855.3850000000002,6253.7474999999995,4525.8675000000003,0]
[84,"o más",{"$f":"+C221*$K$3","v":9757.6600000000017},8855.3850000000002,6253.7474999999995,4525.8675000000003,0]
[1,"Hijo",{"$f":"+C222*$K$3","v":499.99124999999998},454.17625000000004,339.63875000000002,246.13875000000002,0]
[2,"Hijos",{"$f":"+C223*$K$3","v":850.38250000000005},771.37500000000011,577.12875000000008,418.17874999999998,0]
[3,"Hijos o más",{"$f":"+C224*$K$3","v":1200.0725},1089.50875,814.3850000000001,589.51750000000004,0]
[]
["BUPA GLOBAL SELECT"]
["TARIFAS TRIMESTRALES"]
["EDAD"]
[" "," ",2000,3500,5000]
[18,null,{"$f":"+C305*$K$3","v":739.11750000000006},{"$f":"+D305*$K$3","v":708.96375},548.37750000000005,407.89375000000001,0]
[19,null,{"$f":"+C306*$K$3","v":749.63625000000002},719.24874999999997,554.22125000000005,412.56875000000002,0]
[20,null,{"$f":"+C307*$K$3","v":759.68750000000011},729.30000000000007,560.76625000000001,417.24375000000003,0]
[21,null,{"$f":"+C308*$K$3","v":771.14125000000013},740.05250000000001,567.07749999999999,422.15250000000003,0]
[22,null,{"$f":"+C309*$K$3","v":782.82875000000013},750.80500000000006,574.32375000000002,427.29500000000002,0]
[23,null,{"$f":"+C310*$K$3","v":794.75000000000011},762.49250000000006,581.56999999999994,432.90500000000003,0]
[24,null,{"$f":"+C311*$K$3","v":806.90499999999997},774.18000000000006,589.05000000000007,438.28125000000006,0]
[25,null,{"$f":"+C312*$K$3","v":819.995},786.33500000000004,596.76374999999996,444.12500000000006,0]
[26,null,{"$f":"+C313*$K$3","v":838.22750000000008},803.86625000000004,608.21749999999997,452.77375000000006,0]
[27,null,{"$f":"+C314*$K$3","v":857.39499999999998},823.03375000000005,619.90499999999997,461.42250000000001,0]
[28,null,{"$f":"+C315*$K$3","v":877.49750000000006},841.73374999999999,632.29375000000005,470.77249999999998,0]
[29,null,{"$f":"+C316*$K$3","v":898.53500000000008},861.83625000000006,646.08500000000004,480.59000000000003,0]
[30,null,{"$f":"+C317*$K$3","v":920.04000000000008},882.87374999999997,659.17500000000007,490.64125000000001,0]
[31,null,{"$f":"+C318*$K$3","v":942.48},904.37875000000008,673.66750000000002,501.6275,0]
[32,null,{"$f":"+C319*$K$3","v":965.62125000000003},926.81875000000002,688.62750000000005,512.14625000000001,0]
[33,null,{"$f":"+C320*$K$3","v":989.23},949.25875000000008,703.82125000000008,523.6,0]
[34,null,{"$f":"+C321*$K$3","v":1014.2412500000002},972.86750000000006,719.95,535.52125000000001,0]
[35,null,{"$f":"+C322*$K$3","v":1039.72},997.64499999999998,736.31250000000011,547.67624999999998,0]
[36,null,{"$f":"+C323*$K$3","v":1066.13375},1022.6562500000001,753.37625000000003,560.53250000000003,0]
[37,null,{"$f":"+C324*$K$3","v":1093.0150000000001},1048.8362500000001,771.14125000000013,573.38874999999996,0]
[38,null,{"$f":"+C325*$K$3","v":1120.8312500000002},1075.7175,789.60749999999996,587.17999999999995,0]
[39,null,{"$f":"+C326*$K$3","v":1149.3487500000001},1103.0662500000001,808.5412500000001,601.43875000000003,0]
[40,null,{"$f":"+C327*$K$3","v":1179.0350000000001},1131.58375,827.70875000000001,615.6975000000001,0]
[41,null,{"$f":"+C328*$K$3","v":1209.1887500000003},1160.1012500000002,847.5775000000001,630.42375000000004,0]
[42,null,{"$f":"+C329*$K$3","v":1240.04375},1189.7875000000001,868.14750000000015,646.08500000000004,0]
[43,null,{"$f":"+C330*$K$3","v":1272.0675000000001},1220.8762500000003,889.18500000000006,661.27875000000006,0]
[44,null,{"$f":"+C331*$K$3","v":1304.325},1251.73125,910.69,677.17375000000004,0]
[45,null,{"$f":"+C332*$K$3","v":1337.7512500000003},1283.7550000000001,933.13,694.00375000000008,0]
[46,null,{"$f":"+C333*$K$3","v":1371.8787500000001},1316.2462499999999,955.10250000000008,710.6,0]
[47,null,{"$f":"+C334*$K$3","v":1407.1750000000002},1349.90625,978.47750000000008,728.13125000000002,0]
[48,null,{"$f":"+C335*$K$3","v":1442.9387500000003},1384.0337500000001,1003.02125,745.89625000000001,0]
[49,null,{"$f":"+C336*$K$3","v":1478.4687500000002},1418.8625000000002,1027.3312500000002,764.12875000000008,0]
[50,null,{"$f":"+C337*$K$3","v":1516.1025},1454.6262500000003,1051.875,782.82875000000013,0]
[51,null,{"$f":"+C338*$K$3","v":1554.2037500000001},1490.8575000000001,1078.0550000000001,801.99625000000003,0]
[52,null,{"$f":"+C339*$K$3","v":1592.7725},1528.2575000000002,1103.7674999999999,821.16374999999994,0]
[53,null,{"$f":"+C340*$K$3","v":1632.51},1566.1250000000002,1130.6487500000001,841.03250000000003,0]
[54,null,{"$f":"+C341*$K$3","v":1672.48125},1605.1612500000001,1158.23125,861.36875000000009,0]
[55,null,{"$f":"+C342*$K$3","v":1713.6212499999999},1644.665,1185.8137500000003,882.17250000000013,0]
[56,null,{"$f":"+C343*$K$3","v":1755.93},1684.4024999999999,1214.3312500000002,903.21000000000015,0]
[57,null,{"$f":"+C344*$K$3","v":1798.7062500000002},1725.3087499999999,1242.8487500000001,924.24750000000006,0]
[58,null,{"$f":"+C345*$K$3","v":1841.95},1767.6175000000001,1272.7687500000002,946.9212500000001,0]
[59,null,{"$f":"+C346*$K$3","v":1885.8950000000002},1809.6925000000001,1303.15625,969.12750000000005,0]
[60,null,{"$f":"+C347*$K$3","v":1931.2425000000001},1852.9362500000002,1333.7774999999999,992.26875000000007,0]
[61,null,{"$f":"+C348*$K$3","v":2167.7975000000001},2080.1412500000001,1496.2337499999999,1112.88375,0]
[62,null,{"$f":"+C349*$K$3","v":2424.2212500000005},2326.0462500000003,1671.78,1244.0175000000002,0]
[63,null,{"$f":"+C350*$K$3","v":2700.0462500000003},2590.6512499999999,1862.2862500000001,1385.2024999999999,0]
[64,null,{"$f":"+C351*$K$3","v":2995.2725},2873.7225000000003,2066.8175000000001,1537.37375,0]
[65,null,{"$f":"+C352*$K$3","v":3309.9},3175.9612499999998,2285.6075000000001,1700.0637500000003,0]
[66,null,{"$f":"+C353*$K$3","v":3644.1625000000004},3496.19875,2518.4225000000001,1873.5062500000001,0]
[67,null,{"$f":"+C354*$K$3","v":3997.5925000000002},3835.6037500000002,2765.4962500000001,2057,0]
[68,null,{"$f":"+C355*$K$3","v":4370.6575000000003},4193.4750000000004,3026.5950000000003,2251.2462500000001,0]
[69,null,{"$f":"+C356*$K$3","v":4763.3575000000001},4570.5137500000001,3302.1862499999997,2456.2449999999999,0]
[70,null,{"$f":"+C357*$K$3","v":5175.4587499999998},4966.2524999999996,3591.8025000000002,2671.5287499999999,0]
[71,null,{"$f":"+C358*$K$3","v":5607.1950000000006},5380.223750000001,3895.6775000000002,2897.7987499999999,0]
[72,null,{"$f":"+C359*$K$3","v":6058.5662499999999},5812.661250000001,4214.0450000000001,3134.3537500000002,0]
[73,null,{"$f":"+C360*$K$3","v":6529.3387499999999},6264.5000000000009,4545.97,3381.4275000000002,0]
[74,null,{"$f":"+C361*$K$3","v":7019.5125000000007},6735.2725,4892.1537499999995,3639.2537500000003,0]
[75,null,{"$f":"+C362*$K$3","v":7529.32125},7224.2775000000001,5252.5962499999996,3907.3650000000002,0]
[76,null,{"$f":"+C363*$K$3","v":7529.32125},7224.2775000000001,5252.5962499999996,3907.3650000000002,0]
[77,null,{"$f":"+C364*$K$3","v":7529.32125},7224.2775000000001,5252.5962499999996,3907.3650000000002,0]
[78,null,{"$f":"+C365*$K$3","v":7529.32125},7224.2775000000001,5252.5962499999996,3907.3650000000002,0]
[79,null,{"$f":"+C366*$K$3","v":7529.32125},7224.2775000000001,5252.5962499999996,3907.3650000000002,0]
[80,null,{"$f":"+C367*$K$3","v":7529.32125},7224.2775000000001,5252.5962499999996,3907.3650000000002,0]
[81,null,{"$f":"+C368*$K$3","v":7529.32125},7224.2775000000001,5252.5962499999996,3907.3650000000002,0]
[82,null,{"$f":"+C369*$K$3","v":7529.32125},7224.2775000000001,5252.5962499999996,3907.3650000000002,0]
[83,null,{"$f":"+C370*$K$3","v":7529.32125},7224.2775000000001,5252.5962499999996,3907.3650000000002,0]
[84,"o más",{"$f":"+C371*$K$3","v":7529.32125},7224.2775000000001,5252.5962499999996,3907.3650000000002,0]
[1,"Hijo",{"$f":"+C372*$K$3","v":371.66250000000002},356.23500000000001,275.35750000000002,204.99875,0]
[2,"Hijos",{"$f":"+C373*$K$3","v":631.35874999999999},605.41250000000002,468.435,348.52125000000001,0]
[3,"Hijos o más",{"$f":"+C374*$K$3","v":891.28875000000005},855.2912500000001,661.04499999999996,491.81,0]
[]
["BUPA GLOBAL ULTIMATE"]
["TARIFAS ANUALES"]
["EDAD"]
[" "," ",0,1000,2000]
[18,null,17781,11473]
[19,null,18014,11624]
[20,null,18254,11778]
[21,null,18503,11939]
[22,null,18762,12105]
[23,null,19026,12274]
[24,null,19296,12450]
[25,null,19577,12631]
[26,null,19981,12892]
[27,null,20400,13162]
[28,null,20835,13442]
[29,null,21286,13734]
[30,null,21749,14034]
[31,null,22230,14342]
[32,null,22724,14661]
[33,null,23236,14991]
[34,null,23761,15331]
[35,null,24302,15680]
[36,null,24859,16038]
[37,null,25429,16406]
[38,null,26013,16785]
[39,null,26617,17171]
[40,null,27232,17569]
[41,null,27865,17977]
[42,null,28510,18395]
[43,null,29170,18820]
[44,null,29846,19258]
[45,null,30541,19702]
[46,null,31247,20160]
[47,null,31970,20626]
[48,null,32706,21102]
[49,null,33460,21586]
[50,null,34228,22084]
[51,null,35009,22588]
[52,null,35806,23102]
[53,null,36620,23625]
[54,null,37449,24161]
[55,null,38291,24706]
[56,null,39148,25258]
[57,null,40023,25823]
[58,null,40911,26394]
[59,null,41814,26977]
[60,null,42733,27571]
[61,null,47554,30681]
[62,null,52753,34035]
[63,null,58331,37633]
[64,null,64287,41474]
[65,null,70620,45562]
[66,null,77333,49892]
[67,null,84421,54466]
[68,null,91890,59284]
[69,null,99735,64346]
[70,null,107959,69653]
[71,null,116562,75201]
[72,null,125543,80996]
[73,null,134904,87035]
[74,null,144642,93317]
[75,null,154754,99842]
[76,null,154754,99842]
[77,null,154754,99842]
[78,null,154754,99842]
[79,null,154754,99842]
[80,null,154754,99842]
[81,null,154754,99842]
[82,null,154754,99842]
[83,null,154754,99842]
[84,"o más",154754,99842]
[1,"Hijo",8003,5163]
[2,"Hijos",13602,8777]
[3,"Hijos o más",19203,12389]
[]
["BUPA GLOBAL ULTIMATE - MENSUALES"]
["EDAD"]
[" "," ",0,1000,2000]
[18,null,{"$f":"C905*K2","v":1659.5600000000002},{"$f":"+D905*$K$2","v":1070.8133333333333},0,0,0]
[19,null,{"$f":"+C906*$K$2","v":1681.3066666666668},1084.9066666666668,0,0,0]
[20,null,{"$f":"+C907*$K$2","v":1703.7066666666667},1099.28,0,0,0]
[21,null,{"$f":"+C908*$K$2","v":1726.9466666666667},1114.3066666666666,0,0,0]
[22,null,{"$f":"+C909*$K$2","v":1751.1200000000001},1129.8,0,0,0]
[23,null,{"$f":"+C910*$K$2","v":1775.76},1145.5733333333335,0,0,0]
[24,null,{"$f":"+C911*$K$2","v":1800.96},1162,0,0,0]
[25,null,{"$f":"+C912*$K$2","v":1827.1866666666667},1178.8933333333334,0,0,0]
[26,null,{"$f":"+C913*$K$2","v":1864.8933333333334},1203.2533333333333,0,0,0]
[27,null,{"$f":"+C914*$K$2","v":1904},1228.4533333333334,0,0,0]
[28,null,{"$f":"+C915*$K$2","v":1944.6000000000001},1254.5866666666668,0,0,0]
[29,null,{"$f":"+C916*$K$2","v":1986.6933333333334},1281.8400000000001,0,0,0]
[30,null,{"$f":"+C917*$K$2","v":2029.9066666666668},1309.8400000000001,0,0,0]
[31,null,{"$f":"+C918*$K$2","v":2074.8000000000002},1338.5866666666668,0,0,0]
[32,null,{"$f":"+C919*$K$2","v":2120.9066666666668},1368.3600000000001,0,0,0]
[33,null,{"$f":"+C920*$K$2","v":2168.6933333333336},1399.16,0,0,0]
[34,null,{"$f":"+C921*$K$2","v":2217.6933333333336},1430.8933333333334,0,0,0]
[35,null,{"$f":"+C922*$K$2","v":2268.186666666667},1463.4666666666667,0,0,0]
[36,null,{"$f":"+C923*$K$2","v":2320.1733333333336},1496.88,0,0,0]
[37,null,{"$f":"+C924*$K$2","v":2373.3733333333334},1531.2266666666667,0,0,0]
[38,null,{"$f":"+C925*$K$2","v":2427.88},1566.6000000000001,0,0,0]
[39,null,{"$f":"+C926*$K$2","v":2484.2533333333336},1602.6266666666668,0,0,0]
[40,null,{"$f":"+C927*$K$2","v":2541.6533333333336},1639.7733333333333,0,0,0]
[41,null,{"$f":"+C928*$K$2","v":2600.7333333333336},1677.8533333333335,0,0,0]
[42,null,{"$f":"+C929*$K$2","v":2660.9333333333334},1716.8666666666668,0,0,0]
[43,null,{"$f":"+C930*$K$2","v":2722.5333333333333},1756.5333333333333,0,0,0]
[44,null,{"$f":"+C931*$K$2","v":2785.626666666667},1797.4133333333334,0,0,0]
[45,null,{"$f":"+C932*$K$2","v":2850.4933333333333},1838.8533333333335,0,0,0]
[46,null,{"$f":"+C933*$K$2","v":2916.3866666666668},1881.6000000000001,0,0,0]
[47,null,{"$f":"+C934*$K$2","v":2983.8666666666668},1925.0933333333335,0,0,0]
[48,null,{"$f":"+C935*$K$2","v":3052.56},1969.52,0,0,0]
[49,null,{"$f":"+C936*$K$2","v":3122.9333333333334},2014.6933333333334,0,0,0]
[50,null,{"$f":"+C937*$K$2","v":3194.6133333333337},2061.1733333333336,0,0,0]
[51,null,{"$f":"+C938*$K$2","v":3267.5066666666667},2108.2133333333336,0,0,0]
[52,null,{"$f":"+C939*$K$2","v":3341.8933333333334},2156.186666666667,0,0,0]
[53,null,{"$f":"+C940*$K$2","v":3417.8666666666668},2205,0,0,0]
[54,null,{"$f":"+C941*$K$2","v":3495.2400000000002},2255.0266666666666,0,0,0]
[55,null,{"$f":"+C942*$K$2","v":3573.8266666666668},2305.8933333333334,0,0,0]
[56,null,{"$f":"+C943*$K$2","v":3653.8133333333335},2357.4133333333334,0,0,0]
[57,null,{"$f":"+C944*$K$2","v":3735.48},2410.146666666667,0,0,0]
[58,null,{"$f":"+C945*$K$2","v":3818.36},2463.44,0,0,0]
[59,null,{"$f":"+C946*$K$2","v":3902.6400000000003},2517.8533333333335,0,0,0]
[60,null,{"$f":"+C947*$K$2","v":3988.4133333333334},2573.2933333333335,0,0,0]
[61,null,{"$f":"+C948*$K$2","v":4438.3733333333339},2863.56,0,0,0]
[62,null,{"$f":"+C949*$K$2","v":4923.6133333333337},3176.6000000000004,0,0,0]
[63,null,{"$f":"+C950*$K$2","v":5444.2266666666665},3512.4133333333334,0,0,0]
[64,null,{"$f":"+C951*$K$2","v":6000.12},3870.9066666666668,0,0,0]
[65,null,{"$f":"+C952*$K$2","v":6591.2000000000007},4252.4533333333338,0,0,0]
[66,null,{"$f":"+C953*$K$2","v":7217.7466666666669},4656.586666666667,0,0,0]
[67,null,{"$f":"+C954*$K$2","v":7879.293333333334},5083.4933333333338,0,0,0]
[68,null,{"$f":"+C955*$K$2","v":8576.4},5533.1733333333332,0,0,0]
[69,null,{"$f":"+C956*$K$2","v":9308.6},6005.626666666667,0,0,0]
[70,null,{"$f":"+C957*$K$2","v":10076.173333333334},6500.9466666666667,0,0,0]
[71,null,{"$f":"+C958*$K$2","v":10879.12},7018.76,0,0,0]
[72,null,{"$f":"+C959*$K$2","v":11717.346666666666},7559.626666666667,0,0,0]
[73,null,{"$f":"+C960*$K$2","v":12591.04},8123.2666666666673,0,0,0]
[74,null,{"$f":"+C961*$K$2","v":13499.92},8709.586666666668,0,0,0]
[75,null,{"$f":"+C962*$K$2","v":14443.706666666667},9318.586666666668,0,0,0]
[76,null,{"$f":"+C963*$K$2","v":14443.706666666667},9318.586666666668,0,0,0]
[77,null,{"$f":"+C964*$K$2","v":14443.706666666667},9318.586666666668,0,0,0]
[78,null,{"$f":"+C965*$K$2","v":14443.706666666667},9318.586666666668,0,0,0]
[79,null,{"$f":"+C966*$K$2","v":14443.706666666667},9318.586666666668,0,0,0]
[80,null,{"$f":"+C967*$K$2","v":14443.706666666667},9318.586666666668,0]
[81,null,{"$f":"+C968*$K$2","v":14443.706666666667},9318.586666666668,0]
[82,null,{"$f":"+C969*$K$2","v":14443.706666666667},9318.586666666668,0]
[83,null,{"$f":"+C970*$K$2","v":14443.706666666667},9318.586666666668,0]
[84,"o más",{"$f":"+C971*$K$2","v":14443.706666666667},9318.586666666668,0,0,0]
[1,"Hijo",{"$f":"+C972*$K$2","v":746.94666666666672},481.88,0,0,0]
[2,"Hijos",{"$f":"+C973*$K$2","v":1269.52},819.18666666666672,0,0,0]
[3,"Hijos o más",{"$f":"+C974*$K$2","v":1792.28},1156.3066666666666,0,0,0]
[]
["BUPA GLOBAL ULTIMATE"]
["TARIFAS TRIMESTRALES"]
["EDAD"]
[" "," ",0,1000,2000]
[18,null,{"$f":"+C905*$K$3","v":4889.7750000000005},{"$f":"+D905*$K$3","v":3155.0750000000003},0,{"$f":"+F380*$K$3","v":38.506416666666674},0]
[19,null,{"$f":"+C906*$K$3","v":4953.8500000000004},3196.6000000000004,0,{"$f":"+F381*$K$3","v":38.942750000000004},0]
[20,null,{"$f":"+C907*$K$3","v":5019.8500000000004},3238.9500000000003,0,{"$f":"+F382*$K$3","v":39.400900000000007},0]
[21,null,{"$f":"+C908*$K$3","v":5088.3250000000007},3283.2250000000004,0,{"$f":"+F383*$K$3","v":39.88086666666667},0]
[22,null,{"$f":"+C909*$K$3","v":5159.55},3328.8750000000005,0,{"$f":"+F384*$K$3","v":40.404466666666679},0]
[23,null,{"$f":"+C910*$K$3","v":5232.1500000000005},3375.3500000000004,0,{"$f":"+F385*$K$3","v":40.90625},0]
[24,null,{"$f":"+C911*$K$3","v":5306.4000000000005},3423.7500000000005,0,{"$f":"+F386*$K$3","v":41.451666666666675},0]
[25,null,{"$f":"+C912*$K$3","v":5383.6750000000002},3473.5250000000001,0,{"$f":"+F387*$K$3","v":42.258883333333337},0]
[26,null,{"$f":"+C913*$K$3","v":5494.7750000000005},3545.3,0,{"$f":"+F388*$K$3","v":43.066099999999999},0]
[27,null,{"$f":"+C914*$K$3","v":5610},3619.55,0,{"$f":"+F389*$K$3","v":43.938766666666666},0]
[28,null,{"$f":"+C915*$K$3","v":5729.6250000000009},3696.55,0,{"$f":"+F390*$K$3","v":44.855066666666666},0]
[29,null,{"$f":"+C916*$K$3","v":5853.6500000000005},3776.8500000000004,0,{"$f":"+F391*$K$3","v":45.793183333333339},0]
[30,null,{"$f":"+C917*$K$3","v":5980.9750000000004},3859.3500000000004,0,{"$f":"+F392*$K$3","v":46.818566666666669},0]
[31,null,{"$f":"+C918*$K$3","v":6113.2500000000009},3944.05,0,{"$f":"+F393*$K$3","v":47.800316666666667},0]
[32,null,{"$f":"+C919*$K$3","v":6249.1},4031.7750000000005,0,{"$f":"+F394*$K$3","v":48.869333333333337},0]
[33,null,{"$f":"+C920*$K$3","v":6389.9000000000005},4122.5250000000005,0,{"$f":"+F395*$K$3","v":49.981983333333339},0]
[34,null,{"$f":"+C921*$K$3","v":6534.2750000000005},4216.0250000000005,0,{"$f":"+F396*$K$3","v":51.116450000000007},0]
[35,null,{"$f":"+C922*$K$3","v":6683.05},4312,0,{"$f":"+F397*$K$3","v":52.316366666666667},0]
[36,null,{"$f":"+C923*$K$3","v":6836.2250000000004},4410.4500000000007,0,{"$f":"+F398*$K$3","v":53.516283333333334},0]
[37,null,{"$f":"+C924*$K$3","v":6992.9750000000004},4511.6500000000005,0,{"$f":"+F399*$K$3","v":54.803466666666665},0]
[38,null,{"$f":"+C925*$K$3","v":7153.5750000000007},4615.875,0,{"$f":"+F400*$K$3","v":56.134283333333336},0]
[39,null,{"$f":"+C926*$K$3","v":7319.6750000000002},4722.0250000000005,0,{"$f":"+F401*$K$3","v":57.465100000000014},0]
[40,null,{"$f":"+C927*$K$3","v":7488.8},4831.4750000000004,0,{"$f":"+F402*$K$3","v":58.839550000000003},0]
[41,null,{"$f":"+C928*$K$3","v":7662.8750000000009},4943.6750000000002,0,{"$f":"+F403*$K$3","v":60.301266666666677},0]
[42,null,{"$f":"+C929*$K$3","v":7840.2500000000009},5058.625,0,{"$f":"+F404*$K$3","v":61.719350000000013},0]
[43,null,{"$f":"+C930*$K$3","v":8021.7500000000009},5175.5,0,{"$f":"+F405*$K$3","v":63.20288333333334},0]
[44,null,{"$f":"+C931*$K$3","v":8207.6500000000015},5295.9500000000007,0,{"$f":"+F406*$K$3","v":64.773683333333338},0]
[45,null,{"$f":"+C932*$K$3","v":8398.7750000000015},5418.05,0,{"$f":"+F407*$K$3","v":66.322666666666677},0]
[46,null,{"$f":"+C933*$K$3","v":8592.9250000000011},5544,0,{"$f":"+F408*$K$3","v":67.958916666666667},0]
[47,null,{"$f":"+C934*$K$3","v":8791.75},5672.1500000000005,0,{"$f":"+F409*$K$3","v":69.616983333333337},0]
[48,null,{"$f":"+C935*$K$3","v":8994.1500000000015},5803.05,0,{"$f":"+F410*$K$3","v":71.31868333333334},0]
[49,null,{"$f":"+C936*$K$3","v":9201.5},5936.1500000000005,0,{"$f":"+F411*$K$3","v":73.064016666666674},0]
[50,null,{"$f":"+C937*$K$3","v":9412.7000000000007},6073.1,0,{"$f":"+F412*$K$3","v":74.852983333333341},0]
[51,null,{"$f":"+C938*$K$3","v":9627.4750000000004},6211.7000000000007,0,{"$f":"+F413*$K$3","v":76.641949999999994},0]
[52,null,{"$f":"+C939*$K$3","v":9846.6500000000015},6353.05,0,{"$f":"+F414*$K$3","v":78.496366666666674},0]
[53,null,{"$f":"+C940*$K$3","v":10070.5},6496.8750000000009,0,{"$f":"+F415*$K$3","v":80.394416666666686},0]
[54,null,{"$f":"+C941*$K$3","v":10298.475},6644.2750000000005,0,{"$f":"+F416*$K$3","v":82.336100000000002},0]
[55,null,{"$f":"+C942*$K$3","v":10530.025000000001},6794.1500000000005,0,{"$f":"+F417*$K$3","v":84.299600000000012},0]
[56,null,{"$f":"+C943*$K$3","v":10765.7},6945.9500000000007,0,{"$f":"+F418*$K$3","v":86.263100000000009},0]
[57,null,{"$f":"+C944*$K$3","v":11006.325000000001},7101.3250000000007,0,{"$f":"+F419*$K$3","v":88.379316666666682},0]
[58,null,{"$f":"+C945*$K$3","v":11250.525000000001},7258.35,0,{"$f":"+F420*$K$3","v":90.451900000000009},0]
[59,null,{"$f":"+C946*$K$3","v":11498.85},7418.6750000000002,0,{"$f":"+F421*$K$3","v":92.611750000000015},0]
[60,null,{"$f":"+C947*$K$3","v":11751.575000000001},7582.0250000000005,0,{"$f":"+F422*$K$3","v":103.86915000000002},0]
[61,null,{"$f":"+C948*$K$3","v":13077.35},8437.2750000000015,0,{"$f":"+F423*$K$3","v":116.1083},0]
[62,null,{"$f":"+C949*$K$3","v":14507.075000000001},9359.625,0,{"$f":"+F424*$K$3","v":129.28556666666668},0]
[63,null,{"$f":"+C950*$K$3","v":16041.025000000001},10349.075000000001,0,{"$f":"+F425*$K$3","v":143.48821666666669},0]
[64,null,{"$f":"+C951*$K$3","v":17678.925000000003},11405.35,0,{"$f":"+F426*$K$3","v":158.6726166666667},0]
[65,null,{"$f":"+C952*$K$3","v":19420.5},12529.550000000001,0,{"$f":"+F427*$K$3","v":174.86058333333335},0]
[66,null,{"$f":"+C953*$K$3","v":21266.575000000001},13720.300000000001,0,{"$f":"+F428*$K$3","v":191.98666666666668},0]
[67,null,{"$f":"+C954*$K$3","v":23215.775000000001},14978.150000000001,0,{"$f":"+F429*$K$3","v":210.11631666666671},0]
[68,null,{"$f":"+C955*$K$3","v":25269.750000000004},16303.100000000002,0,{"$f":"+F430*$K$3","v":229.24953333333332},0]
[69,null,{"$f":"+C956*$K$3","v":27427.125000000004},17695.150000000001,0,{"$f":"+F431*$K$3","v":249.34268333333335},0]
[70,null,{"$f":"+C957*$K$3","v":29688.725000000002},19154.575000000001,0,{"$f":"+F432*$K$3","v":270.4612166666667},0]
[71,null,{"$f":"+C958*$K$3","v":32054.550000000003},20680.275000000001,0,{"$f":"+F433*$K$3","v":292.53968333333341},0]
[72,null,{"$f":"+C959*$K$3","v":34524.325000000004},22273.9,0,{"$f":"+F434*$K$3","v":315.5999000000001},0]
[73,null,{"$f":"+C960*$K$3","v":37098.600000000006},23934.625000000004,0,{"$f":"+F435*$K$3","v":339.66368333333338},0]
[74,null,{"$f":"+C961*$K$3","v":39776.550000000003},25662.175000000003,0,{"$f":"+F436*$K$3","v":364.68740000000008},0]
[75,null,{"$f":"+C962*$K$3","v":42557.350000000006},27456.550000000003,0,{"$f":"+F437*$K$3","v":364.68740000000008},0]
[76,null,{"$f":"+C963*$K$3","v":42557.350000000006},27456.550000000003,0,{"$f":"+F438*$K$3","v":364.68740000000008},0]
[77,null,{"$f":"+C964*$K$3","v":42557.350000000006},27456.550000000003,0,{"$f":"+F439*$K$3","v":364.68740000000008},0]
[78,null,{"$f":"+C965*$K$3","v":42557.350000000006},27456.550000000003,0,{"$f":"+F440*$K$3","v":364.68740000000008},0]
[79,null,{"$f":"+C966*$K$3","v":42557.350000000006},27456.550000000003,0,{"$f":"+F441*$K$3","v":364.68740000000008},0]
[80,null,{"$f":"+C967*$K$3","v":42557.350000000006},27456.550000000003,0,{"$f":"+F442*$K$3","v":364.68740000000008},0]
[81,null,{"$f":"+C968*$K$3","v":42557.350000000006},27456.550000000003,0,{"$f":"+F443*$K$3","v":364.68740000000008},0]
[82,null,{"$f":"+C969*$K$3","v":42557.350000000006},27456.550000000003,0,{"$f":"+F444*$K$3","v":364.68740000000008},0]
[83,null,{"$f":"+C970*$K$3","v":42557.350000000006},27456.550000000003,0,{"$f":"+F445*$K$3","v":364.68740000000008},0]
[84,"o más",{"$f":"+C971*$K$3","v":42557.350000000006},27456.550000000003,0,{"$f":"+F446*$K$3","v":19.133216666666669},0]
[1,"Hijo",{"$f":"+C972*$K$3","v":2200.8250000000003},1419.825,0,{"$f":"+F447*$K$3","v":32.528650000000006},0]
[2,"Hijos",{"$f":"+C973*$K$3","v":3740.55},2413.6750000000002,0,{"$f":"+F448*$K$3","v":45.902266666666669},0]
[3,"Hijos o más",{"$f":"+C974*$K$3","v":5280.8250000000007},3406.9750000000004,0,{"$f":"+F449*$K$3","v":0},0]
[]
["BUPA GLOBAL MM"]
["TARIFAS ANUALES",null,null,null,null,null,null,"OK"]
["EDAD"]
[" "," ",10000,20000,null,null,null,null,null,null,null,null,10000,20000,10000,20000]
[18,null,{"$f":"M1129*$K$6","v":1748.45},{"$f":"N1129*$K$6","v":1371.8999999999999},null,null,null,null,null,null,null,null,2057,1614,{"$f":"M1129*85%","v":1748.45},{"$f":"N1129*85%","v":1371.8999999999999}]
[19,null,{"$f":"M1130*$K$6","v":1771.3999999999999},{"$f":"N1130*$K$6","v":1383.8},null,null,null,null,null,null,null,null,2084,1628,{"$f":"M1130*85%","v":1771.3999999999999},{"$f":"N1130*85%","v":1383.8}]
[20,null,1791.8,1398.25,null,null,null,null,null,null,null,null,2108,1645,1791.8,1398.25]
[21,null,1817.3,1412.7,null,null,null,null,null,null,null,null,2138,1662,1817.3,1412.7]
[22,null,1841.95,1430.55,null,null,null,null,null,null,null,null,2167,1683,1841.95,1430.55]
[23,null,1866.6,1445,null,null,null,null,null,null,null,null,2196,1700,1866.6,1445]
[24,null,1892.95,1462.85,null,null,null,null,null,null,null,null,2227,1721,1892.95,1462.85]
[25,null,1919.3,1479,null,null,null,null,null,null,null,null,2258,1740,1919.3,1479]
[26,null,1959.25,1507.05,null,null,null,null,null,null,null,null,2305,1773,1959.25,1507.05]
[27,null,1997.5,1534.25,null,null,null,null,null,null,null,null,2350,1805,1997.5,1534.25]
[28,null,2039.1499999999999,1562.3,null,null,null,null,null,null,null,null,2399,1838,2039.1499999999999,1562.3]
[29,null,2083.35,1593.75,null,null,null,null,null,null,null,null,2451,1875,2083.35,1593.75]
[30,null,2128.4,1624.35,null,null,null,null,null,null,null,null,2504,1911,2128.4,1624.35]
[31,null,2174.2999999999997,1658.35,null,null,null,null,null,null,null,null,2558,1951,2174.2999999999997,1658.35]
[32,null,2221.9,1692.35,null,null,null,null,null,null,null,null,2614,1991,2221.9,1692.35]
[33,null,2272.9,1728.8999999999999,null,null,null,null,null,null,null,null,2674,2034,2272.9,1728.8999999999999]
[34,null,2323.9,1764.6,null,null,null,null,null,null,null,null,2734,2076,2323.9,1764.6]
[35,null,2375.75,1802.85,null,null,null,null,null,null,null,null,2795,2121,2375.75,1802.85]
[36,null,2429.2999999999997,1842.8,null,null,null,null,null,null,null,null,2858,2168,2429.2999999999997,1842.8]
[37,null,2486.25,1885.3,null,null,null,null,null,null,null,null,2925,2218,2486.25,1885.3]
[38,null,2541.5,1926.1,null,null,null,null,null,null,null,null,2990,2266,2541.5,1926.1]
[39,null,2601.85,1971.1499999999999,null,null,null,null,null,null,null,null,3061,2319,2601.85,1971.1499999999999]
[40,null,2662.2,2016.2,null,null,null,null,null,null,null,null,3132,2372,2662.2,2016.2]
[41,null,2722.5499999999997,2061.25,null,null,null,null,null,null,null,null,3203,2425,2722.5499999999997,2061.25]
[42,null,2786.2999999999997,2111.4,null,null,null,null,null,null,null,null,3278,2484,2786.2999999999997,2111.4]
[43,null,2851.75,2159.85,null,null,null,null,null,null,null,null,3355,2541,2851.75,2159.85]
[44,null,2918.0499999999997,2210.85,null,null,null,null,null,null,null,null,3433,2601,2918.0499999999997,2210.85]
[45,null,2986.0499999999997,2263.5499999999997,null,null,null,null,null,null,null,null,3513,2663,2986.0499999999997,2263.5499999999997]
[46,null,3054.9,2316.25,null,null,null,null,null,null,null,null,3594,2725,3054.9,2316.25]
[47,null,3126.2999999999997,2370.65,null,null,null,null,null,null,null,null,3678,2789,3126.2999999999997,2370.65]
[48,null,3197.7,2427.6,null,null,null,null,null,null,null,null,3762,2856,3197.7,2427.6]
[49,null,3272.5,2486.25,null,null,null,null,null,null,null,null,3850,2925,3272.5,2486.25]
[50,null,3349,2544.9,null,null,null,null,null,null,null,null,3940,2994,3349,2544.9]
[51,null,3426.35,2606.1,null,null,null,null,null,null,null,null,4031,3066,3426.35,2606.1]
[52,null,3504.5499999999997,2666.45,null,null,null,null,null,null,null,null,4123,3137,3504.5499999999997,2666.45]
[53,null,3581.9,2729.35,null,null,null,null,null,null,null,null,4214,3211,3581.9,2729.35]
[54,null,3666.0499999999997,2793.1,null,null,null,null,null,null,null,null,4313,3286,3666.0499999999997,2793.1]
[55,null,3749.35,2859.4,null,null,null,null,null,null,null,null,4411,3364,3749.35,2859.4]
[56,null,3834.35,2928.25,null,null,null,null,null,null,null,null,4511,3445,3834.35,2928.25]
[57,null,3920.2,2996.25,null,null,null,null,null,null,null,null,4612,3525,3920.2,2996.25]
[58,null,4007.75,3066.7999999999997,null,null,null,null,null,null,null,null,4715,3608,4007.75,3066.7999999999997]
[59,null,4096.1499999999996,3137.35,null,null,null,null,null,null,null,null,4819,3691,4096.1499999999996,3137.35]
[60,null,4188.8,3210.45,null,null,null,null,null,null,null,null,4928,3777,4188.8,3210.45]
[61,null,4665.6499999999996,3593.7999999999997,null,null,null,null,null,null,null,null,5489,4228,4665.6499999999996,3593.7999999999997]
[62,null,5180.75,4011.15,null,null,null,null,null,null,null,null,6095,4719,5180.75,4011.15]
[63,null,5735.8,4465.05,null,null,null,null,null,null,null,null,6748,5253,5735.8,4465.05]
[64,null,6329.0999999999995,4950.3999999999996,null,null,null,null,null,null,null,null,7446,5824,6329.0999999999995,4950.3999999999996]
[65,null,6958.95,5472.3,null,null,null,null,null,null,null,null,8187,6438,6958.95,5472.3]
[66,null,7628.75,6026.5,null,null,null,null,null,null,null,null,8975,7090,7628.75,6026.5]
[67,null,8335.9499999999989,6617.25,null,null,null,null,null,null,null,null,9807,7785,8335.9499999999989,6617.25]
[68,null,9082.25,7241.15,null,null,null,null,null,null,null,null,10685,8519,9082.25,7241.15]
[69,null,9867.65,7898.2,null,null,null,null,null,null,null,null,11609,9292,9867.65,7898.2]
[70,null,10691.3,8590.1,null,null,null,null,null,null,null,null,12578,10106,10691.3,8590.1]
[71,null,11551.5,9317.6999999999989,null,null,null,null,null,null,null,null,13590,10962,11551.5,9317.6999999999989]
[72,null,12450.8,10077.6,null,null,null,null,null,null,null,null,14648,11856,12450.8,10077.6]
[73,null,13388.35,10873.199999999999,null,null,null,null,null,null,null,null,15751,12792,13388.35,10873.199999999999]
[74,null,14365.85,11701.949999999999,null,null,null,null,null,null,null,null,16901,13767,14365.85,11701.949999999999]
[75,null,15380.75,12565.55,null,null,null,null,null,null,null,null,18095,14783,15380.75,12565.55]
[76,null,15380.75,12565.55,null,null,null,null,null,null,null,null,18095,14783,{"$f":"M1187*85%","v":15380.75},{"$f":"N1187*85%","v":12565.55}]
[77,null,15380.75,12565.55,null,null,null,null,null,null,null,null,18095,14783,15380.75,12565.55]
[78,null,15380.75,12565.55,null,null,null,null,null,null,null,null,18095,14783,15380.75,12565.55]
[79,null,15380.75,12565.55,null,null,null,null,null,null,null,null,18095,14783,15380.75,12565.55]
[80,null,15380.75,12565.55,null,null,null,null,null,null,null,null,18095,14783,15380.75,12565.55]
[81,null,15380.75,12565.55,null,null,null,null,null,null,null,null,18095,14783,15380.75,12565.55]
[82,null,15380.75,12565.55,null,null,null,null,null,null,null,null,18095,14783,15380.75,12565.55]
[83,null,{"$f":"M1194*$K$6","v":15380.75},{"$f":"N1194*$K$6","v":12565.55},null,null,null,null,null,null,null,null,18095,14783,15380.75,12565.55]
[84,"o más",15380.75,12565.55,null,null,null,null,null,null,null,null,18095,14783,15380.75,12565.55]
[1,"Hijo",787.1,617.1,null,null,null,null,null,null,null,null,926,726,{"$f":"M1196*85%","v":787.1},{"$f":"N1196*85%","v":617.1}]
[2,"Hijos",1337.8999999999999,1050.5999999999999,null,null,null,null,null,null,null,null,1574,1236,1337.8999999999999,1050.5999999999999]
[3,"Hijos o más",1888.7,1479,null,null,null,null,null,null,null,null,2222,1740,1888.7,1479]
[]
["BUPA GLOBAL MM - MENSUALES"]
["EDAD"]
[" "," ",10000,20000]
[18,null,{"$f":"+C1129*$K$2","v":163.18866666666668},{"$f":"+D1129*$K$2","v":128.04399999999998},0,0,0]
[19,null,{"$f":"+C1130*$K$2","v":165.33066666666667},129.15466666666666,0,0,0]
[20,null,{"$f":"+C1131*$K$2","v":167.23466666666667},130.50333333333333,0,0,0]
[21,null,{"$f":"+C1132*$K$2","v":169.61466666666666},131.852,0,0,0]
[22,null,{"$f":"+C1133*$K$2","v":171.91533333333334},133.518,0,0,0]
[23,null,{"$f":"+C1134*$K$2","v":174.21600000000001},134.86666666666667,0,0,0]
[24,null,{"$f":"+C1135*$K$2","v":176.67533333333336},136.53266666666667,0,0,0]
[25,null,{"$f":"+C1136*$K$2","v":179.13466666666667},138.04000000000002,0,0,0]
[26,null,{"$f":"+C1137*$K$2","v":182.86333333333334},140.65800000000002,0,0,0]
[27,null,{"$f":"+C1138*$K$2","v":186.43333333333334},143.19666666666669,0,0,0]
[28,null,{"$f":"+C1139*$K$2","v":190.32066666666665},145.81466666666668,0,0,0]
[29,null,{"$f":"+C1140*$K$2","v":194.446},148.75,0,0,0]
[30,null,{"$f":"+C1141*$K$2","v":198.65066666666669},151.60599999999999,0,0,0]
[31,null,{"$f":"+C1142*$K$2","v":202.93466666666666},154.77933333333334,0,0,0]
[32,null,{"$f":"+C1143*$K$2","v":207.37733333333335},157.95266666666666,0,0,0]
[33,null,{"$f":"+C1144*$K$2","v":212.13733333333334},161.364,0,0,0]
[34,null,{"$f":"+C1145*$K$2","v":216.89733333333336},164.696,0,0,0]
[35,null,{"$f":"+C1146*$K$2","v":221.73666666666668},168.26599999999999,0,0,0]
[36,null,{"$f":"+C1147*$K$2","v":226.73466666666664},171.99466666666666,0,0,0]
[37,null,{"$f":"+C1148*$K$2","v":232.05},175.96133333333333,0,0,0]
[38,null,{"$f":"+C1149*$K$2","v":237.20666666666668},179.76933333333332,0,0,0]
[39,null,{"$f":"+C1150*$K$2","v":242.83933333333334},183.97399999999999,0,0,0]
[40,null,{"$f":"+C1151*$K$2","v":248.47200000000001},188.17866666666669,0,0,0]
[41,null,{"$f":"+C1152*$K$2","v":254.10466666666665},192.38333333333335,0,0,0]
[42,null,{"$f":"+C1153*$K$2","v":260.05466666666666},197.06400000000002,0,0,0]
[43,null,{"$f":"+C1154*$K$2","v":266.16333333333336},201.58600000000001,0,0,0]
[44,null,{"$f":"+C1155*$K$2","v":272.35133333333334},206.346,0,0,0]
[45,null,{"$f":"+C1156*$K$2","v":278.69799999999998},211.26466666666664,0,0,0]
[46,null,{"$f":"+C1157*$K$2","v":285.12400000000002},216.18333333333334,0,0,0]
[47,null,{"$f":"+C1158*$K$2","v":291.78800000000001},221.26066666666668,0,0,0]
[48,null,{"$f":"+C1159*$K$2","v":298.452},226.57599999999999,0,0,0]
[49,null,{"$f":"+C1160*$K$2","v":305.43333333333334},232.05,0,0,0]
[50,null,{"$f":"+C1161*$K$2","v":312.57333333333332},237.52400000000003,0,0,0]
[51,null,{"$f":"+C1162*$K$2","v":319.79266666666666},243.23599999999999,0,0,0]
[52,null,{"$f":"+C1163*$K$2","v":327.0913333333333},248.86866666666666,0,0,0]
[53,null,{"$f":"+C1164*$K$2","v":334.31066666666669},254.73933333333335,0,0,0]
[54,null,{"$f":"+C1165*$K$2","v":342.16466666666668},260.68933333333331,0,0,0]
[55,null,{"$f":"+C1166*$K$2","v":349.93933333333337},266.87733333333335,0,0,0]
[56,null,{"$f":"+C1167*$K$2","v":357.8726666666667},273.30333333333334,0,0,0]
[57,null,{"$f":"+C1168*$K$2","v":365.88533333333334},279.65000000000003,0,0,0]
[58,null,{"$f":"+C1169*$K$2","v":374.05666666666667},286.23466666666667,0,0,0]
[59,null,{"$f":"+C1170*$K$2","v":382.3073333333333},292.81933333333336,0,0,0]
[60,null,{"$f":"+C1171*$K$2","v":390.9546666666667},299.642,0,0,0]
[61,null,{"$f":"+C1172*$K$2","v":435.46066666666667},335.42133333333334,0,0,0]
[62,null,{"$f":"+C1173*$K$2","v":483.53666666666669},374.37400000000002,0,0,0]
[63,null,{"$f":"+C1174*$K$2","v":535.34133333333341},416.73800000000006,0,0,0]
[64,null,{"$f":"+C1175*$K$2","v":590.71600000000001},462.03733333333332,0,0,0]
[65,null,{"$f":"+C1176*$K$2","v":649.50200000000007},510.74800000000005,0,0,0]
[66,null,{"$f":"+C1177*$K$2","v":712.01666666666665},562.47333333333336,0,0,0]
[67,null,{"$f":"+C1178*$K$2","v":778.02199999999993},617.61,0,0,0]
[68,null,{"$f":"+C1179*$K$2","v":847.67666666666673},675.84066666666661,0,0,0]
[69,null,{"$f":"+C1180*$K$2","v":920.98066666666671},737.16533333333336,0,0,0]
[70,null,{"$f":"+C1181*$K$2","v":997.85466666666662},801.74266666666676,0,0,0]
[71,null,{"$f":"+C1182*$K$2","v":1078.1400000000001},869.65199999999993,0,0,0]
[72,null,{"$f":"+C1183*$K$2","v":1162.0746666666666},940.57600000000002,0,0,0]
[73,null,{"$f":"+C1184*$K$2","v":1249.5793333333334},1014.832,0,0,0]
[74,null,{"$f":"+C1185*$K$2","v":1340.8126666666667},1092.182,0,0,0]
[75,null,{"$f":"+C1186*$K$2","v":1435.5366666666666},1172.7846666666667,0,0,0]
[76,null,{"$f":"+C1187*$K$2","v":1435.5366666666666},1172.7846666666667,0,0,0]
[77,null,{"$f":"+C1188*$K$2","v":1435.5366666666666},1172.7846666666667,0,0,0]
[78,null,{"$f":"+C1189*$K$2","v":1435.5366666666666},1172.7846666666667,0,0,0]
[79,null,{"$f":"+C1190*$K$2","v":1435.5366666666666},1172.7846666666667,0,0,0]
[80,null,{"$f":"+C1191*$K$2","v":1435.5366666666666},1172.7846666666667,0]
[81,null,{"$f":"+C1192*$K$2","v":1435.5366666666666},1172.7846666666667,0]
[82,null,{"$f":"+C1193*$K$2","v":1435.5366666666666},1172.7846666666667,0]
[83,null,{"$f":"+C1194*$K$2","v":1435.5366666666666},1172.7846666666667,0]
[84,"o más",{"$f":"+C1195*$K$2","v":1435.5366666666666},1172.7846666666667,0,0,0]
[1,"Hijo",{"$f":"+C1196*$K$2","v":73.462666666666678},57.596000000000004,0,0,0]
[2,"Hijos",{"$f":"+C1197*$K$2","v":124.87066666666666},98.055999999999997,0,0,0]
[3,"Hijos o más",{"$f":"+C1198*$K$2","v":176.27866666666668},138.04000000000002,0,0,0]
[]
["BUPA GLOBAL MM"]
["TARIFAS TRIMESTRALES"]
["EDAD"]
[" "," ",10000,20000]
[18,null,{"$f":"+C1129*$K$3","v":480.82375000000008},{"$f":"+D1129*$K$3","v":377.27249999999998},0,{"$f":"+F604*$K$3","v":0},0]
[19,null,{"$f":"+C1130*$K$3","v":487.13499999999999},380.54500000000002,0,{"$f":"+F605*$K$3","v":216.18368750000005},0]
[20,null,{"$f":"+C1131*$K$3","v":492.745},384.51875000000001,0,{"$f":"+F606*$K$3","v":218.66143750000003},0]
[21,null,{"$f":"+C1132*$K$3","v":499.75750000000005},388.49250000000006,0,{"$f":"+F607*$K$3","v":221.13918750000002},0]
[22,null,{"$f":"+C1133*$K$3","v":506.53625000000005},393.40125,0,{"$f":"+F608*$K$3","v":223.740825},0]
[23,null,{"$f":"+C1134*$K$3","v":513.31500000000005},397.37500000000006,0,{"$f":"+F609*$K$3","v":226.46635000000003},0]
[24,null,{"$f":"+C1135*$K$3","v":520.56125000000009},402.28375,0,{"$f":"+F610*$K$3","v":229.43965000000003},0]
[25,null,{"$f":"+C1136*$K$3","v":527.8075},406.72500000000002,0,{"$f":"+F611*$K$3","v":232.28906250000003},0]
[26,null,{"$f":"+C1137*$K$3","v":538.79375000000005},414.43875000000003,0,{"$f":"+F612*$K$3","v":235.38625000000002},0]
[27,null,{"$f":"+C1138*$K$3","v":549.3125},421.91875000000005,0,{"$f":"+F613*$K$3","v":239.97008750000003},0]
[28,null,{"$f":"+C1139*$K$3","v":560.76625000000001},429.63250000000005,0,{"$f":"+F614*$K$3","v":244.55392499999999},0]
[29,null,{"$f":"+C1140*$K$3","v":572.92124999999999},438.28125000000006,0,{"$f":"+F615*$K$3","v":249.50942500000002},0]
[30,null,{"$f":"+C1141*$K$3","v":585.31000000000006},446.69625000000002,0,{"$f":"+F616*$K$3","v":254.71270000000001},0]
[31,null,{"$f":"+C1142*$K$3","v":597.9325},456.04624999999999,0,{"$f":"+F617*$K$3","v":260.03986250000003},0]
[32,null,{"$f":"+C1143*$K$3","v":611.02250000000004},465.39625000000001,0,{"$f":"+F618*$K$3","v":265.86257500000005},0]
[33,null,{"$f":"+C1144*$K$3","v":625.04750000000013},475.44749999999999,0,{"$f":"+F619*$K$3","v":271.43751250000003},0]
[34,null,{"$f":"+C1145*$K$3","v":639.0725000000001},485.26499999999999,0,{"$f":"+F620*$K$3","v":277.50800000000004},0]
[35,null,{"$f":"+C1146*$K$3","v":653.33125000000007},495.78375,0,{"$f":"+F621*$K$3","v":283.82626249999998},0]
[36,null,{"$f":"+C1147*$K$3","v":668.0575},506.77000000000004,0,{"$f":"+F622*$K$3","v":290.26841250000007},0]
[37,null,{"$f":"+C1148*$K$3","v":683.71875},518.45749999999998,0,{"$f":"+F623*$K$3","v":297.08222499999999},0]
[38,null,{"$f":"+C1149*$K$3","v":698.91250000000002},529.67750000000001,0,{"$f":"+F624*$K$3","v":303.89603749999998},0]
[39,null,{"$f":"+C1150*$K$3","v":715.50875000000008},542.06624999999997,0,{"$f":"+F625*$K$3","v":311.2054},0]
[40,null,{"$f":"+C1151*$K$3","v":732.10500000000002},554.45500000000004,0,{"$f":"+F626*$K$3","v":318.76253750000001},0]
[41,null,{"$f":"+C1152*$K$3","v":748.70124999999996},566.84375,0,{"$f":"+F627*$K$3","v":326.31967500000007},0]
[42,null,{"$f":"+C1153*$K$3","v":766.23249999999996},580.6350000000001,0,{"$f":"+F628*$K$3","v":334.12458750000002},0]
[43,null,{"$f":"+C1154*$K$3","v":784.23125000000005},593.95875000000001,0,{"$f":"+F629*$K$3","v":342.42505000000006},0]
[44,null,{"$f":"+C1155*$K$3","v":802.46375},607.98374999999999,0,{"$f":"+F630*$K$3","v":350.47773750000005},0]
[45,null,{"$f":"+C1156*$K$3","v":821.16374999999994},622.47624999999994,0,{"$f":"+F631*$K$3","v":358.90208750000005},0]
[46,null,{"$f":"+C1157*$K$3","v":840.09750000000008},636.96875,0,{"$f":"+F632*$K$3","v":367.82198750000009},0]
[47,null,{"$f":"+C1158*$K$3","v":859.73249999999996},651.92875000000004,0,{"$f":"+F633*$K$3","v":376.61800000000005},0]
[48,null,{"$f":"+C1159*$K$3","v":879.36750000000006},667.59,0,{"$f":"+F634*$K$3","v":385.90956250000005},0]
[49,null,{"$f":"+C1160*$K$3","v":899.93750000000011},683.71875,0,{"$f":"+F635*$K$3","v":395.32501250000001},0]
[50,null,{"$f":"+C1161*$K$3","v":920.97500000000002},699.84750000000008,0,{"$f":"+F636*$K$3","v":404.98823750000003},0]
[51,null,{"$f":"+C1162*$K$3","v":942.24625000000003},716.67750000000001,0,{"$f":"+F637*$K$3","v":414.89923750000003},0]
[52,null,{"$f":"+C1163*$K$3","v":963.75125000000003},733.27375000000006,0,{"$f":"+F638*$K$3","v":425.05801250000007},0]
[53,null,{"$f":"+C1164*$K$3","v":985.02250000000015},750.57125000000008,0,{"$f":"+F639*$K$3","v":435.21678750000001},0]
[54,null,{"$f":"+C1165*$K$3","v":1008.1637500000001},768.10250000000008,0,{"$f":"+F640*$K$3","v":445.74722500000001},0]
[55,null,{"$f":"+C1166*$K$3","v":1031.07125},786.33500000000004,0,{"$f":"+F641*$K$3","v":456.52543750000001},0]
[56,null,{"$f":"+C1167*$K$3","v":1054.44625},805.26875000000007,0,{"$f":"+F642*$K$3","v":467.55142500000005},0]
[57,null,{"$f":"+C1168*$K$3","v":1078.0550000000001},823.96875000000011,0,{"$f":"+F643*$K$3","v":478.70130000000012},0]
[58,null,{"$f":"+C1169*$K$3","v":1102.1312500000001},843.37,0,{"$f":"+F644*$K$3","v":489.85117500000007},0]
[59,null,{"$f":"+C1170*$K$3","v":1126.4412500000001},862.77125000000001,0,{"$f":"+F645*$K$3","v":501.86826250000007},0]
[60,null,{"$f":"+C1171*$K$3","v":1151.92},882.87374999999997,0,{"$f":"+F646*$K$3","v":513.63757500000008},0]
[61,null,{"$f":"+C1172*$K$3","v":1283.05375},988.29499999999996,0,{"$f":"+F647*$K$3","v":525.90243750000013},0]
[62,null,{"$f":"+C1173*$K$3","v":1424.7062500000002},1103.0662500000001,0,{"$f":"+F648*$K$3","v":589.82838750000008},0]
[63,null,{"$f":"+C1174*$K$3","v":1577.3450000000003},1227.8887500000001,0,{"$f":"+F649*$K$3","v":659.32927500000005},0]
[64,null,{"$f":"+C1175*$K$3","v":1740.5025000000001},1361.36,0,{"$f":"+F650*$K$3","v":734.15732500000001},0]
[65,null,{"$f":"+C1176*$K$3","v":1913.7112500000001},1504.8825000000002,0,{"$f":"+F651*$K$3","v":814.80808750000017},0]
[66,null,{"$f":"+C1177*$K$3","v":2097.90625},1657.2875000000001,0,{"$f":"+F652*$K$3","v":901.03378750000024},0]
[67,null,{"$f":"+C1178*$K$3","v":2292.38625},1819.7437500000001,0,{"$f":"+F653*$K$3","v":992.95831250000015},0]
[68,null,{"$f":"+C1179*$K$3","v":2497.6187500000001},1991.3162500000001,0,{"$f":"+F654*$K$3","v":1090.21},0]
[69,null,{"$f":"+C1180*$K$3","v":2713.6037500000002},2172.0050000000001,0,{"$f":"+F655*$K$3","v":1193.1605124999999},0]
[70,null,{"$f":"+C1181*$K$3","v":2940.1075000000001},2362.2775000000001,0,{"$f":"+F656*$K$3","v":1301.8098500000001},0]
[71,null,{"$f":"+C1182*$K$3","v":3176.6625000000004},2562.3674999999998,0,{"$f":"+F657*$K$3","v":1415.9102375000002},0]
[72,null,{"$f":"+C1183*$K$3","v":3423.9700000000003},2771.34,0,{"$f":"+F658*$K$3","v":1535.8333375000002},0]
[73,null,{"$f":"+C1184*$K$3","v":3681.7962500000003},2990.13,0,{"$f":"+F659*$K$3","v":1661.2074875000001},0]
[74,null,{"$f":"+C1185*$K$3","v":3950.6087500000003},3218.0362500000001,0,{"$f":"+F660*$K$3","v":1792.1565750000004},0]
[75,null,{"$f":"+C1186*$K$3","v":4229.7062500000002},3455.5262499999999,0,{"$f":"+F661*$K$3","v":1928.8044875000001},0]
[76,null,{"$f":"+C1187*$K$3","v":4229.7062500000002},3455.5262499999999,0,{"$f":"+F662*$K$3","v":2070.9034500000002},0]
[77,null,{"$f":"+C1188*$K$3","v":4229.7062500000002},3455.5262499999999,0,{"$f":"+F663*$K$3","v":2070.9034500000002},0]
[78,null,{"$f":"+C1189*$K$3","v":4229.7062500000002},3455.5262499999999,0,{"$f":"+F664*$K$3","v":2070.9034500000002},0]
[79,null,{"$f":"+C1190*$K$3","v":4229.7062500000002},3455.5262499999999,0,{"$f":"+F665*$K$3","v":2070.9034500000002},0]
[80,null,{"$f":"+C1191*$K$3","v":4229.7062500000002},3455.5262499999999,0,{"$f":"+F666*$K$3","v":2070.9034500000002},0]
[81,null,{"$f":"+C1192*$K$3","v":4229.7062500000002},3455.5262499999999,0,{"$f":"+F667*$K$3","v":2070.9034500000002},0]
[82,null,{"$f":"+C1193*$K$3","v":4229.7062500000002},3455.5262499999999,0,{"$f":"+F668*$K$3","v":2070.9034500000002},0]
[83,null,{"$f":"+C1194*$K$3","v":4229.7062500000002},3455.5262499999999,0,{"$f":"+F669*$K$3","v":2070.9034500000002},0]
[84,"o más",{"$f":"+C1195*$K$3","v":4229.7062500000002},3455.5262499999999,0,{"$f":"+F670*$K$3","v":2070.9034500000002},0]
[1,"Hijo",{"$f":"+C1196*$K$3","v":216.45250000000001},169.70250000000001,0,{"$f":"+F671*$K$3","v":2070.9034500000002},0]
[2,"Hijos",{"$f":"+C1197*$K$3","v":367.92250000000001},288.91500000000002,0,{"$f":"+F672*$K$3","v":108.64933750000002},0]
[3,"Hijos o más",{"$f":"+C1198*$K$3","v":519.39250000000004},406.72500000000002,0,{"$f":"+F673*$K$3","v":184.71626250000003},0]
[]
["BUPA GLOBAL MM"]
["TARIFAS SEMESTRAL"]
["EDAD"]
[" "," ",10000,20000]
[18,null,{"$f":"+C1129*$K$4","v":926.6785000000001},{"$f":"+D1129*$K$4","v":727.10699999999997},{"$f":"+E1204*$K$3","v":0},{"$f":"+F679*$K$3","v":0},0]
[19,null,{"$f":"+C1130*$K$4","v":938.84199999999998},733.41399999999999,{"$f":"+E1205*$K$3","v":0},{"$f":"+F680*$K$3","v":289.13706250000001},224.34156250000004]
[20,null,{"$f":"+C1131*$K$4","v":949.654},741.07249999999999,{"$f":"+E1206*$K$3","v":0},{"$f":"+F681*$K$3","v":292.35112500000002},226.78425000000001]
[21,null,{"$f":"+C1132*$K$4","v":963.16899999999998},748.73100000000011,{"$f":"+E1207*$K$3","v":0},{"$f":"+F682*$K$3","v":295.50090625000001},229.16265625000003]
[22,null,{"$f":"+C1133*$K$4","v":976.23350000000005},758.19150000000002,{"$f":"+E1208*$K$3","v":0},{"$f":"+F683*$K$3","v":298.84353125000007},231.79818750000004]
[23,null,{"$f":"+C1134*$K$4","v":989.298},765.85,{"$f":"+E1209*$K$3","v":0},{"$f":"+F684*$K$3","v":302.37900000000008},234.49800000000002]
[24,null,{"$f":"+C1135*$K$4","v":1003.2635},775.31050000000005,{"$f":"+E1210*$K$3","v":0},{"$f":"+F685*$K$3","v":305.91446875000008},237.32637500000001]
[25,null,{"$f":"+C1136*$K$4","v":1017.229},783.87,{"$f":"+E1211*$K$3","v":0},{"$f":"+F686*$K$3","v":309.64278125000004},240.15475000000004]
[26,null,{"$f":"+C1137*$K$4","v":1038.4025000000001},798.73649999999998,{"$f":"+E1212*$K$3","v":0},{"$f":"+F687*$K$3","v":313.37109375},243.11168750000002]
[27,null,{"$f":"+C1138*$K$4","v":1058.675},813.15250000000003,{"$f":"+E1213*$K$3","v":0},{"$f":"+F688*$K$3","v":319.09212500000001},247.48281250000005]
[28,null,{"$f":"+C1139*$K$4","v":1080.7494999999999},828.01900000000001,{"$f":"+E1214*$K$3","v":0},{"$f":"+F689*$K$3","v":324.94171875000006},251.98250000000004]
[29,null,{"$f":"+C1140*$K$4","v":1104.1755000000001},844.6875,{"$f":"+E1215*$K$3","v":0},{"$f":"+F690*$K$3","v":330.9198750000001},256.73931250000004]
[30,null,{"$f":"+C1141*$K$4","v":1128.0520000000001},860.90549999999996,{"$f":"+E1216*$K$3","v":0},{"$f":"+F691*$K$3","v":337.34800000000007},261.62468750000005]
[31,null,{"$f":"+C1142*$K$4","v":1152.3789999999999},878.92549999999994,{"$f":"+E1217*$K$3","v":0},{"$f":"+F692*$K$3","v":344.09753125000003},266.83146875000006]
[32,null,{"$f":"+C1143*$K$4","v":1177.6070000000002},896.94550000000004,{"$f":"+E1218*$K$3","v":0},{"$f":"+F693*$K$3","v":350.84706250000005},272.03825000000001]
[33,null,{"$f":"+C1144*$K$4","v":1204.6370000000002},916.31700000000001,{"$f":"+E1219*$K$3","v":0},{"$f":"+F694*$K$3","v":358.11084375000007},277.69500000000005]
[34,null,{"$f":"+C1145*$K$4","v":1231.6670000000001},935.23799999999994,{"$f":"+E1220*$K$3","v":0},{"$f":"+F695*$K$3","v":365.43890625000006},283.35175000000004]
[35,null,{"$f":"+C1146*$K$4","v":1259.1475},955.51049999999998,{"$f":"+E1221*$K$3","v":0},{"$f":"+F696*$K$3","v":373.15265625000006},289.265625]
[36,null,{"$f":"+C1147*$K$4","v":1287.529},976.68399999999997,{"$f":"+E1222*$K$3","v":0},{"$f":"+F697*$K$3","v":380.93068749999998},295.43662500000005]
[37,null,{"$f":"+C1148*$K$4","v":1317.7125000000001},999.20900000000006,{"$f":"+E1223*$K$3","v":0},{"$f":"+F698*$K$3","v":389.030125},301.60762500000004]
[38,null,{"$f":"+C1149*$K$4","v":1346.9950000000001},1020.833,{"$f":"+E1224*$K$3","v":0},{"$f":"+F699*$K$3","v":397.51525000000004},308.29287500000004]
[39,null,{"$f":"+C1150*$K$4","v":1378.9805000000001},1044.7094999999999,{"$f":"+E1225*$K$3","v":0},{"$f":"+F700*$K$3","v":406.19321875000003},314.91384375000001]
[40,null,{"$f":"+C1151*$K$4","v":1410.9659999999999},1068.586,{"$f":"+E1226*$K$3","v":0},{"$f":"+F701*$K$3","v":415.06403125000003},321.92050000000006]
[41,null,{"$f":"+C1152*$K$4","v":1442.9514999999999},1092.4625000000001,{"$f":"+E1227*$K$3","v":0},{"$f":"+F702*$K$3","v":424.19196875000006},328.99143750000007]
[42,null,{"$f":"+C1153*$K$4","v":1476.739},1119.0420000000001,{"$f":"+E1228*$K$3","v":0},{"$f":"+F703*$K$3","v":433.57703125000006},336.31950000000001]
[43,null,{"$f":"+C1154*$K$4","v":1511.4275},1144.7204999999999,{"$f":"+E1229*$K$3","v":0},{"$f":"+F704*$K$3","v":443.4120625000001},343.84040625]
[44,null,{"$f":"+C1155*$K$4","v":1546.5664999999999},1171.7505000000001,{"$f":"+E1230*$K$3","v":0},{"$f":"+F705*$K$3","v":453.24709374999998},351.55415625000006]
[45,null,{"$f":"+C1156*$K$4","v":1582.6064999999999},1199.6814999999999,{"$f":"+E1231*$K$3","v":0},{"$f":"+F706*$K$3","v":463.46781250000004},359.46075000000008]
[46,null,{"$f":"+C1157*$K$4","v":1619.0970000000002},1227.6125,{"$f":"+E1232*$K$3","v":0},{"$f":"+F707*$K$3","v":473.94565625000013},367.62446875000006]
[47,null,{"$f":"+C1158*$K$4","v":1656.9389999999999},1256.4445000000001,{"$f":"+E1233*$K$3","v":0},{"$f":"+F708*$K$3","v":484.61634375000006},375.85246875000007]
[48,null,{"$f":"+C1159*$K$4","v":1694.7809999999999},1286.6279999999999,{"$f":"+E1234*$K$3","v":0},{"$f":"+F709*$K$3","v":495.54415625000001},384.33759375]
[49,null,{"$f":"+C1160*$K$4","v":1734.4250000000002},1317.7125000000001,{"$f":"+E1235*$K$3","v":0},{"$f":"+F710*$K$3","v":506.79337500000003},393.01556250000004]
[50,null,{"$f":"+C1161*$K$4","v":1774.97},1348.797,{"$f":"+E1236*$K$3","v":0},{"$f":"+F711*$K$3","v":518.17115625000008},401.88637500000004]
[51,null,{"$f":"+C1162*$K$4","v":1815.9655},1381.2329999999999,{"$f":"+E1237*$K$3","v":0},{"$f":"+F712*$K$3","v":529.9346250000001},410.95003125000011]
[52,null,{"$f":"+C1163*$K$4","v":1857.4114999999999},1413.2184999999999,{"$f":"+E1238*$K$3","v":0},{"$f":"+F713*$K$3","v":541.95521874999997},420.27081250000009]
[53,null,{"$f":"+C1164*$K$4","v":1898.4070000000002},1446.5554999999999,{"$f":"+E1239*$K$3","v":0},{"$f":"+F714*$K$3","v":554.10437500000012},429.72015625000006]
[54,null,{"$f":"+C1165*$K$4","v":1943.0065},1480.3430000000001,{"$f":"+E1240*$K$3","v":0},{"$f":"+F715*$K$3","v":566.63921875000017},439.426625]
[55,null,{"$f":"+C1166*$K$4","v":1987.1555000000001},1515.4820000000002,{"$f":"+E1241*$K$3","v":0},{"$f":"+F716*$K$3","v":579.43118750000008},449.32593750000007]
[56,null,{"$f":"+C1167*$K$4","v":2032.2055},1551.9725000000001,{"$f":"+E1242*$K$3","v":0},{"$f":"+F717*$K$3","v":592.35171875000015},459.4823750000001]
[57,null,{"$f":"+C1168*$K$4","v":2077.7060000000001},1588.0125,{"$f":"+E1243*$K$3","v":0},{"$f":"+F718*$K$3","v":605.6579375},469.63881250000003]
[58,null,{"$f":"+C1169*$K$4","v":2124.1075000000001},1625.404,{"$f":"+E1244*$K$3","v":0},{"$f":"+F719*$K$3","v":618.96415625000009},480.11665625000006]
[59,null,{"$f":"+C1170*$K$4","v":2170.9594999999999},1662.7954999999999,{"$f":"+E1245*$K$3","v":0},{"$f":"+F720*$K$3","v":632.7203437500001},490.78734375000005]
[60,null,{"$f":"+C1171*$K$4","v":2220.0640000000003},1701.5384999999999,{"$f":"+E1246*$K$3","v":0},{"$f":"+F721*$K$3","v":646.86221875000012},501.58659375000013]
[61,null,{"$f":"+C1172*$K$4","v":2472.7945},1904.7139999999999,{"$f":"+E1247*$K$3","v":0},{"$f":"+F722*$K$3","v":661.00409375000004},512.64296875000014]
[62,null,{"$f":"+C1173*$K$4","v":2745.7975000000001},2125.9095000000002,{"$f":"+E1248*$K$3","v":0},{"$f":"+F723*$K$3","v":736.27743750000002},571.07462500000008]
[63,null,{"$f":"+C1174*$K$4","v":3039.9740000000002},2366.4765000000002,{"$f":"+E1249*$K$3","v":0},{"$f":"+F724*$K$3","v":817.78606250000007},634.19881250000014]
[64,null,{"$f":"+C1175*$K$4","v":3354.4229999999998},2623.712,{"$f":"+E1250*$K$3","v":0},{"$f":"+F725*$K$3","v":905.72281250000015},702.46550000000002]
[65,null,{"$f":"+C1176*$K$4","v":3688.2435},2900.3190000000004,{"$f":"+E1251*$K$3","v":0},{"$f":"+F726*$K$3","v":999.89484375000018},775.55328125000017]
[66,null,{"$f":"+C1177*$K$4","v":4043.2375000000002},3194.0450000000001,{"$f":"+E1252*$K$3","v":0},{"$f":"+F727*$K$3","v":1100.5592812500001},853.52643750000004]
[67,null,{"$f":"+C1178*$K$4","v":4418.0535},3507.1425000000004,{"$f":"+E1253*$K$3","v":0},{"$f":"+F728*$K$3","v":1207.5875625000003},936.64209375000019]
[68,null,{"$f":"+C1179*$K$4","v":4813.5925000000007},3837.8094999999998,{"$f":"+E1254*$K$3","v":0},{"$f":"+F729*$K$3","v":1320.8511250000001},1024.45028125]
[69,null,{"$f":"+C1180*$K$4","v":5229.8545000000004},4186.0460000000003,{"$f":"+E1255*$K$3","v":0},{"$f":"+F730*$K$3","v":1440.7356562500004},1117.4009687500002]
[70,null,{"$f":"+C1181*$K$4","v":5666.3890000000001},4552.7530000000006,{"$f":"+E1256*$K$3","v":0},{"$f":"+F731*$K$3","v":1566.8554687500005},1215.1084687500002]
[71,null,{"$f":"+C1182*$K$4","v":6122.2950000000001},4938.3809999999994,{"$f":"+E1257*$K$3","v":0},{"$f":"+F732*$K$3","v":1699.4034062500002},1318.0227499999999]
[72,null,{"$f":"+C1183*$K$4","v":6598.924},5341.1280000000006,{"$f":"+E1258*$K$3","v":0},{"$f":"+F733*$K$3","v":1838.1866250000003},1425.5652812500002]
[73,null,{"$f":"+C1184*$K$4","v":7095.8255000000008},5762.7959999999994,{"$f":"+E1259*$K$3","v":0},{"$f":"+F734*$K$3","v":1983.4622500000003},1538.3145937500001]
[74,null,{"$f":"+C1185*$K$4","v":7613.9005000000006},6202.0334999999995,{"$f":"+E1260*$K$3","v":0},{"$f":"+F735*$K$3","v":2135.0374375000001},1655.7564375000002]
[75,null,{"$f":"+C1186*$K$4","v":8151.7975000000006},6659.7415000000001,{"$f":"+E1261*$K$3","v":0},{"$f":"+F736*$K$3","v":2292.9764687500005},1778.2765000000002]
[76,null,{"$f":"+C1187*$K$4","v":8151.7975000000006},6659.7415000000001,{"$f":"+E1262*$K$3","v":0},{"$f":"+F737*$K$3","v":2457.3436250000004},1905.7462187500005]
[77,null,{"$f":"+C1188*$K$4","v":8151.7975000000006},6659.7415000000001,{"$f":"+E1263*$K$3","v":0},{"$f":"+F738*$K$3","v":2457.3436250000004},1905.7462187500005]
[78,null,{"$f":"+C1189*$K$4","v":8151.7975000000006},6659.7415000000001,{"$f":"+E1264*$K$3","v":0},{"$f":"+F739*$K$3","v":2457.3436250000004},1905.7462187500005]
[79,null,{"$f":"+C1190*$K$4","v":8151.7975000000006},6659.7415000000001,{"$f":"+E1265*$K$3","v":0},{"$f":"+F740*$K$3","v":2457.3436250000004},1905.7462187500005]
[80,null,{"$f":"+C1191*$K$4","v":8151.7975000000006},6659.7415000000001,{"$f":"+E1266*$K$3","v":0},{"$f":"+F741*$K$3","v":2457.3436250000004},1905.7462187500005]
[81,null,{"$f":"+C1192*$K$4","v":8151.7975000000006},6659.7415000000001,{"$f":"+E1267*$K$3","v":0},{"$f":"+F742*$K$3","v":2457.3436250000004},1905.7462187500005]
[82,null,{"$f":"+C1193*$K$4","v":8151.7975000000006},6659.7415000000001,{"$f":"+E1268*$K$3","v":0},{"$f":"+F743*$K$3","v":2457.3436250000004},1905.7462187500005]
[83,null,{"$f":"+C1194*$K$4","v":8151.7975000000006},6659.7415000000001,{"$f":"+E1269*$K$3","v":0},{"$f":"+F744*$K$3","v":2457.3436250000004},1905.7462187500005]
[84,"o más",{"$f":"+C1195*$K$4","v":8151.7975000000006},6659.7415000000001,{"$f":"+E1270*$K$3","v":0},{"$f":"+F745*$K$3","v":2457.3436250000004},1905.7462187500005]
[1,"Hijo",{"$f":"+C1196*$K$4","v":417.16300000000001},327.06300000000005,{"$f":"+E1271*$K$3","v":0},{"$f":"+F746*$K$3","v":2457.3436250000004},1905.7462187500005]
[2,"Hijos",{"$f":"+C1197*$K$4","v":709.08699999999999},556.81799999999998,{"$f":"+E1272*$K$3","v":0},{"$f":"+F747*$K$3","v":130.2338125},100.98584375]
[3,"Hijos o más",{"$f":"+C1198*$K$4","v":1001.0110000000001},783.87,{"$f":"+E1273*$K$3","v":0},{"$f":"+F748*$K$3","v":221.25606250000001},171.63093750000004]
[]
["BUPA GLOBAL ULTIMATE"]
["TARIFAS SEMESTRALES"]
["EDAD"]
[" "," ",0,1000,2000]
[18,null,{"$f":"+C905*$K$4","v":9423.93},{"$f":"+D905*$K$4","v":6080.6900000000005},{"$f":"+E905*$K$4","v":0},{"$f":"+F754*$K$3","v":0},0]
[19,null,{"$f":"+C906*$K$4","v":9547.42},6160.72,0,{"$f":"+F755*$K$3","v":150.09671875000004},0]
[20,null,{"$f":"+C907*$K$4","v":9674.6200000000008},6242.34,0,{"$f":"+F756*$K$3","v":151.51090625000001},0]
[21,null,{"$f":"+C908*$K$4","v":9806.59},6327.67,0,{"$f":"+F757*$K$3","v":153.11793750000001},0]
[22,null,{"$f":"+C909*$K$4","v":9943.86},6415.6500000000005,0,{"$f":"+F758*$K$3","v":154.72496875000002},0]
[23,null,{"$f":"+C910*$K$4","v":10083.780000000001},6505.22,0,{"$f":"+F759*$K$3","v":156.39628125000002},0]
[24,null,{"$f":"+C911*$K$4","v":10226.880000000001},6598.5,0,{"$f":"+F760*$K$3","v":158.00331250000002},0]
[25,null,{"$f":"+C912*$K$4","v":10375.810000000001},6694.43,0,{"$f":"+F761*$K$3","v":159.73890625000004},0]
[26,null,{"$f":"+C913*$K$4","v":10589.93},6832.76,0,{"$f":"+F762*$K$3","v":161.47450000000001},0]
[27,null,{"$f":"+C914*$K$4","v":10812},6975.8600000000006,0,{"$f":"+F763*$K$3","v":164.23859375000004},0]
[28,null,{"$f":"+C915*$K$4","v":11042.550000000001},7124.26,0,{"$f":"+F764*$K$3","v":167.06696875000006},0]
[29,null,{"$f":"+C916*$K$4","v":11281.58},7279.02,0,{"$f":"+F765*$K$3","v":169.95962500000005},0]
[30,null,{"$f":"+C917*$K$4","v":11526.970000000001},7438.02,0,{"$f":"+F766*$K$3","v":173.04512500000001},0]
[31,null,{"$f":"+C918*$K$4","v":11781.900000000001},7601.26,0,{"$f":"+F767*$K$3","v":176.32346875000002},0]
[32,null,{"$f":"+C919*$K$4","v":12043.720000000001},7770.3300000000008,0,{"$f":"+F768*$K$3","v":179.60181250000005},0]
[33,null,{"$f":"+C920*$K$4","v":12315.08},7945.2300000000005,0,{"$f":"+F769*$K$3","v":183.00871875000001},0]
[34,null,{"$f":"+C921*$K$4","v":12593.33},8125.43,0,{"$f":"+F770*$K$3","v":186.60846875000001},0]
[35,null,{"$f":"+C922*$K$4","v":12880.060000000001},8310.4,0,{"$f":"+F771*$K$3","v":190.33678125000003},0]
[36,null,{"$f":"+C923*$K$4","v":13175.27},8500.1400000000012,0,{"$f":"+F772*$K$3","v":194.32221875000002},0]
[37,null,{"$f":"+C924*$K$4","v":13477.37},8695.18,0,{"$f":"+F773*$K$3","v":198.30765625000004},0]
[38,null,{"$f":"+C925*$K$4","v":13786.890000000001},8896.0500000000011,0,{"$f":"+F774*$K$3","v":202.42165625000004},0]
[39,null,{"$f":"+C926*$K$4","v":14107.01},9100.630000000001,0,{"$f":"+F775*$K$3","v":206.66421875000003},0]
[40,null,{"$f":"+C927*$K$4","v":14432.960000000001},9311.57,0,{"$f":"+F776*$K$3","v":211.09962500000003},0]
[41,null,{"$f":"+C928*$K$4","v":14768.45},9527.8100000000013,0,{"$f":"+F777*$K$3","v":215.47075000000001},0]
[42,null,{"$f":"+C929*$K$4","v":15110.300000000001},9749.35,0,{"$f":"+F778*$K$3","v":220.09900000000005},0]
[43,null,{"$f":"+C930*$K$4","v":15460.1},9974.6,0,{"$f":"+F779*$K$3","v":224.92009375000006},0]
[44,null,{"$f":"+C931*$K$4","v":15818.380000000001},10206.74,0,{"$f":"+F780*$K$3","v":229.9983125},0]
[45,null,{"$f":"+C932*$K$4","v":16186.730000000001},10442.060000000001,0,{"$f":"+F781*$K$3","v":235.01225000000002},0]
[46,null,{"$f":"+C933*$K$4","v":16560.91},10684.800000000001,0,{"$f":"+F782*$K$3","v":240.21903125000003},0]
[47,null,{"$f":"+C934*$K$4","v":16944.100000000002},10931.78,0,{"$f":"+F783*$K$3","v":245.42581250000001},0]
[48,null,{"$f":"+C935*$K$4","v":17334.18},11184.060000000001,0,{"$f":"+F784*$K$3","v":251.01828125000003},0]
[49,null,{"$f":"+C936*$K$4","v":17733.8},11440.58,0,{"$f":"+F785*$K$3","v":256.48218750000001},0]
[50,null,{"$f":"+C937*$K$4","v":18140.84},11704.52,0,{"$f":"+F786*$K$3","v":262.1389375},0]
[51,null,{"$f":"+C938*$K$4","v":18554.77},11971.640000000001,0,{"$f":"+F787*$K$3","v":267.98853125000005},0]
[52,null,{"$f":"+C939*$K$4","v":18977.18},12244.060000000001,0,{"$f":"+F788*$K$3","v":273.96668750000003},0]
[53,null,{"$f":"+C940*$K$4","v":19408.600000000002},12521.25,0,{"$f":"+F789*$K$3","v":280.07340625000001},0]
[54,null,{"$f":"+C941*$K$4","v":19847.97},12805.33,0,{"$f":"+F790*$K$3","v":286.37296875000004},0]
[55,null,{"$f":"+C942*$K$4","v":20294.23},13094.18,0,{"$f":"+F791*$K$3","v":292.60825},0]
[56,null,{"$f":"+C943*$K$4","v":20748.440000000002},13386.74,0,{"$f":"+F792*$K$3","v":299.16493750000006},0]
[57,null,{"$f":"+C944*$K$4","v":21212.190000000002},13686.19,0,{"$f":"+F793*$K$3","v":305.72162500000007},0]
[58,null,{"$f":"+C945*$K$4","v":21682.83},13988.820000000002,0,{"$f":"+F794*$K$3","v":312.59971875000008},0]
[59,null,{"$f":"+C946*$K$4","v":22161.420000000002},14297.810000000001,0,{"$f":"+F795*$K$3","v":319.47781250000008},0]
[60,null,{"$f":"+C947*$K$4","v":22648.49},14612.630000000001,0,{"$f":"+F796*$K$3","v":326.35590625000003},0]
[61,null,{"$f":"+C948*$K$4","v":25203.620000000003},16260.93,0,{"$f":"+F797*$K$3","v":333.61968750000005},0]
[62,null,{"$f":"+C949*$K$4","v":27959.09},18038.55,0,{"$f":"+F798*$K$3","v":371.2885},0]
[63,null,{"$f":"+C950*$K$4","v":30915.43},19945.490000000002,0,{"$f":"+F799*$K$3","v":412.29993750000006},0]
[64,null,{"$f":"+C951*$K$4","v":34072.11},21981.22,0,{"$f":"+F800*$K$3","v":456.654},0]
[65,null,{"$f":"+C952*$K$4","v":37428.6},24147.86,0,{"$f":"+F801*$K$3","v":504.1578437500001},0]
[66,null,{"$f":"+C953*$K$4","v":40986.490000000005},26442.760000000002,0,{"$f":"+F802*$K$3","v":554.94003125000006},0]
[67,null,{"$f":"+C954*$K$4","v":44743.130000000005},28866.980000000003,0,{"$f":"+F803*$K$3","v":609.19340625000007},0]
[68,null,{"$f":"+C955*$K$4","v":48701.700000000004},31420.52,0,{"$f":"+F804*$K$3","v":666.78940624999996},0]
[69,null,{"$f":"+C956*$K$4","v":52859.55},34103.380000000005,0,{"$f":"+F805*$K$3","v":727.34234375000017},0]
[70,null,{"$f":"+C957*$K$4","v":57218.270000000004},36916.090000000004,0,{"$f":"+F806*$K$3","v":791.49503125000012},0]
[71,null,{"$f":"+C958*$K$4","v":61777.86},39856.53,0,{"$f":"+F807*$K$3","v":858.86178125000015},0]
[72,null,{"$f":"+C959*$K$4","v":66537.790000000008},42927.880000000005,0,{"$f":"+F808*$K$3","v":929.57115625000017},0]
[73,null,{"$f":"+C960*$K$4","v":71499.12000000001},46128.55,0,{"$f":"+F809*$K$3","v":1003.3660312500001},0]
[74,null,{"$f":"+C961*$K$4","v":76660.260000000009},49458.01,0,{"$f":"+F810*$K$3","v":1080.4392500000001},0]
[75,null,{"$f":"+C962*$K$4","v":82019.62000000001},52916.26,0,{"$f":"+F811*$K$3","v":1161.0479375000002},0]
[76,null,{"$f":"+C963*$K$4","v":82019.62000000001},52916.26,0,{"$f":"+F812*$K$3","v":1244.6135625000002},0]
[77,null,{"$f":"+C964*$K$4","v":82019.62000000001},52916.26,0,{"$f":"+F813*$K$3","v":1244.6135625000002},0]
[78,null,{"$f":"+C965*$K$4","v":82019.62000000001},52916.26,0,{"$f":"+F814*$K$3","v":1244.6135625000002},0]
[79,null,{"$f":"+C966*$K$4","v":82019.62000000001},52916.26,0,{"$f":"+F815*$K$3","v":1244.6135625000002},0]
[80,null,{"$f":"+C967*$K$4","v":82019.62000000001},52916.26,0,{"$f":"+F816*$K$3","v":1244.6135625000002},0]
[81,null,{"$f":"+C968*$K$4","v":82019.62000000001},52916.26,0,{"$f":"+F817*$K$3","v":1244.6135625000002},0]
[82,null,{"$f":"+C969*$K$4","v":82019.62000000001},52916.26,0,{"$f":"+F818*$K$3","v":1244.6135625000002},0]
[83,null,{"$f":"+C970*$K$4","v":82019.62000000001},52916.26,0,{"$f":"+F819*$K$3","v":1244.6135625000002},0]
[84,"o más",{"$f":"+C971*$K$4","v":82019.62000000001},52916.26,0,{"$f":"+F820*$K$3","v":1244.6135625000002},0]
[1,"Hijo",{"$f":"+C972*$K$4","v":4241.59},2736.3900000000003,0,{"$f":"+F821*$K$3","v":1244.6135625000002},0]
[2,"Hijos",{"$f":"+C973*$K$4","v":7209.06},4651.8100000000004,0,{"$f":"+F822*$K$3","v":67.688156250000006},0]
[3,"Hijos o más",{"$f":"+C974*$K$4","v":10177.59},6566.17,0,{"$f":"+F823*$K$3","v":114.99915625},0]